Workbook

Sheet Amateurs
A1: The Emirates Group Karting Club Season 10 (2019-2020) | H1: 11-Oct-19 International | M1: 08-Nov-19 Hill | R1: 22-Nov-19 The Drop | W1: 06-Dec-19 Monaco | AB1: 24-Jan-20 International | AG1: 21-Feb-20 Speedway w/Bus Stop | AL1: 31-Aug-20 Hill | AQ1: 27-Sep-20 Reverse Int. | AV1: Championship Points | BA1: Best 9 Race Points | BB1: Best 5 Race Day Bonus Points
H2: Race Points | J2: Bonus Points | M2: Race Points | O2: Bonus Points | R2: Race Points | T2: Bonus Points | W2: Race Points | Y2: Bonus Points | AB2: Race Points | AD2: Bonus Points | AG2: Race Points | AI2: Bonus Points | AL2: Race Points | AN2: Bonus Points | AQ2: Race Points | AS2: Bonus Points | AV2: (Best 9 Race + Best 5 Bonus) | AW2: Points Gap | CH2: RACE POINTS IN DESCENDING ORDER | CY2: BONUS POINTS IN DESCENDING ORDER
A3: Prev. Pos | B3: Cur. Pos | C3: Driver | D3: Nationality | E3: Min. Weight (kgs.) | F3: Success Weight (kgs.) | G3: Member (Y/N) | H3: Race 1 | I3: Race 2 | J3: Q | K3: R1 | L3: R2 | M3: Race 1 | N3: Race 2 | O3: Q | P3: R1 | Q3: R2 | R3: Race 1 | S3: Race 2 | T3: Q | U3: R1 | V3: R2 | W3: Race 1 | X3: Race 2 | Y3: Q | Z3: R1 | AA3: R2 | AB3: Race 1 | AC3: Race 2 | AD3: Q | AE3: R1 | AF3: R2 | AG3: Race 1 | AH3: Race 2 | AI3: Q | AJ3: R1 | AK3: R2 | AL3: Race 1 | AM3: Race 2 | AN3: Q | AO3: R1 | AP3: R2 | AQ3: Race 1 | AR3: Race 2 | AS3: Q | AT3: R1 | AU3: R2 | BF3: R1 | BG3: R2 | BH3: R3 | BI3: R4 | BJ3: R5 | BK3: R6 | BL3: R7 | BM3: R8 | BN3: R9 | BO3: R10 | BP3: R11 | BQ3: R12 | BR3: R13 | BS3: R14 | BT3: R15 | BU3: R16 | BV3: TOTAL RACE POINTS | BX3: RD1 | BY3: RD2 | BZ3: RD3 | CA3: RD4 | CB3: RD5 | CC3: RD6 | CD3: RD7 | CE3: RD8 | CF3: TOTAL BONUS POINTS | CH3: 1 | CI3: 2 | CJ3: 3 | CK3: 4 | CL3: 5 | CM3: 6 | CN3: 7 | CO3: 8 | CP3: 9 | CQ3: 10 | CR3: 11 | CS3: 12 | CT3: 13 | CU3: 14 | CV3: 15 | CW3: 16 | CY3: 1 | CZ3: 2 | DA3: 3 | DB3: 4 | DC3: 5 | DD3: 6 | DE3: 7 | DF3: 8
A4: 1 | B4: 1 | C4: Manu Mathew | E4: 80 | F4: 85 | H4: 67 | I4: 30 | M4: 75 | N4: 75 | R4: 67 | S4: 54 | V4: 3 | W4: 75 | X4: 75 | AB4: 54 | AC4: 49 | AG4: 67 | AH4: 67 | AL4: 36 | AM4: 49 | AQ4: 75 | AR4: 75 | AS4: 3 | AV4: =SUM(BA4+BB4) -> 657 | BA4: =SUM(CH4:CP4) -> 651 | BB4: =SUM(CY4:DC4) -> 6 | BF4: =H4 -> 67 | BG4: =I4 -> 30 | BH4: =M4 -> 75 | BI4: =N4 -> 75 | BJ4: =R4 -> 67 | BK4: =S4 -> 54 | BL4: =W4 -> 75 | BM4: =X4 -> 75 | BN4: =AB4 -> 54 | BO4: =AC4 -> 49 | BP4: =AG4 -> 67 | BQ4: =AH4 -> 67 | BR4: =AL4 -> 36 | BS4: =AM4 -> 49 | BT4: =AQ4 -> 75 | BU4: =AR4 -> 75 | BV4: =SUM(BF4:BU4) -> 990 | BX4: =SUM(J4:L4) -> 0 | BY4: =SUM(O4:Q4) -> 0 | BZ4: =SUM(T4:V4) -> 3 | CA4: =SUM(Y4:AA4) -> 0 | CB4: =SUM(AD4:AF4) -> 0 | CC4: =SUM(AI4:AK4) -> 0 | CD4: =SUM(AN4:AP4) -> 0 | CE4: =SUM(AS4:AU4) -> 3 | CF4: =SUM(BX4:CE4) -> 6 | CH4: =LARGE((BF4:BU4),1) -> 75 | CI4: =LARGE((BF4:BU4),2) -> 75 | CJ4: =LARGE((BF4:BU4),3) -> 75 | CK4: =LARGE((BF4:BU4),4) -> 75 | CL4: =LARGE((BF4:BU4),5) -> 75 | CM4: =LARGE((BF4:BU4),6) -> 75 | CN4: =LARGE((BF4:BU4),7) -> 67 | CO4: =LARGE((BF4:BU4),8) -> 67 | CP4: =LARGE((BF4:BU4),9) -> 67 | CQ4: =LARGE((BF4:BU4),10) -> 67 | CR4: =LARGE((BF4:BU4),11) -> 54 | CS4: =LARGE((BF4:BU4),12) -> 54 | CT4: =LARGE((BF4:BU4),13) -> 49 | CU4: =LARGE((BF4:BU4),14) -> 49 | CV4: =LARGE((BF4:BU4),15) -> 36 | CW4: =LARGE((BF4:BU4),16) -> 30 | CY4: =LARGE((BX4:CE4),1) -> 3 | CZ4: =LARGE((BX4:CE4),2) -> 3 | DA4: =LARGE((BX4:CE4),3) -> 0 | DB4: =LARGE((BX4:CE4),4) -> 0 | DC4: =LARGE((BX4:CE4),5) -> 0 | DD4: =LARGE((BX4:CE4),6) -> 0 | DE4: =LARGE((BX4:CE4),7) -> 0 | DF4: =LARGE((BX4:CE4),8) -> 0
A5: 2 | B5: 2 | C5: Sevag Balmanian | E5: 80 | F5: 82.5 | H5: 60 | I5: 39 | M5: 60 | N5: 54 | R5: 75 | S5: 75 | U5: 3 | W5: 42 | X5: 18 | AB5: 75 | AC5: 75 | AF5: 3 | AG5: 60 | AH5: 33 | AL5: 54 | AM5: 54 | AQ5: 60 | AR5: 67 | AU5: 3 | AV5: =SUM(BA5+BB5) -> 616 | AW5: =(AV4-AV5) -> 41 | BA5: =SUM(CH5:CP5) -> 607 | BB5: =SUM(CY5:DC5) -> 9 | BF5: =H5 -> 60 | BG5: =I5 -> 39 | BH5: =M5 -> 60 | BI5: =N5 -> 54 | BJ5: =R5 -> 75 | BK5: =S5 -> 75 | BL5: =W5 -> 42 | BM5: =X5 -> 18 | BN5: =AB5 -> 75 | BO5: =AC5 -> 75 | BP5: =AG5 -> 60 | BQ5: =AH5 -> 33 | BR5: =AL5 -> 54 | BS5: =AM5 -> 54 | BT5: =AQ5 -> 60 | BU5: =AR5 -> 67 | BV5: =SUM(BF5:BU5) -> 901 | BX5: =SUM(J5:L5) -> 0 | BY5: =SUM(O5:Q5) -> 0 | BZ5: =SUM(T5:V5) -> 3 | CA5: =SUM(Y5:AA5) -> 0 | CB5: =SUM(AD5:AF5) -> 3 | CC5: =SUM(AI5:AK5) -> 0 | CD5: =SUM(AN5:AP5) -> 0 | CE5: =SUM(AS5:AU5) -> 3 | CF5: =SUM(BX5:CE5) -> 9 | CH5: =LARGE((BF5:BU5),1) -> 75 | CI5: =LARGE((BF5:BU5),2) -> 75 | CJ5: =LARGE((BF5:BU5),3) -> 75 | CK5: =LARGE((BF5:BU5),4) -> 75 | CL5: =LARGE((BF5:BU5),5) -> 67 | CM5: =LARGE((BF5:BU5),6) -> 60 | CN5: =LARGE((BF5:BU5),7) -> 60 | CO5: =LARGE((BF5:BU5),8) -> 60 | CP5: =LARGE((BF5:BU5),9) -> 60 | CQ5: =LARGE((BF5:BU5),10) -> 54 | CR5: =LARGE((BF5:BU5),11) -> 54 | CS5: =LARGE((BF5:BU5),12) -> 54 | CT5: =LARGE((BF5:BU5),13) -> 42 | CU5: =LARGE((BF5:BU5),14) -> 39 | CV5: =LARGE((BF5:BU5),15) -> 33 | CW5: =LARGE((BF5:BU5),16) -> 18 | CY5: =LARGE((BX5:CE5),1) -> 3 | CZ5: =LARGE((BX5:CE5),2) -> 3 | DA5: =LARGE((BX5:CE5),3) -> 3 | DB5: =LARGE((BX5:CE5),4) -> 0 | DC5: =LARGE((BX5:CE5),5) -> 0 | DD5: =LARGE((BX5:CE5),6) -> 0 | DE5: =LARGE((BX5:CE5),7) -> 0 | DF5: =LARGE((BX5:CE5),8) -> 0
A6: 4 | B6: 3 | C6: Andre Khoury | E6: 80 | F6: =E6+0 -> 80 | H6: 75 | I6: 67 | K6: 3 | L6: 3 | M6: 67 | N6: 45 | O6: 3 | W6: 18 | X6: 54 | AA6: 3 | AB6: 45 | AC6: 67 | AD6: 3 | AG6: 30 | AH6: 30 | AI6: 3 | AL6: 75 | AM6: 45 | AO6: 3 | AQ6: 67 | AR6: 60 | AT6: 3 | AV6: =SUM(BA6+BB6) -> 595 | AW6: =(AV5-AV6) -> 21 | BA6: =SUM(CH6:CP6) -> 577 | BB6: =SUM(CY6:DC6) -> 18 | BF6: =H6 -> 75 | BG6: =I6 -> 67 | BH6: =M6 -> 67 | BI6: =N6 -> 45 | BJ6: =R6 -> 0 | BK6: =S6 -> 0 | BL6: =W6 -> 18 | BM6: =X6 -> 54 | BN6: =AB6 -> 45 | BO6: =AC6 -> 67 | BP6: =AG6 -> 30 | BQ6: =AH6 -> 30 | BR6: =AL6 -> 75 | BS6: =AM6 -> 45 | BT6: =AQ6 -> 67 | BU6: =AR6 -> 60 | BV6: =SUM(BF6:BU6) -> 745 | BX6: =SUM(J6:L6) -> 6 | BY6: =SUM(O6:Q6) -> 3 | BZ6: =SUM(T6:V6) -> 0 | CA6: =SUM(Y6:AA6) -> 3 | CB6: =SUM(AD6:AF6) -> 3 | CC6: =SUM(AI6:AK6) -> 3 | CD6: =SUM(AN6:AP6) -> 3 | CE6: =SUM(AS6:AU6) -> 3 | CF6: =SUM(BX6:CE6) -> 24 | CH6: =LARGE((BF6:BU6),1) -> 75 | CI6: =LARGE((BF6:BU6),2) -> 75 | CJ6: =LARGE((BF6:BU6),3) -> 67 | CK6: =LARGE((BF6:BU6),4) -> 67 | CL6: =LARGE((BF6:BU6),5) -> 67 | CM6: =LARGE((BF6:BU6),6) -> 67 | CN6: =LARGE((BF6:BU6),7) -> 60 | CO6: =LARGE((BF6:BU6),8) -> 54 | CP6: =LARGE((BF6:BU6),9) -> 45 | CQ6: =LARGE((BF6:BU6),10) -> 45 | CR6: =LARGE((BF6:BU6),11) -> 45 | CS6: =LARGE((BF6:BU6),12) -> 30 | CT6: =LARGE((BF6:BU6),13) -> 30 | CU6: =LARGE((BF6:BU6),14) -> 18 | CV6: =LARGE((BF6:BU6),15) -> 0 | CW6: =LARGE((BF6:BU6),16) -> 0 | CY6: =LARGE((BX6:CE6),1) -> 6 | CZ6: =LARGE((BX6:CE6),2) -> 3 | DA6: =LARGE((BX6:CE6),3) -> 3 | DB6: =LARGE((BX6:CE6),4) -> 3 | DC6: =LARGE((BX6:CE6),5) -> 3 | DD6: =LARGE((BX6:CE6),6) -> 3 | DE6: =LARGE((BX6:CE6),7) -> 3 | DF6: =LARGE((BX6:CE6),8) -> 0
A7: 3 | B7: 4 | C7: Anthony Shanouk | E7: 80 | F7: 82.5 | H7: 42 | I7: 75 | M7: 49 | N7: 24 | P7: 3 | R7: 54 | S7: 49 | W7: 45 | X7: 45 | Y7: 3 | AB7: 60 | AC7: 60 | AG7: 75 | AH7: 60 | AJ7: 3 | AK7: 3 | AL7: 45 | AM7: 67 | AQ7: 49 | AR7: 54 | AV7: =SUM(BA7+BB7) -> 566 | AW7: =(AV6-AV7) -> 29 | BA7: =SUM(CH7:CP7) -> 554 | BB7: =SUM(CY7:DC7) -> 12 | BF7: =H7 -> 42 | BG7: =I7 -> 75 | BH7: =M7 -> 49 | BI7: =N7 -> 24 | BJ7: =R7 -> 54 | BK7: =S7 -> 49 | BL7: =W7 -> 45 | BM7: =X7 -> 45 | BN7: =AB7 -> 60 | BO7: =AC7 -> 60 | BP7: =AG7 -> 75 | BQ7: =AH7 -> 60 | BR7: =AL7 -> 45 | BS7: =AM7 -> 67 | BT7: =AQ7 -> 49 | BU7: =AR7 -> 54 | BV7: =SUM(BF7:BU7) -> 853 | BX7: =SUM(J7:L7) -> 0 | BY7: =SUM(O7:Q7) -> 3 | BZ7: =SUM(T7:V7) -> 0 | CA7: =SUM(Y7:AA7) -> 3 | CB7: =SUM(AD7:AF7) -> 0 | CC7: =SUM(AI7:AK7) -> 6 | CD7: =SUM(AN7:AP7) -> 0 | CE7: =SUM(AS7:AU7) -> 0 | CF7: =SUM(BX7:CE7) -> 12 | CH7: =LARGE((BF7:BU7),1) -> 75 | CI7: =LARGE((BF7:BU7),2) -> 75 | CJ7: =LARGE((BF7:BU7),3) -> 67 | CK7: =LARGE((BF7:BU7),4) -> 60 | CL7: =LARGE((BF7:BU7),5) -> 60 | CM7: =LARGE((BF7:BU7),6) -> 60 | CN7: =LARGE((BF7:BU7),7) -> 54 | CO7: =LARGE((BF7:BU7),8) -> 54 | CP7: =LARGE((BF7:BU7),9) -> 49 | CQ7: =LARGE((BF7:BU7),10) -> 49 | CR7: =LARGE((BF7:BU7),11) -> 49 | CS7: =LARGE((BF7:BU7),12) -> 45 | CT7: =LARGE((BF7:BU7),13) -> 45 | CU7: =LARGE((BF7:BU7),14) -> 45 | CV7: =LARGE((BF7:BU7),15) -> 42 | CW7: =LARGE((BF7:BU7),16) -> 24 | CY7: =LARGE((BX7:CE7),1) -> 6 | CZ7: =LARGE((BX7:CE7),2) -> 3 | DA7: =LARGE((BX7:CE7),3) -> 3 | DB7: =LARGE((BX7:CE7),4) -> 0 | DC7: =LARGE((BX7:CE7),5) -> 0 | DD7: =LARGE((BX7:CE7),6) -> 0 | DE7: =LARGE((BX7:CE7),7) -> 0 | DF7: =LARGE((BX7:CE7),8) -> 0
A8: 5 | B8: 5 | C8: Jan Bobert | E8: 80 | F8: =E8+0 -> 80 | H8: 54 | I8: 60 | J8: 3 | M8: 45 | N8: 67 | W8: 60 | X8: 60 | AL8: 49 | AM8: 75 | AN8: 3 | AP8: 3 | AV8: =SUM(BA8+BB8) -> 479 | AW8: =(AV7-AV8) -> 87 | BA8: =SUM(CH8:CP8) -> 470 | BB8: =SUM(CY8:DC8) -> 9 | BF8: =H8 -> 54 | BG8: =I8 -> 60 | BH8: =M8 -> 45 | BI8: =N8 -> 67 | BJ8: =R8 -> 0 | BK8: =S8 -> 0 | BL8: =W8 -> 60 | BM8: =X8 -> 60 | BN8: =AB8 -> 0 | BO8: =AC8 -> 0 | BP8: =AG8 -> 0 | BQ8: =AH8 -> 0 | BR8: =AL8 -> 49 | BS8: =AM8 -> 75 | BT8: =AQ8 -> 0 | BU8: =AR8 -> 0 | BV8: =SUM(BF8:BU8) -> 470 | BX8: =SUM(J8:L8) -> 3 | BY8: =SUM(O8:Q8) -> 0 | BZ8: =SUM(T8:V8) -> 0 | CA8: =SUM(Y8:AA8) -> 0 | CB8: =SUM(AD8:AF8) -> 0 | CC8: =SUM(AI8:AK8) -> 0 | CD8: =SUM(AN8:AP8) -> 6 | CE8: =SUM(AS8:AU8) -> 0 | CF8: =SUM(BX8:CE8) -> 9 | CH8: =LARGE((BF8:BU8),1) -> 75 | CI8: =LARGE((BF8:BU8),2) -> 67 | CJ8: =LARGE((BF8:BU8),3) -> 60 | CK8: =LARGE((BF8:BU8),4) -> 60 | CL8: =LARGE((BF8:BU8),5) -> 60 | CM8: =LARGE((BF8:BU8),6) -> 54 | CN8: =LARGE((BF8:BU8),7) -> 49 | CO8: =LARGE((BF8:BU8),8) -> 45 | CP8: =LARGE((BF8:BU8),9) -> 0 | CQ8: =LARGE((BF8:BU8),10) -> 0 | CR8: =LARGE((BF8:BU8),11) -> 0 | CS8: =LARGE((BF8:BU8),12) -> 0 | CT8: =LARGE((BF8:BU8),13) -> 0 | CU8: =LARGE((BF8:BU8),14) -> 0 | CV8: =LARGE((BF8:BU8),15) -> 0 | CW8: =LARGE((BF8:BU8),16) -> 0 | CY8: =LARGE((BX8:CE8),1) -> 6 | CZ8: =LARGE((BX8:CE8),2) -> 3 | DA8: =LARGE((BX8:CE8),3) -> 0 | DB8: =LARGE((BX8:CE8),4) -> 0 | DC8: =LARGE((BX8:CE8),5) -> 0 | DD8: =LARGE((BX8:CE8),6) -> 0 | DE8: =LARGE((BX8:CE8),7) -> 0 | DF8: =LARGE((BX8:CE8),8) -> 0
A9: 6 | B9: 6 | C9: Yahidj Chady | E9: 80 | F9: =E9+0 -> 80 | H9: 39 | I9: 22 | M9: 18 | N9: 30 | R9: 26 | S9: 45 | W9: 30 | X9: 33 | AB9: 24 | AC9: 36 | AG9: 54 | AH9: 54 | AL9: 67 | AM9: 60 | AQ9: 54 | AR9: 45 | AV9: =SUM(BA9+BB9) -> 454 | AW9: =(AV8-AV9) -> 25 | BA9: =SUM(CH9:CP9) -> 454 | BB9: =SUM(CY9:DC9) -> 0 | BF9: =H9 -> 39 | BG9: =I9 -> 22 | BH9: =M9 -> 18 | BI9: =N9 -> 30 | BJ9: =R9 -> 26 | BK9: =S9 -> 45 | BL9: =W9 -> 30 | BM9: =X9 -> 33 | BN9: =AB9 -> 24 | BO9: =AC9 -> 36 | BP9: =AG9 -> 54 | BQ9: =AH9 -> 54 | BR9: =AL9 -> 67 | BS9: =AM9 -> 60 | BT9: =AQ9 -> 54 | BU9: =AR9 -> 45 | BV9: =SUM(BF9:BU9) -> 637 | BX9: =SUM(J9:L9) -> 0 | BY9: =SUM(O9:Q9) -> 0 | BZ9: =SUM(T9:V9) -> 0 | CA9: =SUM(Y9:AA9) -> 0 | CB9: =SUM(AD9:AF9) -> 0 | CC9: =SUM(AI9:AK9) -> 0 | CD9: =SUM(AN9:AP9) -> 0 | CE9: =SUM(AS9:AU9) -> 0 | CF9: =SUM(BX9:CE9) -> 0 | CH9: =LARGE((BF9:BU9),1) -> 67 | CI9: =LARGE((BF9:BU9),2) -> 60 | CJ9: =LARGE((BF9:BU9),3) -> 54 | CK9: =LARGE((BF9:BU9),4) -> 54 | CL9: =LARGE((BF9:BU9),5) -> 54 | CM9: =LARGE((BF9:BU9),6) -> 45 | CN9: =LARGE((BF9:BU9),7) -> 45 | CO9: =LARGE((BF9:BU9),8) -> 39 | CP9: =LARGE((BF9:BU9),9) -> 36 | CQ9: =LARGE((BF9:BU9),10) -> 33 | CR9: =LARGE((BF9:BU9),11) -> 30 | CS9: =LARGE((BF9:BU9),12) -> 30 | CT9: =LARGE((BF9:BU9),13) -> 26 | CU9: =LARGE((BF9:BU9),14) -> 24 | CV9: =LARGE((BF9:BU9),15) -> 22 | CW9: =LARGE((BF9:BU9),16) -> 18 | CY9: =LARGE((BX9:CE9),1) -> 0 | CZ9: =LARGE((BX9:CE9),2) -> 0 | DA9: =LARGE((BX9:CE9),3) -> 0 | DB9: =LARGE((BX9:CE9),4) -> 0 | DC9: =LARGE((BX9:CE9),5) -> 0 | DD9: =LARGE((BX9:CE9),6) -> 0 | DE9: =LARGE((BX9:CE9),7) -> 0 | DF9: =LARGE((BX9:CE9),8) -> 0
A10: 7 | B10: 7 | C10: Benjamin Allison | E10: 80 | F10: =E10+0 -> 80 | W10: 36 | X10: 36 | AB10: 67 | AC10: 54 | AE10: 3 | AG10: 33 | AH10: 75 | AL10: 60 | AM10: 42 | AV10: =SUM(BA10+BB10) -> 406 | AW10: =(AV9-AV10) -> 48 | BA10: =SUM(CH10:CP10) -> 403 | BB10: =SUM(CY10:DC10) -> 3 | BF10: =H10 -> 0 | BG10: =I10 -> 0 | BH10: =M10 -> 0 | BI10: =N10 -> 0 | BJ10: =R10 -> 0 | BK10: =S10 -> 0 | BL10: =W10 -> 36 | BM10: =X10 -> 36 | BN10: =AB10 -> 67 | BO10: =AC10 -> 54 | BP10: =AG10 -> 33 | BQ10: =AH10 -> 75 | BR10: =AL10 -> 60 | BS10: =AM10 -> 42 | BT10: =AQ10 -> 0 | BU10: =AR10 -> 0 | BV10: =SUM(BF10:BU10) -> 403 | BX10: =SUM(J10:L10) -> 0 | BY10: =SUM(O10:Q10) -> 0 | BZ10: =SUM(T10:V10) -> 0 | CA10: =SUM(Y10:AA10) -> 0 | CB10: =SUM(AD10:AF10) -> 3 | CC10: =SUM(AI10:AK10) -> 0 | CD10: =SUM(AN10:AP10) -> 0 | CE10: =SUM(AS10:AU10) -> 0 | CF10: =SUM(BX10:CE10) -> 3 | CH10: =LARGE((BF10:BU10),1) -> 75 | CI10: =LARGE((BF10:BU10),2) -> 67 | CJ10: =LARGE((BF10:BU10),3) -> 60 | CK10: =LARGE((BF10:BU10),4) -> 54 | CL10: =LARGE((BF10:BU10),5) -> 42 | CM10: =LARGE((BF10:BU10),6) -> 36 | CN10: =LARGE((BF10:BU10),7) -> 36 | CO10: =LARGE((BF10:BU10),8) -> 33 | CP10: =LARGE((BF10:BU10),9) -> 0 | CQ10: =LARGE((BF10:BU10),10) -> 0 | CR10: =LARGE((BF10:BU10),11) -> 0 | CS10: =LARGE((BF10:BU10),12) -> 0 | CT10: =LARGE((BF10:BU10),13) -> 0 | CU10: =LARGE((BF10:BU10),14) -> 0 | CV10: =LARGE((BF10:BU10),15) -> 0 | CW10: =LARGE((BF10:BU10),16) -> 0 | CY10: =LARGE((BX10:CE10),1) -> 3 | CZ10: =LARGE((BX10:CE10),2) -> 0 | DA10: =LARGE((BX10:CE10),3) -> 0 | DB10: =LARGE((BX10:CE10),4) -> 0 | DC10: =LARGE((BX10:CE10),5) -> 0 | DD10: =LARGE((BX10:CE10),6) -> 0 | DE10: =LARGE((BX10:CE10),7) -> 0 | DF10: =LARGE((BX10:CE10),8) -> 0
A11: 8 | B11: 8 | C11: Mahmood Jaafar | E11: 80 | F11: =E11+0 -> 80 | H11: 49 | I11: 33 | R11: 28 | S11: 28 | W11: 26 | X11: 30 | AB11: 49 | AC11: 39 | AG11: 42 | AH11: 49 | AV11: =SUM(BA11+BB11) -> 347 | AW11: =(AV10-AV11) -> 59 | BA11: =SUM(CH11:CP11) -> 347 | BB11: =SUM(CY11:DC11) -> 0 | BF11: =H11 -> 49 | BG11: =I11 -> 33 | BH11: =M11 -> 0 | BI11: =N11 -> 0 | BJ11: =R11 -> 28 | BK11: =S11 -> 28 | BL11: =W11 -> 26 | BM11: =X11 -> 30 | BN11: =AB11 -> 49 | BO11: =AC11 -> 39 | BP11: =AG11 -> 42 | BQ11: =AH11 -> 49 | BR11: =AL11 -> 0 | BS11: =AM11 -> 0 | BT11: =AQ11 -> 0 | BU11: =AR11 -> 0 | BV11: =SUM(BF11:BU11) -> 373 | BX11: =SUM(J11:L11) -> 0 | BY11: =SUM(O11:Q11) -> 0 | BZ11: =SUM(T11:V11) -> 0 | CA11: =SUM(Y11:AA11) -> 0 | CB11: =SUM(AD11:AF11) -> 0 | CC11: =SUM(AI11:AK11) -> 0 | CD11: =SUM(AN11:AP11) -> 0 | CE11: =SUM(AS11:AU11) -> 0 | CF11: =SUM(BX11:CE11) -> 0 | CH11: =LARGE((BF11:BU11),1) -> 49 | CI11: =LARGE((BF11:BU11),2) -> 49 | CJ11: =LARGE((BF11:BU11),3) -> 49 | CK11: =LARGE((BF11:BU11),4) -> 42 | CL11: =LARGE((BF11:BU11),5) -> 39 | CM11: =LARGE((BF11:BU11),6) -> 33 | CN11: =LARGE((BF11:BU11),7) -> 30 | CO11: =LARGE((BF11:BU11),8) -> 28 | CP11: =LARGE((BF11:BU11),9) -> 28 | CQ11: =LARGE((BF11:BU11),10) -> 26 | CR11: =LARGE((BF11:BU11),11) -> 0 | CS11: =LARGE((BF11:BU11),12) -> 0 | CT11: =LARGE((BF11:BU11),13) -> 0 | CU11: =LARGE((BF11:BU11),14) -> 0 | CV11: =LARGE((BF11:BU11),15) -> 0 | CW11: =LARGE((BF11:BU11),16) -> 0 | CY11: =LARGE((BX11:CE11),1) -> 0 | CZ11: =LARGE((BX11:CE11),2) -> 0 | DA11: =LARGE((BX11:CE11),3) -> 0 | DB11: =LARGE((BX11:CE11),4) -> 0 | DC11: =LARGE((BX11:CE11),5) -> 0 | DD11: =LARGE((BX11:CE11),6) -> 0 | DE11: =LARGE((BX11:CE11),7) -> 0 | DF11: =LARGE((BX11:CE11),8) -> 0
A12: 9 | B12: 9 | C12: Guillaume Haidan | E12: 80 | F12: =E12+0 -> 80 | H12: 36 | I12: 45 | M12: 24 | N12: 18 | R12: 49 | S12: 24 | W12: 33 | X12: 20 | AL12: 42 | AM12: 39 | AV12: =SUM(BA12+BB12) -> 312 | AW12: =(AV11-AV12) -> 35 | BA12: =SUM(CH12:CP12) -> 312 | BB12: =SUM(CY12:DC12) -> 0 | BF12: =H12 -> 36 | BG12: =I12 -> 45 | BH12: =M12 -> 24 | BI12: =N12 -> 18 | BJ12: =R12 -> 49 | BK12: =S12 -> 24 | BL12: =W12 -> 33 | BM12: =X12 -> 20 | BN12: =AB12 -> 0 | BO12: =AC12 -> 0 | BP12: =AG12 -> 0 | BQ12: =AH12 -> 0 | BR12: =AL12 -> 42 | BS12: =AM12 -> 39 | BT12: =AQ12 -> 0 | BU12: =AR12 -> 0 | BV12: =SUM(BF12:BU12) -> 330 | BX12: =SUM(J12:L12) -> 0 | BY12: =SUM(O12:Q12) -> 0 | BZ12: =SUM(T12:V12) -> 0 | CA12: =SUM(Y12:AA12) -> 0 | CB12: =SUM(AD12:AF12) -> 0 | CC12: =SUM(AI12:AK12) -> 0 | CD12: =SUM(AN12:AP12) -> 0 | CE12: =SUM(AS12:AU12) -> 0 | CF12: =SUM(BX12:CE12) -> 0 | CH12: =LARGE((BF12:BU12),1) -> 49 | CI12: =LARGE((BF12:BU12),2) -> 45 | CJ12: =LARGE((BF12:BU12),3) -> 42 | CK12: =LARGE((BF12:BU12),4) -> 39 | CL12: =LARGE((BF12:BU12),5) -> 36 | CM12: =LARGE((BF12:BU12),6) -> 33 | CN12: =LARGE((BF12:BU12),7) -> 24 | CO12: =LARGE((BF12:BU12),8) -> 24 | CP12: =LARGE((BF12:BU12),9) -> 20 | CQ12: =LARGE((BF12:BU12),10) -> 18 | CR12: =LARGE((BF12:BU12),11) -> 0 | CS12: =LARGE((BF12:BU12),12) -> 0 | CT12: =LARGE((BF12:BU12),13) -> 0 | CU12: =LARGE((BF12:BU12),14) -> 0 | CV12: =LARGE((BF12:BU12),15) -> 0 | CW12: =LARGE((BF12:BU12),16) -> 0 | CY12: =LARGE((BX12:CE12),1) -> 0 | CZ12: =LARGE((BX12:CE12),2) -> 0 | DA12: =LARGE((BX12:CE12),3) -> 0 | DB12: =LARGE((BX12:CE12),4) -> 0 | DC12: =LARGE((BX12:CE12),5) -> 0 | DD12: =LARGE((BX12:CE12),6) -> 0 | DE12: =LARGE((BX12:CE12),7) -> 0 | DF12: =LARGE((BX12:CE12),8) -> 0
A13: 10 | B13: 10 | C13: Jack Demirjian | E13: 80 | F13: =E13+0 -> 80 | H13: 30 | I13: 28 | M13: 20 | N13: 22 | R13: 42 | S13: 60 | W13: 22 | X13: 26 | AG13: 39 | AH13: 39 | AV13: =SUM(BA13+BB13) -> 308 | AW13: =(AV12-AV13) -> 4 | BA13: =SUM(CH13:CP13) -> 308 | BB13: =SUM(CY13:DC13) -> 0 | BF13: =H13 -> 30 | BG13: =I13 -> 28 | BH13: =M13 -> 20 | BI13: =N13 -> 22 | BJ13: =R13 -> 42 | BK13: =S13 -> 60 | BL13: =W13 -> 22 | BM13: =X13 -> 26 | BN13: =AB13 -> 0 | BO13: =AC13 -> 0 | BP13: =AG13 -> 39 | BQ13: =AH13 -> 39 | BR13: =AL13 -> 0 | BS13: =AM13 -> 0 | BT13: =AQ13 -> 0 | BU13: =AR13 -> 0 | BV13: =SUM(BF13:BU13) -> 328 | BX13: =SUM(J13:L13) -> 0 | BY13: =SUM(O13:Q13) -> 0 | BZ13: =SUM(T13:V13) -> 0 | CA13: =SUM(Y13:AA13) -> 0 | CB13: =SUM(AD13:AF13) -> 0 | CC13: =SUM(AI13:AK13) -> 0 | CD13: =SUM(AN13:AP13) -> 0 | CE13: =SUM(AS13:AU13) -> 0 | CF13: =SUM(BX13:CE13) -> 0 | CH13: =LARGE((BF13:BU13),1) -> 60 | CI13: =LARGE((BF13:BU13),2) -> 42 | CJ13: =LARGE((BF13:BU13),3) -> 39 | CK13: =LARGE((BF13:BU13),4) -> 39 | CL13: =LARGE((BF13:BU13),5) -> 30 | CM13: =LARGE((BF13:BU13),6) -> 28 | CN13: =LARGE((BF13:BU13),7) -> 26 | CO13: =LARGE((BF13:BU13),8) -> 22 | CP13: =LARGE((BF13:BU13),9) -> 22 | CQ13: =LARGE((BF13:BU13),10) -> 20 | CR13: =LARGE((BF13:BU13),11) -> 0 | CS13: =LARGE((BF13:BU13),12) -> 0 | CT13: =LARGE((BF13:BU13),13) -> 0 | CU13: =LARGE((BF13:BU13),14) -> 0 | CV13: =LARGE((BF13:BU13),15) -> 0 | CW13: =LARGE((BF13:BU13),16) -> 0 | CY13: =LARGE((BX13:CE13),1) -> 0 | CZ13: =LARGE((BX13:CE13),2) -> 0 | DA13: =LARGE((BX13:CE13),3) -> 0 | DB13: =LARGE((BX13:CE13),4) -> 0 | DC13: =LARGE((BX13:CE13),5) -> 0 | DD13: =LARGE((BX13:CE13),6) -> 0 | DE13: =LARGE((BX13:CE13),7) -> 0 | DF13: =LARGE((BX13:CE13),8) -> 0
A14: 11 | B14: 11 | C14: Roberto Beni | E14: 80 | F14: =E14+0 -> 80 | M14: 54 | N14: 39 | R14: 45 | S14: 67 | AB14: 42 | AC14: 28 | AV14: =SUM(BA14+BB14) -> 275 | AW14: =(AV13-AV14) -> 33 | BA14: =SUM(CH14:CP14) -> 275 | BB14: =SUM(CY14:DC14) -> 0 | BF14: =H14 -> 0 | BG14: =I14 -> 0 | BH14: =M14 -> 54 | BI14: =N14 -> 39 | BJ14: =R14 -> 45 | BK14: =S14 -> 67 | BL14: =W14 -> 0 | BM14: =X14 -> 0 | BN14: =AB14 -> 42 | BO14: =AC14 -> 28 | BP14: =AG14 -> 0 | BQ14: =AH14 -> 0 | BR14: =AL14 -> 0 | BS14: =AM14 -> 0 | BT14: =AQ14 -> 0 | BU14: =AR14 -> 0 | BV14: =SUM(BF14:BU14) -> 275 | BX14: =SUM(J14:L14) -> 0 | BY14: =SUM(O14:Q14) -> 0 | BZ14: =SUM(T14:V14) -> 0 | CA14: =SUM(Y14:AA14) -> 0 | CB14: =SUM(AD14:AF14) -> 0 | CC14: =SUM(AI14:AK14) -> 0 | CD14: =SUM(AN14:AP14) -> 0 | CE14: =SUM(AS14:AU14) -> 0 | CF14: =SUM(BX14:CE14) -> 0 | CH14: =LARGE((BF14:BU14),1) -> 67 | CI14: =LARGE((BF14:BU14),2) -> 54 | CJ14: =LARGE((BF14:BU14),3) -> 45 | CK14: =LARGE((BF14:BU14),4) -> 42 | CL14: =LARGE((BF14:BU14),5) -> 39 | CM14: =LARGE((BF14:BU14),6) -> 28 | CN14: =LARGE((BF14:BU14),7) -> 0 | CO14: =LARGE((BF14:BU14),8) -> 0 | CP14: =LARGE((BF14:BU14),9) -> 0 | CQ14: =LARGE((BF14:BU14),10) -> 0 | CR14: =LARGE((BF14:BU14),11) -> 0 | CS14: =LARGE((BF14:BU14),12) -> 0 | CT14: =LARGE((BF14:BU14),13) -> 0 | CU14: =LARGE((BF14:BU14),14) -> 0 | CV14: =LARGE((BF14:BU14),15) -> 0 | CW14: =LARGE((BF14:BU14),16) -> 0 | CY14: =LARGE((BX14:CE14),1) -> 0 | CZ14: =LARGE((BX14:CE14),2) -> 0 | DA14: =LARGE((BX14:CE14),3) -> 0 | DB14: =LARGE((BX14:CE14),4) -> 0 | DC14: =LARGE((BX14:CE14),5) -> 0 | DD14: =LARGE((BX14:CE14),6) -> 0 | DE14: =LARGE((BX14:CE14),7) -> 0 | DF14: =LARGE((BX14:CE14),8) -> 0
A15: 12 | B15: 12 | C15: Alessandro Salomoni | E15: 80 | F15: =E15+0 -> 80 | H15: 45 | I15: 49 | M15: 42 | N15: DNS | R15: 24 | S15: 42 | W15: 49 | X15: 22 | AV15: =SUM(BA15+BB15) -> 273 | AW15: =(AV14-AV15) -> 2 | BA15: =SUM(CH15:CP15) -> 273 | BB15: =SUM(CY15:DC15) -> 0 | BF15: =H15 -> 45 | BG15: =I15 -> 49 | BH15: =M15 -> 42 | BI15: =N15 -> DNS | BJ15: =R15 -> 24 | BK15: =S15 -> 42 | BL15: =W15 -> 49 | BM15: =X15 -> 22 | BN15: =AB15 -> 0 | BO15: =AC15 -> 0 | BP15: =AG15 -> 0 | BQ15: =AH15 -> 0 | BR15: =AL15 -> 0 | BS15: =AM15 -> 0 | BT15: =AQ15 -> 0 | BU15: =AR15 -> 0 | BV15: =SUM(BF15:BU15) -> 273 | BX15: =SUM(J15:L15) -> 0 | BY15: =SUM(O15:Q15) -> 0 | BZ15: =SUM(T15:V15) -> 0 | CA15: =SUM(Y15:AA15) -> 0 | CB15: =SUM(AD15:AF15) -> 0 | CC15: =SUM(AI15:AK15) -> 0 | CD15: =SUM(AN15:AP15) -> 0 | CE15: =SUM(AS15:AU15) -> 0 | CF15: =SUM(BX15:CE15) -> 0 | CH15: =LARGE((BF15:BU15),1) -> 49 | CI15: =LARGE((BF15:BU15),2) -> 49 | CJ15: =LARGE((BF15:BU15),3) -> 45 | CK15: =LARGE((BF15:BU15),4) -> 42 | CL15: =LARGE((BF15:BU15),5) -> 42 | CM15: =LARGE((BF15:BU15),6) -> 24 | CN15: =LARGE((BF15:BU15),7) -> 22 | CO15: =LARGE((BF15:BU15),8) -> 0 | CP15: =LARGE((BF15:BU15),9) -> 0 | CQ15: =LARGE((BF15:BU15),10) -> 0 | CR15: =LARGE((BF15:BU15),11) -> 0 | CS15: =LARGE((BF15:BU15),12) -> 0 | CT15: =LARGE((BF15:BU15),13) -> 0 | CU15: =LARGE((BF15:BU15),14) -> 0 | CV15: =LARGE((BF15:BU15),15) -> 0 | CW15: =LARGE((BF15:BU15),16) -> #NUM! | CY15: =LARGE((BX15:CE15),1) -> 0 | CZ15: =LARGE((BX15:CE15),2) -> 0 | DA15: =LARGE((BX15:CE15),3) -> 0 | DB15: =LARGE((BX15:CE15),4) -> 0 | DC15: =LARGE((BX15:CE15),5) -> 0 | DD15: =LARGE((BX15:CE15),6) -> 0 | DE15: =LARGE((BX15:CE15),7) -> 0 | DF15: =LARGE((BX15:CE15),8) -> 0
A16: 13 | B16: 13 | C16: Saif Mustafa | E16: 80 | F16: =E16+0 -> 80 | H16: 22 | I16: 36 | M16: 33 | N16: 33 | R16: 30 | S16: 36 | T16: 3 | AB16: 33 | AC16: 45 | AV16: =SUM(BA16+BB16) -> 271 | AW16: =(AV15-AV16) -> 2 | BA16: =SUM(CH16:CP16) -> 268 | BB16: =SUM(CY16:DC16) -> 3 | BF16: =H16 -> 22 | BG16: =I16 -> 36 | BH16: =M16 -> 33 | BI16: =N16 -> 33 | BJ16: =R16 -> 30 | BK16: =S16 -> 36 | BL16: =W16 -> 0 | BM16: =X16 -> 0 | BN16: =AB16 -> 33 | BO16: =AC16 -> 45 | BP16: =AG16 -> 0 | BQ16: =AH16 -> 0 | BR16: =AL16 -> 0 | BS16: =AM16 -> 0 | BT16: =AQ16 -> 0 | BU16: =AR16 -> 0 | BV16: =SUM(BF16:BU16) -> 268 | BX16: =SUM(J16:L16) -> 0 | BY16: =SUM(O16:Q16) -> 0 | BZ16: =SUM(T16:V16) -> 3 | CA16: =SUM(Y16:AA16) -> 0 | CB16: =SUM(AD16:AF16) -> 0 | CC16: =SUM(AI16:AK16) -> 0 | CD16: =SUM(AN16:AP16) -> 0 | CE16: =SUM(AS16:AU16) -> 0 | CF16: =SUM(BX16:CE16) -> 3 | CH16: =LARGE((BF16:BU16),1) -> 45 | CI16: =LARGE((BF16:BU16),2) -> 36 | CJ16: =LARGE((BF16:BU16),3) -> 36 | CK16: =LARGE((BF16:BU16),4) -> 33 | CL16: =LARGE((BF16:BU16),5) -> 33 | CM16: =LARGE((BF16:BU16),6) -> 33 | CN16: =LARGE((BF16:BU16),7) -> 30 | CO16: =LARGE((BF16:BU16),8) -> 22 | CP16: =LARGE((BF16:BU16),9) -> 0 | CQ16: =LARGE((BF16:BU16),10) -> 0 | CR16: =LARGE((BF16:BU16),11) -> 0 | CS16: =LARGE((BF16:BU16),12) -> 0 | CT16: =LARGE((BF16:BU16),13) -> 0 | CU16: =LARGE((BF16:BU16),14) -> 0 | CV16: =LARGE((BF16:BU16),15) -> 0 | CW16: =LARGE((BF16:BU16),16) -> 0 | CY16: =LARGE((BX16:CE16),1) -> 3 | CZ16: =LARGE((BX16:CE16),2) -> 0 | DA16: =LARGE((BX16:CE16),3) -> 0 | DB16: =LARGE((BX16:CE16),4) -> 0 | DC16: =LARGE((BX16:CE16),5) -> 0 | DD16: =LARGE((BX16:CE16),6) -> 0 | DE16: =LARGE((BX16:CE16),7) -> 0 | DF16: =LARGE((BX16:CE16),8) -> 0
A17: 14 | B17: 14 | C17: Luigi di Maria | E17: 80 | F17: =E17+0 -> 80 | M17: 16 | N17: 20 | R17: 39 | S17: 39 | AB17: 30 | AC17: 33 | AG17: 45 | AH17: 45 | AV17: =SUM(BA17+BB17) -> 267 | AW17: =(AV16-AV17) -> 4 | BA17: =SUM(CH17:CP17) -> 267 | BB17: =SUM(CY17:DC17) -> 0 | BF17: =H17 -> 0 | BG17: =I17 -> 0 | BH17: =M17 -> 16 | BI17: =N17 -> 20 | BJ17: =R17 -> 39 | BK17: =S17 -> 39 | BL17: =W17 -> 0 | BM17: =X17 -> 0 | BN17: =AB17 -> 30 | BO17: =AC17 -> 33 | BP17: =AG17 -> 45 | BQ17: =AH17 -> 45 | BR17: =AL17 -> 0 | BS17: =AM17 -> 0 | BT17: =AQ17 -> 0 | BU17: =AR17 -> 0 | BV17: =SUM(BF17:BU17) -> 267 | BX17: =SUM(J17:L17) -> 0 | BY17: =SUM(O17:Q17) -> 0 | BZ17: =SUM(T17:V17) -> 0 | CA17: =SUM(Y17:AA17) -> 0 | CB17: =SUM(AD17:AF17) -> 0 | CC17: =SUM(AI17:AK17) -> 0 | CD17: =SUM(AN17:AP17) -> 0 | CE17: =SUM(AS17:AU17) -> 0 | CF17: =SUM(BX17:CE17) -> 0 | CH17: =LARGE((BF17:BU17),1) -> 45 | CI17: =LARGE((BF17:BU17),2) -> 45 | CJ17: =LARGE((BF17:BU17),3) -> 39 | CK17: =LARGE((BF17:BU17),4) -> 39 | CL17: =LARGE((BF17:BU17),5) -> 33 | CM17: =LARGE((BF17:BU17),6) -> 30 | CN17: =LARGE((BF17:BU17),7) -> 20 | CO17: =LARGE((BF17:BU17),8) -> 16 | CP17: =LARGE((BF17:BU17),9) -> 0 | CQ17: =LARGE((BF17:BU17),10) -> 0 | CR17: =LARGE((BF17:BU17),11) -> 0 | CS17: =LARGE((BF17:BU17),12) -> 0 | CT17: =LARGE((BF17:BU17),13) -> 0 | CU17: =LARGE((BF17:BU17),14) -> 0 | CV17: =LARGE((BF17:BU17),15) -> 0 | CW17: =LARGE((BF17:BU17),16) -> 0 | CY17: =LARGE((BX17:CE17),1) -> 0 | CZ17: =LARGE((BX17:CE17),2) -> 0 | DA17: =LARGE((BX17:CE17),3) -> 0 | DB17: =LARGE((BX17:CE17),4) -> 0 | DC17: =LARGE((BX17:CE17),5) -> 0 | DD17: =LARGE((BX17:CE17),6) -> 0 | DE17: =LARGE((BX17:CE17),7) -> 0 | DF17: =LARGE((BX17:CE17),8) -> 0
A18: 15 | B18: 15 | C18: Leonardo Iacovazzo | E18: 80 | F18: =E18+0 -> 80 | M18: 39 | N18: 60 | R18: 60 | S18: 26 | W18: 28 | X18: 28 | AV18: =SUM(BA18+BB18) -> 241 | AW18: =(AV17-AV18) -> 26 | BA18: =SUM(CH18:CP18) -> 241 | BB18: =SUM(CY18:DC18) -> 0 | BF18: =H18 -> 0 | BG18: =I18 -> 0 | BH18: =M18 -> 39 | BI18: =N18 -> 60 | BJ18: =R18 -> 60 | BK18: =S18 -> 26 | BL18: =W18 -> 28 | BM18: =X18 -> 28 | BN18: =AB18 -> 0 | BO18: =AC18 -> 0 | BP18: =AG18 -> 0 | BQ18: =AH18 -> 0 | BR18: =AL18 -> 0 | BS18: =AM18 -> 0 | BT18: =AQ18 -> 0 | BU18: =AR18 -> 0 | BV18: =SUM(BF18:BU18) -> 241 | BX18: =SUM(J18:L18) -> 0 | BY18: =SUM(O18:Q18) -> 0 | BZ18: =SUM(T18:V18) -> 0 | CA18: =SUM(Y18:AA18) -> 0 | CB18: =SUM(AD18:AF18) -> 0 | CC18: =SUM(AI18:AK18) -> 0 | CD18: =SUM(AN18:AP18) -> 0 | CE18: =SUM(AS18:AU18) -> 0 | CF18: =SUM(BX18:CE18) -> 0 | CH18: =LARGE((BF18:BU18),1) -> 60 | CI18: =LARGE((BF18:BU18),2) -> 60 | CJ18: =LARGE((BF18:BU18),3) -> 39 | CK18: =LARGE((BF18:BU18),4) -> 28 | CL18: =LARGE((BF18:BU18),5) -> 28 | CM18: =LARGE((BF18:BU18),6) -> 26 | CN18: =LARGE((BF18:BU18),7) -> 0 | CO18: =LARGE((BF18:BU18),8) -> 0 | CP18: =LARGE((BF18:BU18),9) -> 0 | CQ18: =LARGE((BF18:BU18),10) -> 0 | CR18: =LARGE((BF18:BU18),11) -> 0 | CS18: =LARGE((BF18:BU18),12) -> 0 | CT18: =LARGE((BF18:BU18),13) -> 0 | CU18: =LARGE((BF18:BU18),14) -> 0 | CV18: =LARGE((BF18:BU18),15) -> 0 | CW18: =LARGE((BF18:BU18),16) -> 0 | CY18: =LARGE((BX18:CE18),1) -> 0 | CZ18: =LARGE((BX18:CE18),2) -> 0 | DA18: =LARGE((BX18:CE18),3) -> 0 | DB18: =LARGE((BX18:CE18),4) -> 0 | DC18: =LARGE((BX18:CE18),5) -> 0 | DD18: =LARGE((BX18:CE18),6) -> 0 | DE18: =LARGE((BX18:CE18),7) -> 0 | DF18: =LARGE((BX18:CE18),8) -> 0
A19: 16 | B19: 16 | C19: Antonio Juric | E19: 80 | F19: =E19+0 -> 80 | W19: 24 | X19: 39 | AB19: 36 | AC19: 42 | AG19: 49 | AH19: 36 | AV19: =SUM(BA19+BB19) -> 226 | AW19: =(AV18-AV19) -> 15 | BA19: =SUM(CH19:CP19) -> 226 | BB19: =SUM(CY19:DC19) -> 0 | BF19: =H19 -> 0 | BG19: =I19 -> 0 | BH19: =M19 -> 0 | BI19: =N19 -> 0 | BJ19: =R19 -> 0 | BK19: =S19 -> 0 | BL19: =W19 -> 24 | BM19: =X19 -> 39 | BN19: =AB19 -> 36 | BO19: =AC19 -> 42 | BP19: =AG19 -> 49 | BQ19: =AH19 -> 36 | BR19: =AL19 -> 0 | BS19: =AM19 -> 0 | BT19: =AQ19 -> 0 | BU19: =AR19 -> 0 | BV19: =SUM(BF19:BU19) -> 226 | BX19: =SUM(J19:L19) -> 0 | BY19: =SUM(O19:Q19) -> 0 | BZ19: =SUM(T19:V19) -> 0 | CA19: =SUM(Y19:AA19) -> 0 | CB19: =SUM(AD19:AF19) -> 0 | CC19: =SUM(AI19:AK19) -> 0 | CD19: =SUM(AN19:AP19) -> 0 | CE19: =SUM(AS19:AU19) -> 0 | CF19: =SUM(BX19:CE19) -> 0 | CH19: =LARGE((BF19:BU19),1) -> 49 | CI19: =LARGE((BF19:BU19),2) -> 42 | CJ19: =LARGE((BF19:BU19),3) -> 39 | CK19: =LARGE((BF19:BU19),4) -> 36 | CL19: =LARGE((BF19:BU19),5) -> 36 | CM19: =LARGE((BF19:BU19),6) -> 24 | CN19: =LARGE((BF19:BU19),7) -> 0 | CO19: =LARGE((BF19:BU19),8) -> 0 | CP19: =LARGE((BF19:BU19),9) -> 0 | CQ19: =LARGE((BF19:BU19),10) -> 0 | CR19: =LARGE((BF19:BU19),11) -> 0 | CS19: =LARGE((BF19:BU19),12) -> 0 | CT19: =LARGE((BF19:BU19),13) -> 0 | CU19: =LARGE((BF19:BU19),14) -> 0 | CV19: =LARGE((BF19:BU19),15) -> 0 | CW19: =LARGE((BF19:BU19),16) -> 0 | CY19: =LARGE((BX19:CE19),1) -> 0 | CZ19: =LARGE((BX19:CE19),2) -> 0 | DA19: =LARGE((BX19:CE19),3) -> 0 | DB19: =LARGE((BX19:CE19),4) -> 0 | DC19: =LARGE((BX19:CE19),5) -> 0 | DD19: =LARGE((BX19:CE19),6) -> 0 | DE19: =LARGE((BX19:CE19),7) -> 0 | DF19: =LARGE((BX19:CE19),8) -> 0
A20: 17 | B20: 17 | C20: Sonny Dorion | E20: 80 | F20: =E20+0 -> 80 | H20: 33 | I20: 42 | M20: 22 | N20: 36 | W20: 39 | X20: 49 | AV20: =SUM(BA20+BB20) -> 221 | AW20: =(AV19-AV20) -> 5 | BA20: =SUM(CH20:CP20) -> 221 | BB20: =SUM(CY20:DC20) -> 0 | BF20: =H20 -> 33 | BG20: =I20 -> 42 | BH20: =M20 -> 22 | BI20: =N20 -> 36 | BJ20: =R20 -> 0 | BK20: =S20 -> 0 | BL20: =W20 -> 39 | BM20: =X20 -> 49 | BN20: =AB20 -> 0 | BO20: =AC20 -> 0 | BP20: =AG20 -> 0 | BQ20: =AH20 -> 0 | BR20: =AL20 -> 0 | BS20: =AM20 -> 0 | BT20: =AQ20 -> 0 | BU20: =AR20 -> 0 | BV20: =SUM(BF20:BU20) -> 221 | BX20: =SUM(J20:L20) -> 0 | BY20: =SUM(O20:Q20) -> 0 | BZ20: =SUM(T20:V20) -> 0 | CA20: =SUM(Y20:AA20) -> 0 | CB20: =SUM(AD20:AF20) -> 0 | CC20: =SUM(AI20:AK20) -> 0 | CD20: =SUM(AN20:AP20) -> 0 | CE20: =SUM(AS20:AU20) -> 0 | CF20: =SUM(BX20:CE20) -> 0 | CH20: =LARGE((BF20:BU20),1) -> 49 | CI20: =LARGE((BF20:BU20),2) -> 42 | CJ20: =LARGE((BF20:BU20),3) -> 39 | CK20: =LARGE((BF20:BU20),4) -> 36 | CL20: =LARGE((BF20:BU20),5) -> 33 | CM20: =LARGE((BF20:BU20),6) -> 22 | CN20: =LARGE((BF20:BU20),7) -> 0 | CO20: =LARGE((BF20:BU20),8) -> 0 | CP20: =LARGE((BF20:BU20),9) -> 0 | CQ20: =LARGE((BF20:BU20),10) -> 0 | CR20: =LARGE((BF20:BU20),11) -> 0 | CS20: =LARGE((BF20:BU20),12) -> 0 | CT20: =LARGE((BF20:BU20),13) -> 0 | CU20: =LARGE((BF20:BU20),14) -> 0 | CV20: =LARGE((BF20:BU20),15) -> 0 | CW20: =LARGE((BF20:BU20),16) -> 0 | CY20: =LARGE((BX20:CE20),1) -> 0 | CZ20: =LARGE((BX20:CE20),2) -> 0 | DA20: =LARGE((BX20:CE20),3) -> 0 | DB20: =LARGE((BX20:CE20),4) -> 0 | DC20: =LARGE((BX20:CE20),5) -> 0 | DD20: =LARGE((BX20:CE20),6) -> 0 | DE20: =LARGE((BX20:CE20),7) -> 0 | DF20: =LARGE((BX20:CE20),8) -> 0
A21: 18 | B21: 18 | C21: Ennio Antonio Desini | E21: 80 | F21: =E21+0 -> 80 | M21: 30 | N21: 49 | Q21: 3 | W21: 54 | X21: 67 | AV21: =SUM(BA21+BB21) -> 203 | AW21: =(AV20-AV21) -> 18 | BA21: =SUM(CH21:CP21) -> 200 | BB21: =SUM(CY21:DC21) -> 3 | BF21: =H21 -> 0 | BG21: =I21 -> 0 | BH21: =M21 -> 30 | BI21: =N21 -> 49 | BJ21: =R21 -> 0 | BK21: =S21 -> 0 | BL21: =W21 -> 54 | BM21: =X21 -> 67 | BN21: =AB21 -> 0 | BO21: =AC21 -> 0 | BP21: =AG21 -> 0 | BQ21: =AH21 -> 0 | BR21: =AL21 -> 0 | BS21: =AM21 -> 0 | BT21: =AQ21 -> 0 | BU21: =AR21 -> 0 | BV21: =SUM(BF21:BU21) -> 200 | BX21: =SUM(J21:L21) -> 0 | BY21: =SUM(O21:Q21) -> 3 | BZ21: =SUM(T21:V21) -> 0 | CA21: =SUM(Y21:AA21) -> 0 | CB21: =SUM(AD21:AF21) -> 0 | CC21: =SUM(AI21:AK21) -> 0 | CD21: =SUM(AN21:AP21) -> 0 | CE21: =SUM(AS21:AU21) -> 0 | CF21: =SUM(BX21:CE21) -> 3 | CH21: =LARGE((BF21:BU21),1) -> 67 | CI21: =LARGE((BF21:BU21),2) -> 54 | CJ21: =LARGE((BF21:BU21),3) -> 49 | CK21: =LARGE((BF21:BU21),4) -> 30 | CL21: =LARGE((BF21:BU21),5) -> 0 | CM21: =LARGE((BF21:BU21),6) -> 0 | CN21: =LARGE((BF21:BU21),7) -> 0 | CO21: =LARGE((BF21:BU21),8) -> 0 | CP21: =LARGE((BF21:BU21),9) -> 0 | CQ21: =LARGE((BF21:BU21),10) -> 0 | CR21: =LARGE((BF21:BU21),11) -> 0 | CS21: =LARGE((BF21:BU21),12) -> 0 | CT21: =LARGE((BF21:BU21),13) -> 0 | CU21: =LARGE((BF21:BU21),14) -> 0 | CV21: =LARGE((BF21:BU21),15) -> 0 | CW21: =LARGE((BF21:BU21),16) -> 0 | CY21: =LARGE((BX21:CE21),1) -> 3 | CZ21: =LARGE((BX21:CE21),2) -> 0 | DA21: =LARGE((BX21:CE21),3) -> 0 | DB21: =LARGE((BX21:CE21),4) -> 0 | DC21: =LARGE((BX21:CE21),5) -> 0 | DD21: =LARGE((BX21:CE21),6) -> 0 | DE21: =LARGE((BX21:CE21),7) -> 0 | DF21: =LARGE((BX21:CE21),8) -> 0
A22: 19 | B22: 19 | C22: Carlo Fanini | E22: 80 | F22: =E22+0 -> 80 | M22: 28 | N22: 28 | AB22: 39 | AC22: 30 | AG22: 36 | AH22: 42 | AV22: =SUM(BA22+BB22) -> 203 | AW22: =(AV21-AV22) -> 0 | BA22: =SUM(CH22:CP22) -> 203 | BB22: =SUM(CY22:DC22) -> 0 | BF22: =H22 -> 0 | BG22: =I22 -> 0 | BH22: =M22 -> 28 | BI22: =N22 -> 28 | BJ22: =R22 -> 0 | BK22: =S22 -> 0 | BL22: =W22 -> 0 | BM22: =X22 -> 0 | BN22: =AB22 -> 39 | BO22: =AC22 -> 30 | BP22: =AG22 -> 36 | BQ22: =AH22 -> 42 | BR22: =AL22 -> 0 | BS22: =AM22 -> 0 | BT22: =AQ22 -> 0 | BU22: =AR22 -> 0 | BV22: =SUM(BF22:BU22) -> 203 | BX22: =SUM(J22:L22) -> 0 | BY22: =SUM(O22:Q22) -> 0 | BZ22: =SUM(T22:V22) -> 0 | CA22: =SUM(Y22:AA22) -> 0 | CB22: =SUM(AD22:AF22) -> 0 | CC22: =SUM(AI22:AK22) -> 0 | CD22: =SUM(AN22:AP22) -> 0 | CE22: =SUM(AS22:AU22) -> 0 | CF22: =SUM(BX22:CE22) -> 0 | CH22: =LARGE((BF22:BU22),1) -> 42 | CI22: =LARGE((BF22:BU22),2) -> 39 | CJ22: =LARGE((BF22:BU22),3) -> 36 | CK22: =LARGE((BF22:BU22),4) -> 30 | CL22: =LARGE((BF22:BU22),5) -> 28 | CM22: =LARGE((BF22:BU22),6) -> 28 | CN22: =LARGE((BF22:BU22),7) -> 0 | CO22: =LARGE((BF22:BU22),8) -> 0 | CP22: =LARGE((BF22:BU22),9) -> 0 | CQ22: =LARGE((BF22:BU22),10) -> 0 | CR22: =LARGE((BF22:BU22),11) -> 0 | CS22: =LARGE((BF22:BU22),12) -> 0 | CT22: =LARGE((BF22:BU22),13) -> 0 | CU22: =LARGE((BF22:BU22),14) -> 0 | CV22: =LARGE((BF22:BU22),15) -> 0 | CW22: =LARGE((BF22:BU22),16) -> 0 | CY22: =LARGE((BX22:CE22),1) -> 0 | CZ22: =LARGE((BX22:CE22),2) -> 0 | DA22: =LARGE((BX22:CE22),3) -> 0 | DB22: =LARGE((BX22:CE22),4) -> 0 | DC22: =LARGE((BX22:CE22),5) -> 0 | DD22: =LARGE((BX22:CE22),6) -> 0 | DE22: =LARGE((BX22:CE22),7) -> 0 | DF22: =LARGE((BX22:CE22),8) -> 0
A23: 20 | B23: 20 | C23: Emad El Mattar | E23: 80 | F23: =E23+0 -> 80 | AB23: 28 | AC23: 26 | AL23: 30 | AM23: 33 | AV23: =SUM(BA23+BB23) -> 117 | AW23: =(AV22-AV23) -> 86 | BA23: =SUM(CH23:CP23) -> 117 | BB23: =SUM(CY23:DC23) -> 0 | BF23: =H23 -> 0 | BG23: =I23 -> 0 | BH23: =M23 -> 0 | BI23: =N23 -> 0 | BJ23: =R23 -> 0 | BK23: =S23 -> 0 | BL23: =W23 -> 0 | BM23: =X23 -> 0 | BN23: =AB23 -> 28 | BO23: =AC23 -> 26 | BP23: =AG23 -> 0 | BQ23: =AH23 -> 0 | BR23: =AL23 -> 30 | BS23: =AM23 -> 33 | BT23: =AQ23 -> 0 | BU23: =AR23 -> 0 | BV23: =SUM(BF23:BU23) -> 117 | BX23: =SUM(J23:L23) -> 0 | BY23: =SUM(O23:Q23) -> 0 | BZ23: =SUM(T23:V23) -> 0 | CA23: =SUM(Y23:AA23) -> 0 | CB23: =SUM(AD23:AF23) -> 0 | CC23: =SUM(AI23:AK23) -> 0 | CD23: =SUM(AN23:AP23) -> 0 | CE23: =SUM(AS23:AU23) -> 0 | CF23: =SUM(BX23:CE23) -> 0 | CH23: =LARGE((BF23:BU23),1) -> 33 | CI23: =LARGE((BF23:BU23),2) -> 30 | CJ23: =LARGE((BF23:BU23),3) -> 28 | CK23: =LARGE((BF23:BU23),4) -> 26 | CL23: =LARGE((BF23:BU23),5) -> 0 | CM23: =LARGE((BF23:BU23),6) -> 0 | CN23: =LARGE((BF23:BU23),7) -> 0 | CO23: =LARGE((BF23:BU23),8) -> 0 | CP23: =LARGE((BF23:BU23),9) -> 0 | CQ23: =LARGE((BF23:BU23),10) -> 0 | CR23: =LARGE((BF23:BU23),11) -> 0 | CS23: =LARGE((BF23:BU23),12) -> 0 | CT23: =LARGE((BF23:BU23),13) -> 0 | CU23: =LARGE((BF23:BU23),14) -> 0 | CV23: =LARGE((BF23:BU23),15) -> 0 | CW23: =LARGE((BF23:BU23),16) -> 0 | CY23: =LARGE((BX23:CE23),1) -> 0 | CZ23: =LARGE((BX23:CE23),2) -> 0 | DA23: =LARGE((BX23:CE23),3) -> 0 | DB23: =LARGE((BX23:CE23),4) -> 0 | DC23: =LARGE((BX23:CE23),5) -> 0 | DD23: =LARGE((BX23:CE23),6) -> 0 | DE23: =LARGE((BX23:CE23),7) -> 0 | DF23: =LARGE((BX23:CE23),8) -> 0
A24: 21 | B24: 21 | C24: Ilyas Shaikh | E24: 80 | F24: =E24+0 -> 80 | W24: 67 | X24: 42 | Z24: 3 | AV24: =SUM(BA24+BB24) -> 112 | AW24: =(AV23-AV24) -> 5 | BA24: =SUM(CH24:CP24) -> 109 | BB24: =SUM(CY24:DC24) -> 3 | BF24: =H24 -> 0 | BG24: =I24 -> 0 | BH24: =M24 -> 0 | BI24: =N24 -> 0 | BJ24: =R24 -> 0 | BK24: =S24 -> 0 | BL24: =W24 -> 67 | BM24: =X24 -> 42 | BN24: =AB24 -> 0 | BO24: =AC24 -> 0 | BP24: =AG24 -> 0 | BQ24: =AH24 -> 0 | BR24: =AL24 -> 0 | BS24: =AM24 -> 0 | BT24: =AQ24 -> 0 | BU24: =AR24 -> 0 | BV24: =SUM(BF24:BU24) -> 109 | BX24: =SUM(J24:L24) -> 0 | BY24: =SUM(O24:Q24) -> 0 | BZ24: =SUM(T24:V24) -> 0 | CA24: =SUM(Y24:AA24) -> 3 | CB24: =SUM(AD24:AF24) -> 0 | CC24: =SUM(AI24:AK24) -> 0 | CD24: =SUM(AN24:AP24) -> 0 | CE24: =SUM(AS24:AU24) -> 0 | CF24: =SUM(BX24:CE24) -> 3 | CH24: =LARGE((BF24:BU24),1) -> 67 | CI24: =LARGE((BF24:BU24),2) -> 42 | CJ24: =LARGE((BF24:BU24),3) -> 0 | CK24: =LARGE((BF24:BU24),4) -> 0 | CL24: =LARGE((BF24:BU24),5) -> 0 | CM24: =LARGE((BF24:BU24),6) -> 0 | CN24: =LARGE((BF24:BU24),7) -> 0 | CO24: =LARGE((BF24:BU24),8) -> 0 | CP24: =LARGE((BF24:BU24),9) -> 0 | CQ24: =LARGE((BF24:BU24),10) -> 0 | CR24: =LARGE((BF24:BU24),11) -> 0 | CS24: =LARGE((BF24:BU24),12) -> 0 | CT24: =LARGE((BF24:BU24),13) -> 0 | CU24: =LARGE((BF24:BU24),14) -> 0 | CV24: =LARGE((BF24:BU24),15) -> 0 | CW24: =LARGE((BF24:BU24),16) -> 0 | CY24: =LARGE((BX24:CE24),1) -> 3 | CZ24: =LARGE((BX24:CE24),2) -> 0 | DA24: =LARGE((BX24:CE24),3) -> 0 | DB24: =LARGE((BX24:CE24),4) -> 0 | DC24: =LARGE((BX24:CE24),5) -> 0 | DD24: =LARGE((BX24:CE24),6) -> 0 | DE24: =LARGE((BX24:CE24),7) -> 0 | DF24: =LARGE((BX24:CE24),8) -> 0
A25: 22 | B25: 22 | C25: Paul Holland | E25: 80 | F25: =E25+0 -> 80 | H25: 24 | I25: 24 | AL25: 26 | AM25: 28 | AV25: =SUM(BA25+BB25) -> 102 | AW25: =(AV24-AV25) -> 10 | BA25: =SUM(CH25:CP25) -> 102 | BB25: =SUM(CY25:DC25) -> 0 | BF25: =H25 -> 24 | BG25: =I25 -> 24 | BH25: =M25 -> 0 | BI25: =N25 -> 0 | BJ25: =R25 -> 0 | BK25: =S25 -> 0 | BL25: =W25 -> 0 | BM25: =X25 -> 0 | BN25: =AB25 -> 0 | BO25: =AC25 -> 0 | BP25: =AG25 -> 0 | BQ25: =AH25 -> 0 | BR25: =AL25 -> 26 | BS25: =AM25 -> 28 | BT25: =AQ25 -> 0 | BU25: =AR25 -> 0 | BV25: =SUM(BF25:BU25) -> 102 | BX25: =SUM(J25:L25) -> 0 | BY25: =SUM(O25:Q25) -> 0 | BZ25: =SUM(T25:V25) -> 0 | CA25: =SUM(Y25:AA25) -> 0 | CB25: =SUM(AD25:AF25) -> 0 | CC25: =SUM(AI25:AK25) -> 0 | CD25: =SUM(AN25:AP25) -> 0 | CE25: =SUM(AS25:AU25) -> 0 | CF25: =SUM(BX25:CE25) -> 0 | CH25: =LARGE((BF25:BU25),1) -> 28 | CI25: =LARGE((BF25:BU25),2) -> 26 | CJ25: =LARGE((BF25:BU25),3) -> 24 | CK25: =LARGE((BF25:BU25),4) -> 24 | CL25: =LARGE((BF25:BU25),5) -> 0 | CM25: =LARGE((BF25:BU25),6) -> 0 | CN25: =LARGE((BF25:BU25),7) -> 0 | CO25: =LARGE((BF25:BU25),8) -> 0 | CP25: =LARGE((BF25:BU25),9) -> 0 | CQ25: =LARGE((BF25:BU25),10) -> 0 | CR25: =LARGE((BF25:BU25),11) -> 0 | CS25: =LARGE((BF25:BU25),12) -> 0 | CT25: =LARGE((BF25:BU25),13) -> 0 | CU25: =LARGE((BF25:BU25),14) -> 0 | CV25: =LARGE((BF25:BU25),15) -> 0 | CW25: =LARGE((BF25:BU25),16) -> 0 | CY25: =LARGE((BX25:CE25),1) -> 0 | CZ25: =LARGE((BX25:CE25),2) -> 0 | DA25: =LARGE((BX25:CE25),3) -> 0 | DB25: =LARGE((BX25:CE25),4) -> 0 | DC25: =LARGE((BX25:CE25),5) -> 0 | DD25: =LARGE((BX25:CE25),6) -> 0 | DE25: =LARGE((BX25:CE25),7) -> 0 | DF25: =LARGE((BX25:CE25),8) -> 0
B26: 23 | C26: Zuhier Zulkifli | E26: 80 | F26: =E26+0 -> 80 | AQ26: 45 | AR26: 49 | AV26: =SUM(BA26+BB26) -> 94 | AW26: =(AV25-AV26) -> 8 | BA26: =SUM(CH26:CP26) -> 94 | BB26: =SUM(CY26:DC26) -> 0 | BF26: =H26 -> 0 | BG26: =I26 -> 0 | BH26: =M26 -> 0 | BI26: =N26 -> 0 | BJ26: =R26 -> 0 | BK26: =S26 -> 0 | BL26: =W26 -> 0 | BM26: =X26 -> 0 | BN26: =AB26 -> 0 | BO26: =AC26 -> 0 | BP26: =AG26 -> 0 | BQ26: =AH26 -> 0 | BR26: =AL26 -> 0 | BS26: =AM26 -> 0 | BT26: =AQ26 -> 45 | BU26: =AR26 -> 49 | BV26: =SUM(BF26:BU26) -> 94 | BX26: =SUM(J26:L26) -> 0 | BY26: =SUM(O26:Q26) -> 0 | BZ26: =SUM(T26:V26) -> 0 | CA26: =SUM(Y26:AA26) -> 0 | CB26: =SUM(AD26:AF26) -> 0 | CC26: =SUM(AI26:AK26) -> 0 | CD26: =SUM(AN26:AP26) -> 0 | CE26: =SUM(AS26:AU26) -> 0 | CF26: =SUM(BX26:CE26) -> 0 | CH26: =LARGE((BF26:BU26),1) -> 49 | CI26: =LARGE((BF26:BU26),2) -> 45 | CJ26: =LARGE((BF26:BU26),3) -> 0 | CK26: =LARGE((BF26:BU26),4) -> 0 | CL26: =LARGE((BF26:BU26),5) -> 0 | CM26: =LARGE((BF26:BU26),6) -> 0 | CN26: =LARGE((BF26:BU26),7) -> 0 | CO26: =LARGE((BF26:BU26),8) -> 0 | CP26: =LARGE((BF26:BU26),9) -> 0 | CQ26: =LARGE((BF26:BU26),10) -> 0 | CR26: =LARGE((BF26:BU26),11) -> 0 | CS26: =LARGE((BF26:BU26),12) -> 0 | CT26: =LARGE((BF26:BU26),13) -> 0 | CU26: =LARGE((BF26:BU26),14) -> 0 | CV26: =LARGE((BF26:BU26),15) -> 0 | CW26: =LARGE((BF26:BU26),16) -> 0 | CY26: =LARGE((BX26:CE26),1) -> 0 | CZ26: =LARGE((BX26:CE26),2) -> 0 | DA26: =LARGE((BX26:CE26),3) -> 0 | DB26: =LARGE((BX26:CE26),4) -> 0 | DC26: =LARGE((BX26:CE26),5) -> 0 | DD26: =LARGE((BX26:CE26),6) -> 0 | DE26: =LARGE((BX26:CE26),7) -> 0 | DF26: =LARGE((BX26:CE26),8) -> 0
A27: 23 | B27: 24 | C27: Matija Babic | E27: 80 | F27: =E27+0 -> 80 | H27: 26 | I27: 54 | AV27: =SUM(BA27+BB27) -> 80 | AW27: =(AV26-AV27) -> 14 | BA27: =SUM(CH27:CP27) -> 80 | BB27: =SUM(CY27:DC27) -> 0 | BF27: =H27 -> 26 | BG27: =I27 -> 54 | BH27: =M27 -> 0 | BI27: =N27 -> 0 | BJ27: =R27 -> 0 | BK27: =S27 -> 0 | BL27: =W27 -> 0 | BM27: =X27 -> 0 | BN27: =AB27 -> 0 | BO27: =AC27 -> 0 | BP27: =AG27 -> 0 | BQ27: =AH27 -> 0 | BR27: =AL27 -> 0 | BS27: =AM27 -> 0 | BT27: =AQ27 -> 0 | BU27: =AR27 -> 0 | BV27: =SUM(BF27:BU27) -> 80 | BX27: =SUM(J27:L27) -> 0 | BY27: =SUM(O27:Q27) -> 0 | BZ27: =SUM(T27:V27) -> 0 | CA27: =SUM(Y27:AA27) -> 0 | CB27: =SUM(AD27:AF27) -> 0 | CC27: =SUM(AI27:AK27) -> 0 | CD27: =SUM(AN27:AP27) -> 0 | CE27: =SUM(AS27:AU27) -> 0 | CF27: =SUM(BX27:CE27) -> 0 | CH27: =LARGE((BF27:BU27),1) -> 54 | CI27: =LARGE((BF27:BU27),2) -> 26 | CJ27: =LARGE((BF27:BU27),3) -> 0 | CK27: =LARGE((BF27:BU27),4) -> 0 | CL27: =LARGE((BF27:BU27),5) -> 0 | CM27: =LARGE((BF27:BU27),6) -> 0 | CN27: =LARGE((BF27:BU27),7) -> 0 | CO27: =LARGE((BF27:BU27),8) -> 0 | CP27: =LARGE((BF27:BU27),9) -> 0 | CQ27: =LARGE((BF27:BU27),10) -> 0 | CR27: =LARGE((BF27:BU27),11) -> 0 | CS27: =LARGE((BF27:BU27),12) -> 0 | CT27: =LARGE((BF27:BU27),13) -> 0 | CU27: =LARGE((BF27:BU27),14) -> 0 | CV27: =LARGE((BF27:BU27),15) -> 0 | CW27: =LARGE((BF27:BU27),16) -> 0 | CY27: =LARGE((BX27:CE27),1) -> 0 | CZ27: =LARGE((BX27:CE27),2) -> 0 | DA27: =LARGE((BX27:CE27),3) -> 0 | DB27: =LARGE((BX27:CE27),4) -> 0 | DC27: =LARGE((BX27:CE27),5) -> 0 | DD27: =LARGE((BX27:CE27),6) -> 0 | DE27: =LARGE((BX27:CE27),7) -> 0 | DF27: =LARGE((BX27:CE27),8) -> 0
A28: 24 | B28: 25 | C28: Hussain Alkhayat | E28: 80 | F28: =E28+0 -> 80 | M28: 36 | N28: 42 | AV28: =SUM(BA28+BB28) -> 78 | AW28: =(AV27-AV28) -> 2 | BA28: =SUM(CH28:CP28) -> 78 | BB28: =SUM(CY28:DC28) -> 0 | BF28: =H28 -> 0 | BG28: =I28 -> 0 | BH28: =M28 -> 36 | BI28: =N28 -> 42 | BJ28: =R28 -> 0 | BK28: =S28 -> 0 | BL28: =W28 -> 0 | BM28: =X28 -> 0 | BN28: =AB28 -> 0 | BO28: =AC28 -> 0 | BP28: =AG28 -> 0 | BQ28: =AH28 -> 0 | BR28: =AL28 -> 0 | BS28: =AM28 -> 0 | BT28: =AQ28 -> 0 | BU28: =AR28 -> 0 | BV28: =SUM(BF28:BU28) -> 78 | BX28: =SUM(J28:L28) -> 0 | BY28: =SUM(O28:Q28) -> 0 | BZ28: =SUM(T28:V28) -> 0 | CA28: =SUM(Y28:AA28) -> 0 | CB28: =SUM(AD28:AF28) -> 0 | CC28: =SUM(AI28:AK28) -> 0 | CD28: =SUM(AN28:AP28) -> 0 | CE28: =SUM(AS28:AU28) -> 0 | CF28: =SUM(BX28:CE28) -> 0 | CH28: =LARGE((BF28:BU28),1) -> 42 | CI28: =LARGE((BF28:BU28),2) -> 36 | CJ28: =LARGE((BF28:BU28),3) -> 0 | CK28: =LARGE((BF28:BU28),4) -> 0 | CL28: =LARGE((BF28:BU28),5) -> 0 | CM28: =LARGE((BF28:BU28),6) -> 0 | CN28: =LARGE((BF28:BU28),7) -> 0 | CO28: =LARGE((BF28:BU28),8) -> 0 | CP28: =LARGE((BF28:BU28),9) -> 0 | CQ28: =LARGE((BF28:BU28),10) -> 0 | CR28: =LARGE((BF28:BU28),11) -> 0 | CS28: =LARGE((BF28:BU28),12) -> 0 | CT28: =LARGE((BF28:BU28),13) -> 0 | CU28: =LARGE((BF28:BU28),14) -> 0 | CV28: =LARGE((BF28:BU28),15) -> 0 | CW28: =LARGE((BF28:BU28),16) -> 0 | CY28: =LARGE((BX28:CE28),1) -> 0 | CZ28: =LARGE((BX28:CE28),2) -> 0 | DA28: =LARGE((BX28:CE28),3) -> 0 | DB28: =LARGE((BX28:CE28),4) -> 0 | DC28: =LARGE((BX28:CE28),5) -> 0 | DD28: =LARGE((BX28:CE28),6) -> 0 | DE28: =LARGE((BX28:CE28),7) -> 0 | DF28: =LARGE((BX28:CE28),8) -> 0
A29: 25 | B29: 26 | C29: Lucas Metro | E29: 80 | F29: =E29+0 -> 80 | R29: 36 | S29: 33 | AV29: =SUM(BA29+BB29) -> 69 | AW29: =(AV28-AV29) -> 9 | BA29: =SUM(CH29:CP29) -> 69 | BB29: =SUM(CY29:DC29) -> 0 | BF29: =H29 -> 0 | BG29: =I29 -> 0 | BH29: =M29 -> 0 | BI29: =N29 -> 0 | BJ29: =R29 -> 36 | BK29: =S29 -> 33 | BL29: =W29 -> 0 | BM29: =X29 -> 0 | BN29: =AB29 -> 0 | BO29: =AC29 -> 0 | BP29: =AG29 -> 0 | BQ29: =AH29 -> 0 | BR29: =AL29 -> 0 | BS29: =AM29 -> 0 | BT29: =AQ29 -> 0 | BU29: =AR29 -> 0 | BV29: =SUM(BF29:BU29) -> 69 | BX29: =SUM(J29:L29) -> 0 | BY29: =SUM(O29:Q29) -> 0 | BZ29: =SUM(T29:V29) -> 0 | CA29: =SUM(Y29:AA29) -> 0 | CB29: =SUM(AD29:AF29) -> 0 | CC29: =SUM(AI29:AK29) -> 0 | CD29: =SUM(AN29:AP29) -> 0 | CE29: =SUM(AS29:AU29) -> 0 | CF29: =SUM(BX29:CE29) -> 0 | CH29: =LARGE((BF29:BU29),1) -> 36 | CI29: =LARGE((BF29:BU29),2) -> 33 | CJ29: =LARGE((BF29:BU29),3) -> 0 | CK29: =LARGE((BF29:BU29),4) -> 0 | CL29: =LARGE((BF29:BU29),5) -> 0 | CM29: =LARGE((BF29:BU29),6) -> 0 | CN29: =LARGE((BF29:BU29),7) -> 0 | CO29: =LARGE((BF29:BU29),8) -> 0 | CP29: =LARGE((BF29:BU29),9) -> 0 | CQ29: =LARGE((BF29:BU29),10) -> 0 | CR29: =LARGE((BF29:BU29),11) -> 0 | CS29: =LARGE((BF29:BU29),12) -> 0 | CT29: =LARGE((BF29:BU29),13) -> 0 | CU29: =LARGE((BF29:BU29),14) -> 0 | CV29: =LARGE((BF29:BU29),15) -> 0 | CW29: =LARGE((BF29:BU29),16) -> 0 | CY29: =LARGE((BX29:CE29),1) -> 0 | CZ29: =LARGE((BX29:CE29),2) -> 0 | DA29: =LARGE((BX29:CE29),3) -> 0 | DB29: =LARGE((BX29:CE29),4) -> 0 | DC29: =LARGE((BX29:CE29),5) -> 0 | DD29: =LARGE((BX29:CE29),6) -> 0 | DE29: =LARGE((BX29:CE29),7) -> 0 | DF29: =LARGE((BX29:CE29),8) -> 0
A30: 26 | B30: 27 | C30: Teresa Wojtanka | E30: 80 | F30: =E30+0 -> 80 | AL30: 33 | AM30: 36 | AV30: =SUM(BA30+BB30) -> 69 | AW30: =(AV29-AV30) -> 0 | BA30: =SUM(CH30:CP30) -> 69 | BB30: =SUM(CY30:DC30) -> 0 | BF30: =H30 -> 0 | BG30: =I30 -> 0 | BH30: =M30 -> 0 | BI30: =N30 -> 0 | BJ30: =R30 -> 0 | BK30: =S30 -> 0 | BL30: =W30 -> 0 | BM30: =X30 -> 0 | BN30: =AB30 -> 0 | BO30: =AC30 -> 0 | BP30: =AG30 -> 0 | BQ30: =AH30 -> 0 | BR30: =AL30 -> 33 | BS30: =AM30 -> 36 | BT30: =AQ30 -> 0 | BU30: =AR30 -> 0 | BV30: =SUM(BF30:BU30) -> 69 | BX30: =SUM(J30:L30) -> 0 | BY30: =SUM(O30:Q30) -> 0 | BZ30: =SUM(T30:V30) -> 0 | CA30: =SUM(Y30:AA30) -> 0 | CB30: =SUM(AD30:AF30) -> 0 | CC30: =SUM(AI30:AK30) -> 0 | CD30: =SUM(AN30:AP30) -> 0 | CE30: =SUM(AS30:AU30) -> 0 | CF30: =SUM(BX30:CE30) -> 0 | CH30: =LARGE((BF30:BU30),1) -> 36 | CI30: =LARGE((BF30:BU30),2) -> 33 | CJ30: =LARGE((BF30:BU30),3) -> 0 | CK30: =LARGE((BF30:BU30),4) -> 0 | CL30: =LARGE((BF30:BU30),5) -> 0 | CM30: =LARGE((BF30:BU30),6) -> 0 | CN30: =LARGE((BF30:BU30),7) -> 0 | CO30: =LARGE((BF30:BU30),8) -> 0 | CP30: =LARGE((BF30:BU30),9) -> 0 | CQ30: =LARGE((BF30:BU30),10) -> 0 | CR30: =LARGE((BF30:BU30),11) -> 0 | CS30: =LARGE((BF30:BU30),12) -> 0 | CT30: =LARGE((BF30:BU30),13) -> 0 | CU30: =LARGE((BF30:BU30),14) -> 0 | CV30: =LARGE((BF30:BU30),15) -> 0 | CW30: =LARGE((BF30:BU30),16) -> 0 | CY30: =LARGE((BX30:CE30),1) -> 0 | CZ30: =LARGE((BX30:CE30),2) -> 0 | DA30: =LARGE((BX30:CE30),3) -> 0 | DB30: =LARGE((BX30:CE30),4) -> 0 | DC30: =LARGE((BX30:CE30),5) -> 0 | DD30: =LARGE((BX30:CE30),6) -> 0 | DE30: =LARGE((BX30:CE30),7) -> 0 | DF30: =LARGE((BX30:CE30),8) -> 0
A31: 27 | B31: 28 | C31: Sultan Khalifa | E31: 80 | F31: =E31+0 -> 80 | AL31: 39 | AM31: 26 | AV31: =SUM(BA31+BB31) -> 65 | AW31: =(AV30-AV31) -> 4 | BA31: =SUM(CH31:CP31) -> 65 | BB31: =SUM(CY31:DC31) -> 0 | BF31: =H31 -> 0 | BG31: =I31 -> 0 | BH31: =M31 -> 0 | BI31: =N31 -> 0 | BJ31: =R31 -> 0 | BK31: =S31 -> 0 | BL31: =W31 -> 0 | BM31: =X31 -> 0 | BN31: =AB31 -> 0 | BO31: =AC31 -> 0 | BP31: =AG31 -> 0 | BQ31: =AH31 -> 0 | BR31: =AL31 -> 39 | BS31: =AM31 -> 26 | BT31: =AQ31 -> 0 | BU31: =AR31 -> 0 | BV31: =SUM(BF31:BU31) -> 65 | BX31: =SUM(J31:L31) -> 0 | BY31: =SUM(O31:Q31) -> 0 | BZ31: =SUM(T31:V31) -> 0 | CA31: =SUM(Y31:AA31) -> 0 | CB31: =SUM(AD31:AF31) -> 0 | CC31: =SUM(AI31:AK31) -> 0 | CD31: =SUM(AN31:AP31) -> 0 | CE31: =SUM(AS31:AU31) -> 0 | CF31: =SUM(BX31:CE31) -> 0 | CH31: =LARGE((BF31:BU31),1) -> 39 | CI31: =LARGE((BF31:BU31),2) -> 26 | CJ31: =LARGE((BF31:BU31),3) -> 0 | CK31: =LARGE((BF31:BU31),4) -> 0 | CL31: =LARGE((BF31:BU31),5) -> 0 | CM31: =LARGE((BF31:BU31),6) -> 0 | CN31: =LARGE((BF31:BU31),7) -> 0 | CO31: =LARGE((BF31:BU31),8) -> 0 | CP31: =LARGE((BF31:BU31),9) -> 0 | CQ31: =LARGE((BF31:BU31),10) -> 0 | CR31: =LARGE((BF31:BU31),11) -> 0 | CS31: =LARGE((BF31:BU31),12) -> 0 | CT31: =LARGE((BF31:BU31),13) -> 0 | CU31: =LARGE((BF31:BU31),14) -> 0 | CV31: =LARGE((BF31:BU31),15) -> 0 | CW31: =LARGE((BF31:BU31),16) -> 0 | CY31: =LARGE((BX31:CE31),1) -> 0 | CZ31: =LARGE((BX31:CE31),2) -> 0 | DA31: =LARGE((BX31:CE31),3) -> 0 | DB31: =LARGE((BX31:CE31),4) -> 0 | DC31: =LARGE((BX31:CE31),5) -> 0 | DD31: =LARGE((BX31:CE31),6) -> 0 | DE31: =LARGE((BX31:CE31),7) -> 0 | DF31: =LARGE((BX31:CE31),8) -> 0
A32: 28 | B32: 29 | C32: Chandrashekar Chanagonda | E32: 80 | F32: =E32+0 -> 80 | R32: 33 | S32: 30 | AV32: =SUM(BA32+BB32) -> 63 | AW32: =(AV31-AV32) -> 2 | BA32: =SUM(CH32:CP32) -> 63 | BB32: =SUM(CY32:DC32) -> 0 | BF32: =H32 -> 0 | BG32: =I32 -> 0 | BH32: =M32 -> 0 | BI32: =N32 -> 0 | BJ32: =R32 -> 33 | BK32: =S32 -> 30 | BL32: =W32 -> 0 | BM32: =X32 -> 0 | BN32: =AB32 -> 0 | BO32: =AC32 -> 0 | BP32: =AG32 -> 0 | BQ32: =AH32 -> 0 | BR32: =AL32 -> 0 | BS32: =AM32 -> 0 | BT32: =AQ32 -> 0 | BU32: =AR32 -> 0 | BV32: =SUM(BF32:BU32) -> 63 | BX32: =SUM(J32:L32) -> 0 | BY32: =SUM(O32:Q32) -> 0 | BZ32: =SUM(T32:V32) -> 0 | CA32: =SUM(Y32:AA32) -> 0 | CB32: =SUM(AD32:AF32) -> 0 | CC32: =SUM(AI32:AK32) -> 0 | CD32: =SUM(AN32:AP32) -> 0 | CE32: =SUM(AS32:AU32) -> 0 | CF32: =SUM(BX32:CE32) -> 0 | CH32: =LARGE((BF32:BU32),1) -> 33 | CI32: =LARGE((BF32:BU32),2) -> 30 | CJ32: =LARGE((BF32:BU32),3) -> 0 | CK32: =LARGE((BF32:BU32),4) -> 0 | CL32: =LARGE((BF32:BU32),5) -> 0 | CM32: =LARGE((BF32:BU32),6) -> 0 | CN32: =LARGE((BF32:BU32),7) -> 0 | CO32: =LARGE((BF32:BU32),8) -> 0 | CP32: =LARGE((BF32:BU32),9) -> 0 | CQ32: =LARGE((BF32:BU32),10) -> 0 | CR32: =LARGE((BF32:BU32),11) -> 0 | CS32: =LARGE((BF32:BU32),12) -> 0 | CT32: =LARGE((BF32:BU32),13) -> 0 | CU32: =LARGE((BF32:BU32),14) -> 0 | CV32: =LARGE((BF32:BU32),15) -> 0 | CW32: =LARGE((BF32:BU32),16) -> 0 | CY32: =LARGE((BX32:CE32),1) -> 0 | CZ32: =LARGE((BX32:CE32),2) -> 0 | DA32: =LARGE((BX32:CE32),3) -> 0 | DB32: =LARGE((BX32:CE32),4) -> 0 | DC32: =LARGE((BX32:CE32),5) -> 0 | DD32: =LARGE((BX32:CE32),6) -> 0 | DE32: =LARGE((BX32:CE32),7) -> 0 | DF32: =LARGE((BX32:CE32),8) -> 0
A33: 29 | B33: 30 | C33: Patricio Rosello | E33: 80 | F33: =E33+0 -> 80 | H33: 28 | I33: 26 | AV33: =SUM(BA33+BB33) -> 54 | AW33: =(AV32-AV33) -> 9 | BA33: =SUM(CH33:CP33) -> 54 | BB33: =SUM(CY33:DC33) -> 0 | BF33: =H33 -> 28 | BG33: =I33 -> 26 | BH33: =M33 -> 0 | BI33: =N33 -> 0 | BJ33: =R33 -> 0 | BK33: =S33 -> 0 | BL33: =W33 -> 0 | BM33: =X33 -> 0 | BN33: =AB33 -> 0 | BO33: =AC33 -> 0 | BP33: =AG33 -> 0 | BQ33: =AH33 -> 0 | BR33: =AL33 -> 0 | BS33: =AM33 -> 0 | BT33: =AQ33 -> 0 | BU33: =AR33 -> 0 | BV33: =SUM(BF33:BU33) -> 54 | BX33: =SUM(J33:L33) -> 0 | BY33: =SUM(O33:Q33) -> 0 | BZ33: =SUM(T33:V33) -> 0 | CA33: =SUM(Y33:AA33) -> 0 | CB33: =SUM(AD33:AF33) -> 0 | CC33: =SUM(AI33:AK33) -> 0 | CD33: =SUM(AN33:AP33) -> 0 | CE33: =SUM(AS33:AU33) -> 0 | CF33: =SUM(BX33:CE33) -> 0 | CH33: =LARGE((BF33:BU33),1) -> 28 | CI33: =LARGE((BF33:BU33),2) -> 26 | CJ33: =LARGE((BF33:BU33),3) -> 0 | CK33: =LARGE((BF33:BU33),4) -> 0 | CL33: =LARGE((BF33:BU33),5) -> 0 | CM33: =LARGE((BF33:BU33),6) -> 0 | CN33: =LARGE((BF33:BU33),7) -> 0 | CO33: =LARGE((BF33:BU33),8) -> 0 | CP33: =LARGE((BF33:BU33),9) -> 0 | CQ33: =LARGE((BF33:BU33),10) -> 0 | CR33: =LARGE((BF33:BU33),11) -> 0 | CS33: =LARGE((BF33:BU33),12) -> 0 | CT33: =LARGE((BF33:BU33),13) -> 0 | CU33: =LARGE((BF33:BU33),14) -> 0 | CV33: =LARGE((BF33:BU33),15) -> 0 | CW33: =LARGE((BF33:BU33),16) -> 0 | CY33: =LARGE((BX33:CE33),1) -> 0 | CZ33: =LARGE((BX33:CE33),2) -> 0 | DA33: =LARGE((BX33:CE33),3) -> 0 | DB33: =LARGE((BX33:CE33),4) -> 0 | DC33: =LARGE((BX33:CE33),5) -> 0 | DD33: =LARGE((BX33:CE33),6) -> 0 | DE33: =LARGE((BX33:CE33),7) -> 0 | DF33: =LARGE((BX33:CE33),8) -> 0
A34: 30 | B34: 31 | C34: Matteo Vanucci | E34: 80 | F34: =E34+0 -> 80 | M34: 26 | N34: 26 | AV34: =SUM(BA34+BB34) -> 52 | AW34: =(AV33-AV34) -> 2 | BA34: =SUM(CH34:CP34) -> 52 | BB34: =SUM(CY34:DC34) -> 0 | BF34: =H34 -> 0 | BG34: =I34 -> 0 | BH34: =M34 -> 26 | BI34: =N34 -> 26 | BJ34: =R34 -> 0 | BK34: =S34 -> 0 | BL34: =W34 -> 0 | BM34: =X34 -> 0 | BN34: =AB34 -> 0 | BO34: =AC34 -> 0 | BP34: =AG34 -> 0 | BQ34: =AH34 -> 0 | BR34: =AL34 -> 0 | BS34: =AM34 -> 0 | BT34: =AQ34 -> 0 | BU34: =AR34 -> 0 | BV34: =SUM(BF34:BU34) -> 52 | BX34: =SUM(J34:L34) -> 0 | BY34: =SUM(O34:Q34) -> 0 | BZ34: =SUM(T34:V34) -> 0 | CA34: =SUM(Y34:AA34) -> 0 | CB34: =SUM(AD34:AF34) -> 0 | CC34: =SUM(AI34:AK34) -> 0 | CD34: =SUM(AN34:AP34) -> 0 | CE34: =SUM(AS34:AU34) -> 0 | CF34: =SUM(BX34:CE34) -> 0 | CH34: =LARGE((BF34:BU34),1) -> 26 | CI34: =LARGE((BF34:BU34),2) -> 26 | CJ34: =LARGE((BF34:BU34),3) -> 0 | CK34: =LARGE((BF34:BU34),4) -> 0 | CL34: =LARGE((BF34:BU34),5) -> 0 | CM34: =LARGE((BF34:BU34),6) -> 0 | CN34: =LARGE((BF34:BU34),7) -> 0 | CO34: =LARGE((BF34:BU34),8) -> 0 | CP34: =LARGE((BF34:BU34),9) -> 0 | CQ34: =LARGE((BF34:BU34),10) -> 0 | CR34: =LARGE((BF34:BU34),11) -> 0 | CS34: =LARGE((BF34:BU34),12) -> 0 | CT34: =LARGE((BF34:BU34),13) -> 0 | CU34: =LARGE((BF34:BU34),14) -> 0 | CV34: =LARGE((BF34:BU34),15) -> 0 | CW34: =LARGE((BF34:BU34),16) -> 0 | CY34: =LARGE((BX34:CE34),1) -> 0 | CZ34: =LARGE((BX34:CE34),2) -> 0 | DA34: =LARGE((BX34:CE34),3) -> 0 | DB34: =LARGE((BX34:CE34),4) -> 0 | DC34: =LARGE((BX34:CE34),5) -> 0 | DD34: =LARGE((BX34:CE34),6) -> 0 | DE34: =LARGE((BX34:CE34),7) -> 0 | DF34: =LARGE((BX34:CE34),8) -> 0
A35: 31 | B35: 32 | C35: Khurshed Messman | E35: 80 | F35: =E35+0 -> 80 | AB35: 26 | AC35: 24 | AV35: =SUM(BA35+BB35) -> 50 | AW35: =(AV34-AV35) -> 2 | BA35: =SUM(CH35:CP35) -> 50 | BB35: =SUM(CY35:DC35) -> 0 | BF35: =H35 -> 0 | BG35: =I35 -> 0 | BH35: =M35 -> 0 | BI35: =N35 -> 0 | BJ35: =R35 -> 0 | BK35: =S35 -> 0 | BL35: =W35 -> 0 | BM35: =X35 -> 0 | BN35: =AB35 -> 26 | BO35: =AC35 -> 24 | BP35: =AG35 -> 0 | BQ35: =AH35 -> 0 | BR35: =AL35 -> 0 | BS35: =AM35 -> 0 | BT35: =AQ35 -> 0 | BU35: =AR35 -> 0 | BV35: =SUM(BF35:BU35) -> 50 | BX35: =SUM(J35:L35) -> 0 | BY35: =SUM(O35:Q35) -> 0 | BZ35: =SUM(T35:V35) -> 0 | CA35: =SUM(Y35:AA35) -> 0 | CB35: =SUM(AD35:AF35) -> 0 | CC35: =SUM(AI35:AK35) -> 0 | CD35: =SUM(AN35:AP35) -> 0 | CE35: =SUM(AS35:AU35) -> 0 | CF35: =SUM(BX35:CE35) -> 0 | CH35: =LARGE((BF35:BU35),1) -> 26 | CI35: =LARGE((BF35:BU35),2) -> 24 | CJ35: =LARGE((BF35:BU35),3) -> 0 | CK35: =LARGE((BF35:BU35),4) -> 0 | CL35: =LARGE((BF35:BU35),5) -> 0 | CM35: =LARGE((BF35:BU35),6) -> 0 | CN35: =LARGE((BF35:BU35),7) -> 0 | CO35: =LARGE((BF35:BU35),8) -> 0 | CP35: =LARGE((BF35:BU35),9) -> 0 | CQ35: =LARGE((BF35:BU35),10) -> 0 | CR35: =LARGE((BF35:BU35),11) -> 0 | CS35: =LARGE((BF35:BU35),12) -> 0 | CT35: =LARGE((BF35:BU35),13) -> 0 | CU35: =LARGE((BF35:BU35),14) -> 0 | CV35: =LARGE((BF35:BU35),15) -> 0 | CW35: =LARGE((BF35:BU35),16) -> 0 | CY35: =LARGE((BX35:CE35),1) -> 0 | CZ35: =LARGE((BX35:CE35),2) -> 0 | DA35: =LARGE((BX35:CE35),3) -> 0 | DB35: =LARGE((BX35:CE35),4) -> 0 | DC35: =LARGE((BX35:CE35),5) -> 0 | DD35: =LARGE((BX35:CE35),6) -> 0 | DE35: =LARGE((BX35:CE35),7) -> 0 | DF35: =LARGE((BX35:CE35),8) -> 0
A36: 32 | B36: 33 | C36: Tashi Namja Bhutia | E36: 80 | F36: =E36+0 -> 80 | W36: 20 | X36: 24 | AV36: =SUM(BA36+BB36) -> 44 | AW36: =(AV35-AV36) -> 6 | BA36: =SUM(CH36:CP36) -> 44 | BB36: =SUM(CY36:DC36) -> 0 | BF36: =H36 -> 0 | BG36: =I36 -> 0 | BH36: =M36 -> 0 | BI36: =N36 -> 0 | BJ36: =R36 -> 0 | BK36: =S36 -> 0 | BL36: =W36 -> 20 | BM36: =X36 -> 24 | BN36: =AB36 -> 0 | BO36: =AC36 -> 0 | BP36: =AG36 -> 0 | BQ36: =AH36 -> 0 | BR36: =AL36 -> 0 | BS36: =AM36 -> 0 | BT36: =AQ36 -> 0 | BU36: =AR36 -> 0 | BV36: =SUM(BF36:BU36) -> 44 | BX36: =SUM(J36:L36) -> 0 | BY36: =SUM(O36:Q36) -> 0 | BZ36: =SUM(T36:V36) -> 0 | CA36: =SUM(Y36:AA36) -> 0 | CB36: =SUM(AD36:AF36) -> 0 | CC36: =SUM(AI36:AK36) -> 0 | CD36: =SUM(AN36:AP36) -> 0 | CE36: =SUM(AS36:AU36) -> 0 | CF36: =SUM(BX36:CE36) -> 0 | CH36: =LARGE((BF36:BU36),1) -> 24 | CI36: =LARGE((BF36:BU36),2) -> 20 | CJ36: =LARGE((BF36:BU36),3) -> 0 | CK36: =LARGE((BF36:BU36),4) -> 0 | CL36: =LARGE((BF36:BU36),5) -> 0 | CM36: =LARGE((BF36:BU36),6) -> 0 | CN36: =LARGE((BF36:BU36),7) -> 0 | CO36: =LARGE((BF36:BU36),8) -> 0 | CP36: =LARGE((BF36:BU36),9) -> 0 | CQ36: =LARGE((BF36:BU36),10) -> 0 | CR36: =LARGE((BF36:BU36),11) -> 0 | CS36: =LARGE((BF36:BU36),12) -> 0 | CT36: =LARGE((BF36:BU36),13) -> 0 | CU36: =LARGE((BF36:BU36),14) -> 0 | CV36: =LARGE((BF36:BU36),15) -> 0 | CW36: =LARGE((BF36:BU36),16) -> 0 | CY36: =LARGE((BX36:CE36),1) -> 0 | CZ36: =LARGE((BX36:CE36),2) -> 0 | DA36: =LARGE((BX36:CE36),3) -> 0 | DB36: =LARGE((BX36:CE36),4) -> 0 | DC36: =LARGE((BX36:CE36),5) -> 0 | DD36: =LARGE((BX36:CE36),6) -> 0 | DE36: =LARGE((BX36:CE36),7) -> 0 | DF36: =LARGE((BX36:CE36),8) -> 0
A37: 33 | B37: 34 | C37: Mzamo Thabede | E37: 80 | F37: =E37+0 -> 80 | M37: 14 | N37: 16 | AV37: =SUM(BA37+BB37) -> 30 | AW37: =(AV36-AV37) -> 14 | BA37: =SUM(CH37:CP37) -> 30 | BB37: =SUM(CY37:DC37) -> 0 | BF37: =H37 -> 0 | BG37: =I37 -> 0 | BH37: =M37 -> 14 | BI37: =N37 -> 16 | BJ37: =R37 -> 0 | BK37: =S37 -> 0 | BL37: =W37 -> 0 | BM37: =X37 -> 0 | BN37: =AB37 -> 0 | BO37: =AC37 -> 0 | BP37: =AG37 -> 0 | BQ37: =AH37 -> 0 | BR37: =AL37 -> 0 | BS37: =AM37 -> 0 | BT37: =AQ37 -> 0 | BU37: =AR37 -> 0 | BV37: =SUM(BF37:BU37) -> 30 | BX37: =SUM(J37:L37) -> 0 | BY37: =SUM(O37:Q37) -> 0 | BZ37: =SUM(T37:V37) -> 0 | CA37: =SUM(Y37:AA37) -> 0 | CB37: =SUM(AD37:AF37) -> 0 | CC37: =SUM(AI37:AK37) -> 0 | CD37: =SUM(AN37:AP37) -> 0 | CE37: =SUM(AS37:AU37) -> 0 | CF37: =SUM(BX37:CE37) -> 0 | CH37: =LARGE((BF37:BU37),1) -> 16 | CI37: =LARGE((BF37:BU37),2) -> 14 | CJ37: =LARGE((BF37:BU37),3) -> 0 | CK37: =LARGE((BF37:BU37),4) -> 0 | CL37: =LARGE((BF37:BU37),5) -> 0 | CM37: =LARGE((BF37:BU37),6) -> 0 | CN37: =LARGE((BF37:BU37),7) -> 0 | CO37: =LARGE((BF37:BU37),8) -> 0 | CP37: =LARGE((BF37:BU37),9) -> 0 | CQ37: =LARGE((BF37:BU37),10) -> 0 | CR37: =LARGE((BF37:BU37),11) -> 0 | CS37: =LARGE((BF37:BU37),12) -> 0 | CT37: =LARGE((BF37:BU37),13) -> 0 | CU37: =LARGE((BF37:BU37),14) -> 0 | CV37: =LARGE((BF37:BU37),15) -> 0 | CW37: =LARGE((BF37:BU37),16) -> 0 | CY37: =LARGE((BX37:CE37),1) -> 0 | CZ37: =LARGE((BX37:CE37),2) -> 0 | DA37: =LARGE((BX37:CE37),3) -> 0 | DB37: =LARGE((BX37:CE37),4) -> 0 | DC37: =LARGE((BX37:CE37),5) -> 0 | DD37: =LARGE((BX37:CE37),6) -> 0 | DE37: =LARGE((BX37:CE37),7) -> 0 | DF37: =LARGE((BX37:CE37),8) -> 0
