Workbook

Sheet Amateurs
A1: The Emirates Group Karting Club Season 10 (2019-2020) | H1: 11-Oct-19 International | M1: 08-Nov-19 Hill | R1: 22-Nov-19 The Drop | W1: 06-Dec-19 Monaco | AB1: 24-Jan-20 International | AG1: 21-Feb-20 Speedway w/Bus Stop | AL1: 31-Aug-20 Hill | AQ1: 27-Sep-20 Reverse Int. | AV1: Championship Points | BA1: Best 9 Race Points | BB1: Best 5 Race Day Bonus Points
H2: Race Points | J2: Bonus Points | M2: Race Points | O2: Bonus Points | R2: Race Points | T2: Bonus Points | W2: Race Points | Y2: Bonus Points | AB2: Race Points | AD2: Bonus Points | AG2: Race Points | AI2: Bonus Points | AL2: Race Points | AN2: Bonus Points | AQ2: Race Points | AS2: Bonus Points | AV2: (Best 9 Race + Best 5 Bonus) | AW2: Points Gap | CH2: RACE POINTS IN DESCENDING ORDER | CY2: BONUS POINTS IN DESCENDING ORDER
A3: Prev. Pos | B3: Cur. Pos | C3: Driver | D3: Nationality | E3: Min. Weight (kgs.) | F3: Success Weight (kgs.) | G3: Member (Y/N) | H3: Race 1 | I3: Race 2 | J3: Q | K3: R1 | L3: R2 | M3: Race 1 | N3: Race 2 | O3: Q | P3: R1 | Q3: R2 | R3: Race 1 | S3: Race 2 | T3: Q | U3: R1 | V3: R2 | W3: Race 1 | X3: Race 2 | Y3: Q | Z3: R1 | AA3: R2 | AB3: Race 1 | AC3: Race 2 | AD3: Q | AE3: R1 | AF3: R2 | AG3: Race 1 | AH3: Race 2 | AI3: Q | AJ3: R1 | AK3: R2 | AL3: Race 1 | AM3: Race 2 | AN3: Q | AO3: R1 | AP3: R2 | AQ3: Race 1 | AR3: Race 2 | AS3: Q | AT3: R1 | AU3: R2 | BF3: R1 | BG3: R2 | BH3: R3 | BI3: R4 | BJ3: R5 | BK3: R6 | BL3: R7 | BM3: R8 | BN3: R9 | BO3: R10 | BP3: R11 | BQ3: R12 | BR3: R13 | BS3: R14 | BT3: R15 | BU3: R16 | BV3: TOTAL RACE POINTS | BX3: RD1 | BY3: RD2 | BZ3: RD3 | CA3: RD4 | CB3: RD5 | CC3: RD6 | CD3: RD7 | CE3: RD8 | CF3: TOTAL BONUS POINTS | CH3: 1 | CI3: 2 | CJ3: 3 | CK3: 4 | CL3: 5 | CM3: 6 | CN3: 7 | CO3: 8 | CP3: 9 | CQ3: 10 | CR3: 11 | CS3: 12 | CT3: 13 | CU3: 14 | CV3: 15 | CW3: 16 | CY3: 1 | CZ3: 2 | DA3: 3 | DB3: 4 | DC3: 5 | DD3: 6 | DE3: 7 | DF3: 8
A4: 1 | B4: 1 | C4: Manu Mathew | E4: 80 | F4: 85 | H4: 67 | I4: 30 | M4: 75 | N4: 75 | R4: 67 | S4: 54 | V4: 3 | W4: 75 | X4: 75 | AB4: 54 | AC4: 49 | AG4: 67 | AH4: 67 | AL4: 36 | AM4: 49 | AQ4: 75 | AR4: 75 | AS4: 3 | AV4: =SUM(BA4+BB4) -> 657 | BA4: =SUM(CH4:CP4) -> 651 | BB4: =SUM(CY4:DC4) -> 6 | BF4: =H4 -> 67 | BG4: =I4 -> 30 | BH4: =M4 -> 75 | BI4: =N4 -> 75 | BJ4: =R4 -> 67 | BK4: =S4 -> 54 | BL4: =W4 -> 75 | BM4: =X4 -> 75 | BN4: =AB4 -> 54 | BO4: =AC4 -> 49 | BP4: =AG4 -> 67 | BQ4: =AH4 -> 67 | BR4: =AL4 -> 36 | BS4: =AM4 -> 49 | BT4: =AQ4 -> 75 | BU4: =AR4 -> 75 | BV4: =SUM(BF4:BU4) -> 990 | BX4: =SUM(J4:L4) -> 0 | BY4: =SUM(O4:Q4) -> 0 | BZ4: =SUM(T4:V4) -> 3 | CA4: =SUM(Y4:AA4) -> 0 | CB4: =SUM(AD4:AF4) -> 0 | CC4: =SUM(AI4:AK4) -> 0 | CD4: =SUM(AN4:AP4) -> 0 | CE4: =SUM(AS4:AU4) -> 3 | CF4: =SUM(BX4:CE4) -> 6 | CH4: =LARGE((BF4:BU4),1) -> 75 | CI4: =LARGE((BF4:BU4),2) -> 75 | CJ4: =LARGE((BF4:BU4),3) -> 75 | CK4: =LARGE((BF4:BU4),4) -> 75 | CL4: =LARGE((BF4:BU4),5) -> 75 | CM4: =LARGE((BF4:BU4),6) -> 75 | CN4: =LARGE((BF4:BU4),7) -> 67 | CO4: =LARGE((BF4:BU4),8) -> 67 | CP4: =LARGE((BF4:BU4),9) -> 67 | CQ4: =LARGE((BF4:BU4),10) -> 67 | CR4: =LARGE((BF4:BU4),11) -> 54 | CS4: =LARGE((BF4:BU4),12) -> 54 | CT4: =LARGE((BF4:BU4),13) -> 49 | CU4: =LARGE((BF4:BU4),14) -> 49 | CV4: =LARGE((BF4:BU4),15) -> 36 | CW4: =LARGE((BF4:BU4),16) -> 30 | CY4: =LARGE((BX4:CE4),1) -> 3 | CZ4: =LARGE((BX4:CE4),2) -> 3 | DA4: =LARGE((BX4:CE4),3) -> 0 | DB4: =LARGE((BX4:CE4),4) -> 0 | DC4: =LARGE((BX4:CE4),5) -> 0 | DD4: =LARGE((BX4:CE4),6) -> 0 | DE4: =LARGE((BX4:CE4),7) -> 0 | DF4: =LARGE((BX4:CE4),8) -> 0
A5: 2 | B5: 2 | C5: Sevag Balmanian | E5: 80 | F5: 82.5 | H5: 60 | I5: 39 | M5: 60 | N5: 54 | R5: 75 | S5: 75 | U5: 3 | W5: 42 | X5: 18 | AB5: 75 | AC5: 75 | AF5: 3 | AG5: 60 | AH5: 33 | AL5: 54 | AM5: 54 | AQ5: 60 | AR5: 67 | AU5: 3 | AV5: =SUM(BA5+BB5) -> 616 | AW5: =(AV4-AV5) -> 41 | BA5: =SUM(CH5:CP5) -> 607 | BB5: =SUM(CY5:DC5) -> 9 | BF5: =H5 -> 60 | BG5: =I5 -> 39 | BH5: =M5 -> 60 | BI5: =N5 -> 54 | BJ5: =R5 -> 75 | BK5: =S5 -> 75 | BL5: =W5 -> 42 | BM5: =X5 -> 18 | BN5: =AB5 -> 75 | BO5: =AC5 -> 75 | BP5: =AG5 -> 60 | BQ5: =AH5 -> 33 | BR5: =AL5 -> 54 | BS5: =AM5 -> 54 | BT5: =AQ5 -> 60 | BU5: =AR5 -> 67 | BV5: =SUM(BF5:BU5) -> 901 | BX5: =SUM(J5:L5) -> 0 | BY5: =SUM(O5:Q5) -> 0 | BZ5: =SUM(T5:V5) -> 3 | CA5: =SUM(Y5:AA5) -> 0 | CB5: =SUM(AD5:AF5) -> 3 | CC5: =SUM(AI5:AK5) -> 0 | CD5: =SUM(AN5:AP5) -> 0 | CE5: =SUM(AS5:AU5) -> 3 | CF5: =SUM(BX5:CE5) -> 9 | CH5: =LARGE((BF5:BU5),1) -> 75 | CI5: =LARGE((BF5:BU5),2) -> 75 | CJ5: =LARGE((BF5:BU5),3) -> 75 | CK5: =LARGE((BF5:BU5),4) -> 75 | CL5: =LARGE((BF5:BU5),5) -> 67 | CM5: =LARGE((BF5:BU5),6) -> 60 | CN5: =LARGE((BF5:BU5),7) -> 60 | CO5: =LARGE((BF5:BU5),8) -> 60 | CP5: =LARGE((BF5:BU5),9) -> 60 | CQ5: =LARGE((BF5:BU5),10) -> 54 | CR5: =LARGE((BF5:BU5),11) -> 54 | CS5: =LARGE((BF5:BU5),12) -> 54 | CT5: =LARGE((BF5:BU5),13) -> 42 | CU5: =LARGE((BF5:BU5),14) -> 39 | CV5: =LARGE((BF5:BU5),15) -> 33 | CW5: =LARGE((BF5:BU5),16) -> 18 | CY5: =LARGE((BX5:CE5),1) -> 3 | CZ5: =LARGE((BX5:CE5),2) -> 3 | DA5: =LARGE((BX5:CE5),3) -> 3 | DB5: =LARGE((BX5:CE5),4) -> 0 | DC5: =LARGE((BX5:CE5),5) -> 0 | DD5: =LARGE((BX5:CE5),6) -> 0 | DE5: =LARGE((BX5:CE5),7) -> 0 | DF5: =LARGE((BX5:CE5),8) -> 0
A6: 4 | B6: 3 | C6: Andre Khoury | E6: 80 | F6: =E6+0 -> 80 | H6: 75 | I6: 67 | K6: 3 | L6: 3 | M6: 67 | N6: 45 | O6: 3 | W6: 18 | X6: 54 | AA6: 3 | AB6: 45 | AC6: 67 | AD6: 3 | AG6: 30 | AH6: 30 | AI6: 3 | AL6: 75 | AM6: 45 | AO6: 3 | AQ6: 67 | AR6: 60 | AT6: 3 | AV6: =SUM(BA6+BB6) -> 595 | AW6: =(AV5-AV6) -> 21 | BA6: =SUM(CH6:CP6) -> 577 | BB6: =SUM(CY6:DC6) -> 18 | BF6: =H6 -> 75 | BG6: =I6 -> 67 | BH6: =M6 -> 67 | BI6: =N6 -> 45 | BJ6: =R6 -> 0 | BK6: =S6 -> 0 | BL6: =W6 -> 18 | BM6: =X6 -> 54 | BN6: =AB6 -> 45 | BO6: =AC6 -> 67 | BP6: =AG6 -> 30 | BQ6: =AH6 -> 30 | BR6: =AL6 -> 75 | BS6: =AM6 -> 45 | BT6: =AQ6 -> 67 | BU6: =AR6 -> 60 | BV6: =SUM(BF6:BU6) -> 745 | BX6: =SUM(J6:L6) -> 6 | BY6: =SUM(O6:Q6) -> 3 | BZ6: =SUM(T6:V6) -> 0 | CA6: =SUM(Y6:AA6) -> 3 | CB6: =SUM(AD6:AF6) -> 3 | CC6: =SUM(AI6:AK6) -> 3 | CD6: =SUM(AN6:AP6) -> 3 | CE6: =SUM(AS6:AU6) -> 3 | CF6: =SUM(BX6:CE6) -> 24 | CH6: =LARGE((BF6:BU6),1) -> 75 | CI6: =LARGE((BF6:BU6),2) -> 75 | CJ6: =LARGE((BF6:BU6),3) -> 67 | CK6: =LARGE((BF6:BU6),4) -> 67 | CL6: =LARGE((BF6:BU6),5) -> 67 | CM6: =LARGE((BF6:BU6),6) -> 67 | CN6: =LARGE((BF6:BU6),7) -> 60 | CO6: =LARGE((BF6:BU6),8) -> 54 | CP6: =LARGE((BF6:BU6),9) -> 45 | CQ6: =LARGE((BF6:BU6),10) -> 45 | CR6: =LARGE((BF6:BU6),11) -> 45 | CS6: =LARGE((BF6:BU6),12) -> 30 | CT6: =LARGE((BF6:BU6),13) -> 30 | CU6: =LARGE((BF6:BU6),14) -> 18 | CV6: =LARGE((BF6:BU6),15) -> 0 | CW6: =LARGE((BF6:BU6),16) -> 0 | CY6: =LARGE((BX6:CE6),1) -> 6 | CZ6: =LARGE((BX6:CE6),2) -> 3 | DA6: =LARGE((BX6:CE6),3) -> 3 | DB6: =LARGE((BX6:CE6),4) -> 3 | DC6: =LARGE((BX6:CE6),5) -> 3 | DD6: =LARGE((BX6:CE6),6) -> 3 | DE6: =LARGE((BX6:CE6),7) -> 3 | DF6: =LARGE((BX6:CE6),8) -> 0
A7: 3 | B7: 4 | C7: Anthony Shanouk | E7: 80 | F7: 82.5 | H7: 42 | I7: 75 | M7: 49 | N7: 24 | P7: 3 | R7: 54 | S7: 49 | W7: 45 | X7: 45 | Y7: 3 | AB7: 60 | AC7: 60 | AG7: 75 | AH7: 60 | AJ7: 3 | AK7: 3 | AL7: 45 | AM7: 67 | AQ7: 49 | AR7: 54 | AV7: =SUM(BA7+BB7) -> 566 | AW7: =(AV6-AV7) -> 29 | BA7: =SUM(CH7:CP7) -> 554 | BB7: =SUM(CY7:DC7) -> 12 | BF7: =H7 -> 42 | BG7: =I7 -> 75 | BH7: =M7 -> 49 | BI7: =N7 -> 24 | BJ7: =R7 -> 54 | BK7: =S7 -> 49 | BL7: =W7 -> 45 | BM7: =X7 -> 45 | BN7: =AB7 -> 60 | BO7: =AC7 -> 60 | BP7: =AG7 -> 75 | BQ7: =AH7 -> 60 | BR7: =AL7 -> 45 | BS7: =AM7 -> 67 | BT7: =AQ7 -> 49 | BU7: =AR7 -> 54 | BV7: =SUM(BF7:BU7) -> 853 | BX7: =SUM(J7:L7) -> 0 | BY7: =SUM(O7:Q7) -> 3 | BZ7: =SUM(T7:V7) -> 0 | CA7: =SUM(Y7:AA7) -> 3 | CB7: =SUM(AD7:AF7) -> 0 | CC7: =SUM(AI7:AK7) -> 6 | CD7: =SUM(AN7:AP7) -> 0 | CE7: =SUM(AS7:AU7) -> 0 | CF7: =SUM(BX7:CE7) -> 12 | CH7: =LARGE((BF7:BU7),1) -> 75 | CI7: =LARGE((BF7:BU7),2) -> 75 | CJ7: =LARGE((BF7:BU7),3) -> 67 | CK7: =LARGE((BF7:BU7),4) -> 60 | CL7: =LARGE((BF7:BU7),5) -> 60 | CM7: =LARGE((BF7:BU7),6) -> 60 | CN7: =LARGE((BF7:BU7),7) -> 54 | CO7: =LARGE((BF7:BU7),8) -> 54 | CP7: =LARGE((BF7:BU7),9) -> 49 | CQ7: =LARGE((BF7:BU7),10) -> 49 | CR7: =LARGE((BF7:BU7),11) -> 49 | CS7: =LARGE((BF7:BU7),12) -> 45 | CT7: =LARGE((BF7:BU7),13) -> 45 | CU7: =LARGE((BF7:BU7),14) -> 45 | CV7: =LARGE((BF7:BU7),15) -> 42 | CW7: =LARGE((BF7:BU7),16) -> 24 | CY7: =LARGE((BX7:CE7),1) -> 6 | CZ7: =LARGE((BX7:CE7),2) -> 3 | DA7: =LARGE((BX7:CE7),3) -> 3 | DB7: =LARGE((BX7:CE7),4) -> 0 | DC7: =LARGE((BX7:CE7),5) -> 0 | DD7: =LARGE((BX7:CE7),6) -> 0 | DE7: =LARGE((BX7:CE7),7) -> 0 | DF7: =LARGE((BX7:CE7),8) -> 0
A8: 5 | B8: 5 | C8: Jan Bobert | E8: 80 | F8: =E8+0 -> 80 | H8: 54 | I8: 60 | J8: 3 | M8: 45 | N8: 67 | W8: 60 | X8: 60 | AL8: 49 | AM8: 75 | AN8: 3 | AP8: 3 | AV8: =SUM(BA8+BB8) -> 479 | AW8: =(AV7-AV8) -> 87 | BA8: =SUM(CH8:CP8) -> 470 | BB8: =SUM(CY8:DC8) -> 9 | BF8: =H8 -> 54 | BG8: =I8 -> 60 | BH8: =M8 -> 45 | BI8: =N8 -> 67 | BJ8: =R8 -> 0 | BK8: =S8 -> 0 | BL8: =W8 -> 60 | BM8: =X8 -> 60 | BN8: =AB8 -> 0 | BO8: =AC8 -> 0 | BP8: =AG8 -> 0 | BQ8: =AH8 -> 0 | BR8: =AL8 -> 49 | BS8: =AM8 -> 75 | BT8: =AQ8 -> 0 | BU8: =AR8 -> 0 | BV8: =SUM(BF8:BU8) -> 470 | BX8: =SUM(J8:L8) -> 3 | BY8: =SUM(O8:Q8) -> 0 | BZ8: =SUM(T8:V8) -> 0 | CA8: =SUM(Y8:AA8) -> 0 | CB8: =SUM(AD8:AF8) -> 0 | CC8: =SUM(AI8:AK8) -> 0 | CD8: =SUM(AN8:AP8) -> 6 | CE8: =SUM(AS8:AU8) -> 0 | CF8: =SUM(BX8:CE8) -> 9 | CH8: =LARGE((BF8:BU8),1) -> 75 | CI8: =LARGE((BF8:BU8),2) -> 67 | CJ8: =LARGE((BF8:BU8),3) -> 60 | CK8: =LARGE((BF8:BU8),4) -> 60 | CL8: =LARGE((BF8:BU8),5) -> 60 | CM8: =LARGE((BF8:BU8),6) -> 54 | CN8: =LARGE((BF8:BU8),7) -> 49 | CO8: =LARGE((BF8:BU8),8) -> 45 | CP8: =LARGE((BF8:BU8),9) -> 0 | CQ8: =LARGE((BF8:BU8),10) -> 0 | CR8: =LARGE((BF8:BU8),11) -> 0 | CS8: =LARGE((BF8:BU8),12) -> 0 | CT8: =LARGE((BF8:BU8),13) -> 0 | CU8: =LARGE((BF8:BU8),14) -> 0 | CV8: =LARGE((BF8:BU8),15) -> 0 | CW8: =LARGE((BF8:BU8),16) -> 0 | CY8: =LARGE((BX8:CE8),1) -> 6 | CZ8: =LARGE((BX8:CE8),2) -> 3 | DA8: =LARGE((BX8:CE8),3) -> 0 | DB8: =LARGE((BX8:CE8),4) -> 0 | DC8: =LARGE((BX8:CE8),5) -> 0 | DD8: =LARGE((BX8:CE8),6) -> 0 | DE8: =LARGE((BX8:CE8),7) -> 0 | DF8: =LARGE((BX8:CE8),8) -> 0
A9: 6 | B9: 6 | C9: Yahidj Chady | E9: 80 | F9: =E9+0 -> 80 | H9: 39 | I9: 22 | M9: 18 | N9: 30 | R9: 26 | S9: 45 | W9: 30 | X9: 33 | AB9: 24 | AC9: 36 | AG9: 54 | AH9: 54 | AL9: 67 | AM9: 60 | AQ9: 54 | AR9: 45 | AV9: =SUM(BA9+BB9) -> 454 | AW9: =(AV8-AV9) -> 25 | BA9: =SUM(CH9:CP9) -> 454 | BB9: =SUM(CY9:DC9) -> 0 | BF9: =H9 -> 39 | BG9: =I9 -> 22 | BH9: =M9 -> 18 | BI9: =N9 -> 30 | BJ9: =R9 -> 26 | BK9: =S9 -> 45 | BL9: =W9 -> 30 | BM9: =X9 -> 33 | BN9: =AB9 -> 24 | BO9: =AC9 -> 36 | BP9: =AG9 -> 54 | BQ9: =AH9 -> 54 | BR9: =AL9 -> 67 | BS9: =AM9 -> 60 | BT9: =AQ9 -> 54 | BU9: =AR9 -> 45 | BV9: =SUM(BF9:BU9) -> 637 | BX9: =SUM(J9:L9) -> 0 | BY9: =SUM(O9:Q9) -> 0 | BZ9: =SUM(T9:V9) -> 0 | CA9: =SUM(Y9:AA9) -> 0 | CB9: =SUM(AD9:AF9) -> 0 | CC9: =SUM(AI9:AK9) -> 0 | CD9: =SUM(AN9:AP9) -> 0 | CE9: =SUM(AS9:AU9) -> 0 | CF9: =SUM(BX9:CE9) -> 0 | CH9: =LARGE((BF9:BU9),1) -> 67 | CI9: =LARGE((BF9:BU9),2) -> 60 | CJ9: =LARGE((BF9:BU9),3) -> 54 | CK9: =LARGE((BF9:BU9),4) -> 54 | CL9: =LARGE((BF9:BU9),5) -> 54 | CM9: =LARGE((BF9:BU9),6) -> 45 | CN9: =LARGE((BF9:BU9),7) -> 45 | CO9: =LARGE((BF9:BU9),8) -> 39 | CP9: =LARGE((BF9:BU9),9) -> 36 | CQ9: =LARGE((BF9:BU9),10) -> 33 | CR9: =LARGE((BF9:BU9),11) -> 30 | CS9: =LARGE((BF9:BU9),12) -> 30 | CT9: =LARGE((BF9:BU9),13) -> 26 | CU9: =LARGE((BF9:BU9),14) -> 24 | CV9: =LARGE((BF9:BU9),15) -> 22 | CW9: =LARGE((BF9:BU9),16) -> 18 | CY9: =LARGE((BX9:CE9),1) -> 0 | CZ9: =LARGE((BX9:CE9),2) -> 0 | DA9: =LARGE((BX9:CE9),3) -> 0 | DB9: =LARGE((BX9:CE9),4) -> 0 | DC9: =LARGE((BX9:CE9),5) -> 0 | DD9: =LARGE((BX9:CE9),6) -> 0 | DE9: =LARGE((BX9:CE9),7) -> 0 | DF9: =LARGE((BX9:CE9),8) -> 0
A10: 7 | B10: 7 | C10: Benjamin Allison | E10: 80 | F10: =E10+0 -> 80 | W10: 36 | X10: 36 | AB10: 67 | AC10: 54 | AE10: 3 | AG10: 33 | AH10: 75 | AL10: 60 | AM10: 42 | AV10: =SUM(BA10+BB10) -> 406 | AW10: =(AV9-AV10) -> 48 | BA10: =SUM(CH10:CP10) -> 403 | BB10: =SUM(CY10:DC10) -> 3 | BF10: =H10 -> 0 | BG10: =I10 -> 0 | BH10: =M10 -> 0 | BI10: =N10 -> 0 | BJ10: =R10 -> 0 | BK10: =S10 -> 0 | BL10: =W10 -> 36 | BM10: =X10 -> 36 | BN10: =AB10 -> 67 | BO10: =AC10 -> 54 | BP10: =AG10 -> 33 | BQ10: =AH10 -> 75 | BR10: =AL10 -> 60 | BS10: =AM10 -> 42 | BT10: =AQ10 -> 0 | BU10: =AR10 -> 0 | BV10: =SUM(BF10:BU10) -> 403 | BX10: =SUM(J10:L10) -> 0 | BY10: =SUM(O10:Q10) -> 0 | BZ10: =SUM(T10:V10) -> 0 | CA10: =SUM(Y10:AA10) -> 0 | CB10: =SUM(AD10:AF10) -> 3 | CC10: =SUM(AI10:AK10) -> 0 | CD10: =SUM(AN10:AP10) -> 0 | CE10: =SUM(AS10:AU10) -> 0 | CF10: =SUM(BX10:CE10) -> 3 | CH10: =LARGE((BF10:BU10),1) -> 75 | CI10: =LARGE((BF10:BU10),2) -> 67 | CJ10: =LARGE((BF10:BU10),3) -> 60 | CK10: =LARGE((BF10:BU10),4) -> 54 | CL10: =LARGE((BF10:BU10),5) -> 42 | CM10: =LARGE((BF10:BU10),6) -> 36 | CN10: =LARGE((BF10:BU10),7) -> 36 | CO10: =LARGE((BF10:BU10),8) -> 33 | CP10: =LARGE((BF10:BU10),9) -> 0 | CQ10: =LARGE((BF10:BU10),10) -> 0 | CR10: =LARGE((BF10:BU10),11) -> 0 | CS10: =LARGE((BF10:BU10),12) -> 0 | CT10: =LARGE((BF10:BU10),13) -> 0 | CU10: =LARGE((BF10:BU10),14) -> 0 | CV10: =LARGE((BF10:BU10),15) -> 0 | CW10: =LARGE((BF10:BU10),16) -> 0 | CY10: =LARGE((BX10:CE10),1) -> 3 | CZ10: =LARGE((BX10:CE10),2) -> 0 | DA10: =LARGE((BX10:CE10),3) -> 0 | DB10: =LARGE((BX10:CE10),4) -> 0 | DC10: =LARGE((BX10:CE10),5) -> 0 | DD10: =LARGE((BX10:CE10),6) -> 0 | DE10: =LARGE((BX10:CE10),7) -> 0 | DF10: =LARGE((BX10:CE10),8) -> 0
A11: 8 | B11: 8 | C11: Mahmood Jaafar | E11: 80 | F11: =E11+0 -> 80 | H11: 49 | I11: 33 | R11: 28 | S11: 28 | W11: 26 | X11: 30 | AB11: 49 | AC11: 39 | AG11: 42 | AH11: 49 | AV11: =SUM(BA11+BB11) -> 347 | AW11: =(AV10-AV11) -> 59 | BA11: =SUM(CH11:CP11) -> 347 | BB11: =SUM(CY11:DC11) -> 0 | BF11: =H11 -> 49 | BG11: =I11 -> 33 | BH11: =M11 -> 0 | BI11: =N11 -> 0 | BJ11: =R11 -> 28 | BK11: =S11 -> 28 | BL11: =W11 -> 26 | BM11: =X11 -> 30 | BN11: =AB11 -> 49 | BO11: =AC11 -> 39 | BP11: =AG11 -> 42 | BQ11: =AH11 -> 49 | BR11: =AL11 -> 0 | BS11: =AM11 -> 0 | BT11: =AQ11 -> 0 | BU11: =AR11 -> 0 | BV11: =SUM(BF11:BU11) -> 373 | BX11: =SUM(J11:L11) -> 0 | BY11: =SUM(O11:Q11) -> 0 | BZ11: =SUM(T11:V11) -> 0 | CA11: =SUM(Y11:AA11) -> 0 | CB11: =SUM(AD11:AF11) -> 0 | CC11: =SUM(AI11:AK11) -> 0 | CD11: =SUM(AN11:AP11) -> 0 | CE11: =SUM(AS11:AU11) -> 0 | CF11: =SUM(BX11:CE11) -> 0 | CH11: =LARGE((BF11:BU11),1) -> 49 | CI11: =LARGE((BF11:BU11),2) -> 49 | CJ11: =LARGE((BF11:BU11),3) -> 49 | CK11: =LARGE((BF11:BU11),4) -> 42 | CL11: =LARGE((BF11:BU11),5) -> 39 | CM11: =LARGE((BF11:BU11),6) -> 33 | CN11: =LARGE((BF11:BU11),7) -> 30 | CO11: =LARGE((BF11:BU11),8) -> 28 | CP11: =LARGE((BF11:BU11),9) -> 28 | CQ11: =LARGE((BF11:BU11),10) -> 26 | CR11: =LARGE((BF11:BU11),11) -> 0 | CS11: =LARGE((BF11:BU11),12) -> 0 | CT11: =LARGE((BF11:BU11),13) -> 0 | CU11: =LARGE((BF11:BU11),14) -> 0 | CV11: =LARGE((BF11:BU11),15) -> 0 | CW11: =LARGE((BF11:BU11),16) -> 0 | CY11: =LARGE((BX11:CE11),1) -> 0 | CZ11: =LARGE((BX11:CE11),2) -> 0 | DA11: =LARGE((BX11:CE11),3) -> 0 | DB11: =LARGE((BX11:CE11),4) -> 0 | DC11: =LARGE((BX11:CE11),5) -> 0 | DD11: =LARGE((BX11:CE11),6) -> 0 | DE11: =LARGE((BX11:CE11),7) -> 0 | DF11: =LARGE((BX11:CE11),8) -> 0
A12: 9 | B12: 9 | C12: Guillaume Haidan | E12: 80 | F12: =E12+0 -> 80 | H12: 36 | I12: 45 | M12: 24 | N12: 18 | R12: 49 | S12: 24 | W12: 33 | X12: 20 | AL12: 42 | AM12: 39 | AV12: =SUM(BA12+BB12) -> 312 | AW12: =(AV11-AV12) -> 35 | BA12: =SUM(CH12:CP12) -> 312 | BB12: =SUM(CY12:DC12) -> 0 | BF12: =H12 -> 36 | BG12: =I12 -> 45 | BH12: =M12 -> 24 | BI12: =N12 -> 18 | BJ12: =R12 -> 49 | BK12: =S12 -> 24 | BL12: =W12 -> 33 | BM12: =X12 -> 20 | BN12: =AB12 -> 0 | BO12: =AC12 -> 0 | BP12: =AG12 -> 0 | BQ12: =AH12 -> 0 | BR12: =AL12 -> 42 | BS12: =AM12 -> 39 | BT12: =AQ12 -> 0 | BU12: =AR12 -> 0 | BV12: =SUM(BF12:BU12) -> 330 | BX12: =SUM(J12:L12) -> 0 | BY12: =SUM(O12:Q12) -> 0 | BZ12: =SUM(T12:V12) -> 0 | CA12: =SUM(Y12:AA12) -> 0 | CB12: =SUM(AD12:AF12) -> 0 | CC12: =SUM(AI12:AK12) -> 0 | CD12: =SUM(AN12:AP12) -> 0 | CE12: =SUM(AS12:AU12) -> 0 | CF12: =SUM(BX12:CE12) -> 0 | CH12: =LARGE((BF12:BU12),1) -> 49 | CI12: =LARGE((BF12:BU12),2) -> 45 | CJ12: =LARGE((BF12:BU12),3) -> 42 | CK12: =LARGE((BF12:BU12),4) -> 39 | CL12: =LARGE((BF12:BU12),5) -> 36 | CM12: =LARGE((BF12:BU12),6) -> 33 | CN12: =LARGE((BF12:BU12),7) -> 24 | CO12: =LARGE((BF12:BU12),8) -> 24 | CP12: =LARGE((BF12:BU12),9) -> 20 | CQ12: =LARGE((BF12:BU12),10) -> 18 | CR12: =LARGE((BF12:BU12),11) -> 0 | CS12: =LARGE((BF12:BU12),12) -> 0 | CT12: =LARGE((BF12:BU12),13) -> 0 | CU12: =LARGE((BF12:BU12),14) -> 0 | CV12: =LARGE((BF12:BU12),15) -> 0 | CW12: =LARGE((BF12:BU12),16) -> 0 | CY12: =LARGE((BX12:CE12),1) -> 0 | CZ12: =LARGE((BX12:CE12),2) -> 0 | DA12: =LARGE((BX12:CE12),3) -> 0 | DB12: =LARGE((BX12:CE12),4) -> 0 | DC12: =LARGE((BX12:CE12),5) -> 0 | DD12: =LARGE((BX12:CE12),6) -> 0 | DE12: =LARGE((BX12:CE12),7) -> 0 | DF12: =LARGE((BX12:CE12),8) -> 0
A13: 10 | B13: 10 | C13: Jack Demirjian | E13: 80 | F13: =E13+0 -> 80 | H13: 30 | I13: 28 | M13: 20 | N13: 22 | R13: 42 | S13: 60 | W13: 22 | X13: 26 | AG13: 39 | AH13: 39 | AV13: =SUM(BA13+BB13) -> 308 | AW13: =(AV12-AV13) -> 4 | BA13: =SUM(CH13:CP13) -> 308 | BB13: =SUM(CY13:DC13) -> 0 | BF13: =H13 -> 30 | BG13: =I13 -> 28 | BH13: =M13 -> 20 | BI13: =N13 -> 22 | BJ13: =R13 -> 42 | BK13: =S13 -> 60 | BL13: =W13 -> 22 | BM13: =X13 -> 26 | BN13: =AB13 -> 0 | BO13: =AC13 -> 0 | BP13: =AG13 -> 39 | BQ13: =AH13 -> 39 | BR13: =AL13 -> 0 | BS13: =AM13 -> 0 | BT13: =AQ13 -> 0 | BU13: =AR13 -> 0 | BV13: =SUM(BF13:BU13) -> 328 | BX13: =SUM(J13:L13) -> 0 | BY13: =SUM(O13:Q13) -> 0 | BZ13: =SUM(T13:V13) -> 0 | CA13: =SUM(Y13:AA13) -> 0 | CB13: =SUM(AD13:AF13) -> 0 | CC13: =SUM(AI13:AK13) -> 0 | CD13: =SUM(AN13:AP13) -> 0 | CE13: =SUM(AS13:AU13) -> 0 | CF13: =SUM(BX13:CE13) -> 0 | CH13: =LARGE((BF13:BU13),1) -> 60 | CI13: =LARGE((BF13:BU13),2) -> 42 | CJ13: =LARGE((BF13:BU13),3) -> 39 | CK13: =LARGE((BF13:BU13),4) -> 39 | CL13: =LARGE((BF13:BU13),5) -> 30 | CM13: =LARGE((BF13:BU13),6) -> 28 | CN13: =LARGE((BF13:BU13),7) -> 26 | CO13: =LARGE((BF13:BU13),8) -> 22 | CP13: =LARGE((BF13:BU13),9) -> 22 | CQ13: =LARGE((BF13:BU13),10) -> 20 | CR13: =LARGE((BF13:BU13),11) -> 0 | CS13: =LARGE((BF13:BU13),12) -> 0 | CT13: =LARGE((BF13:BU13),13) -> 0 | CU13: =LARGE((BF13:BU13),14) -> 0 | CV13: =LARGE((BF13:BU13),15) -> 0 | CW13: =LARGE((BF13:BU13),16) -> 0 | CY13: =LARGE((BX13:CE13),1) -> 0 | CZ13: =LARGE((BX13:CE13),2) -> 0 | DA13: =LARGE((BX13:CE13),3) -> 0 | DB13: =LARGE((BX13:CE13),4) -> 0 | DC13: =LARGE((BX13:CE13),5) -> 0 | DD13: =LARGE((BX13:CE13),6) -> 0 | DE13: =LARGE((BX13:CE13),7) -> 0 | DF13: =LARGE((BX13:CE13),8) -> 0
A14: 11 | B14: 11 | C14: Roberto Beni | E14: 80 | F14: =E14+0 -> 80 | M14: 54 | N14: 39 | R14: 45 | S14: 67 | AB14: 42 | AC14: 28 | AV14: =SUM(BA14+BB14) -> 275 | AW14: =(AV13-AV14) -> 33 | BA14: =SUM(CH14:CP14) -> 275 | BB14: =SUM(CY14:DC14) -> 0 | BF14: =H14 -> 0 | BG14: =I14 -> 0 | BH14: =M14 -> 54 | BI14: =N14 -> 39 | BJ14: =R14 -> 45 | BK14: =S14 -> 67 | BL14: =W14 -> 0 | BM14: =X14 -> 0 | BN14: =AB14 -> 42 | BO14: =AC14 -> 28 | BP14: =AG14 -> 0 | BQ14: =AH14 -> 0 | BR14: =AL14 -> 0 | BS14: =AM14 -> 0 | BT14: =AQ14 -> 0 | BU14: =AR14 -> 0 | BV14: =SUM(BF14:BU14) -> 275 | BX14: =SUM(J14:L14) -> 0 | BY14: =SUM(O14:Q14) -> 0 | BZ14: =SUM(T14:V14) -> 0 | CA14: =SUM(Y14:AA14) -> 0 | CB14: =SUM(AD14:AF14) -> 0 | CC14: =SUM(AI14:AK14) -> 0 | CD14: =SUM(AN14:AP14) -> 0 | CE14: =SUM(AS14:AU14) -> 0 | CF14: =SUM(BX14:CE14) -> 0 | CH14: =LARGE((BF14:BU14),1) -> 67 | CI14: =LARGE((BF14:BU14),2) -> 54 | CJ14: =LARGE((BF14:BU14),3) -> 45 | CK14: =LARGE((BF14:BU14),4) -> 42 | CL14: =LARGE((BF14:BU14),5) -> 39 | CM14: =LARGE((BF14:BU14),6) -> 28 | CN14: =LARGE((BF14:BU14),7) -> 0 | CO14: =LARGE((BF14:BU14),8) -> 0 | CP14: =LARGE((BF14:BU14),9) -> 0 | CQ14: =LARGE((BF14:BU14),10) -> 0 | CR14: =LARGE((BF14:BU14),11) -> 0 | CS14: =LARGE((BF14:BU14),12) -> 0 | CT14: =LARGE((BF14:BU14),13) -> 0 | CU14: =LARGE((BF14:BU14),14) -> 0 | CV14: =LARGE((BF14:BU14),15) -> 0 | CW14: =LARGE((BF14:BU14),16) -> 0 | CY14: =LARGE((BX14:CE14),1) -> 0 | CZ14: =LARGE((BX14:CE14),2) -> 0 | DA14: =LARGE((BX14:CE14),3) -> 0 | DB14: =LARGE((BX14:CE14),4) -> 0 | DC14: =LARGE((BX14:CE14),5) -> 0 | DD14: =LARGE((BX14:CE14),6) -> 0 | DE14: =LARGE((BX14:CE14),7) -> 0 | DF14: =LARGE((BX14:CE14),8) -> 0
A15: 12 | B15: 12 | C15: Alessandro Salomoni | E15: 80 | F15: =E15+0 -> 80 | H15: 45 | I15: 49 | M15: 42 | N15: DNS | R15: 24 | S15: 42 | W15: 49 | X15: 22 | AV15: =SUM(BA15+BB15) -> 273 | AW15: =(AV14-AV15) -> 2 | BA15: =SUM(CH15:CP15) -> 273 | BB15: =SUM(CY15:DC15) -> 0 | BF15: =H15 -> 45 | BG15: =I15 -> 49 | BH15: =M15 -> 42 | BI15: =N15 -> DNS | BJ15: =R15 -> 24 | BK15: =S15 -> 42 | BL15: =W15 -> 49 | BM15: =X15 -> 22 | BN15: =AB15 -> 0 | BO15: =AC15 -> 0 | BP15: =AG15 -> 0 | BQ15: =AH15 -> 0 | BR15: =AL15 -> 0 | BS15: =AM15 -> 0 | BT15: =AQ15 -> 0 | BU15: =AR15 -> 0 | BV15: =SUM(BF15:BU15) -> 273 | BX15: =SUM(J15:L15) -> 0 | BY15: =SUM(O15:Q15) -> 0 | BZ15: =SUM(T15:V15) -> 0 | CA15: =SUM(Y15:AA15) -> 0 | CB15: =SUM(AD15:AF15) -> 0 | CC15: =SUM(AI15:AK15) -> 0 | CD15: =SUM(AN15:AP15) -> 0 | CE15: =SUM(AS15:AU15) -> 0 | CF15: =SUM(BX15:CE15) -> 0 | CH15: =LARGE((BF15:BU15),1) -> 49 | CI15: =LARGE((BF15:BU15),2) -> 49 | CJ15: =LARGE((BF15:BU15),3) -> 45 | CK15: =LARGE((BF15:BU15),4) -> 42 | CL15: =LARGE((BF15:BU15),5) -> 42 | CM15: =LARGE((BF15:BU15),6) -> 24 | CN15: =LARGE((BF15:BU15),7) -> 22 | CO15: =LARGE((BF15:BU15),8) -> 0 | CP15: =LARGE((BF15:BU15),9) -> 0 | CQ15: =LARGE((BF15:BU15),10) -> 0 | CR15: =LARGE((BF15:BU15),11) -> 0 | CS15: =LARGE((BF15:BU15),12) -> 0 | CT15: =LARGE((BF15:BU15),13) -> 0 | CU15: =LARGE((BF15:BU15),14) -> 0 | CV15: =LARGE((BF15:BU15),15) -> 0 | CW15: =LARGE((BF15:BU15),16) -> #NUM! | CY15: =LARGE((BX15:CE15),1) -> 0 | CZ15: =LARGE((BX15:CE15),2) -> 0 | DA15: =LARGE((BX15:CE15),3) -> 0 | DB15: =LARGE((BX15:CE15),4) -> 0 | DC15: =LARGE((BX15:CE15),5) -> 0 | DD15: =LARGE((BX15:CE15),6) -> 0 | DE15: =LARGE((BX15:CE15),7) -> 0 | DF15: =LARGE((BX15:CE15),8) -> 0
A16: 13 | B16: 13 | C16: Saif Mustafa | E16: 80 | F16: =E16+0 -> 80 | H16: 22 | I16: 36 | M16: 33 | N16: 33 | R16: 30 | S16: 36 | T16: 3 | AB16: 33 | AC16: 45 | AV16: =SUM(BA16+BB16) -> 271 | AW16: =(AV15-AV16) -> 2 | BA16: =SUM(CH16:CP16) -> 268 | BB16: =SUM(CY16:DC16) -> 3 | BF16: =H16 -> 22 | BG16: =I16 -> 36 | BH16: =M16 -> 33 | BI16: =N16 -> 33 | BJ16: =R16 -> 30 | BK16: =S16 -> 36 | BL16: =W16 -> 0 | BM16: =X16 -> 0 | BN16: =AB16 -> 33 | BO16: =AC16 -> 45 | BP16: =AG16 -> 0 | BQ16: =AH16 -> 0 | BR16: =AL16 -> 0 | BS16: =AM16 -> 0 | BT16: =AQ16 -> 0 | BU16: =AR16 -> 0 | BV16: =SUM(BF16:BU16) -> 268 | BX16: =SUM(J16:L16) -> 0 | BY16: =SUM(O16:Q16) -> 0 | BZ16: =SUM(T16:V16) -> 3 | CA16: =SUM(Y16:AA16) -> 0 | CB16: =SUM(AD16:AF16) -> 0 | CC16: =SUM(AI16:AK16) -> 0 | CD16: =SUM(AN16:AP16) -> 0 | CE16: =SUM(AS16:AU16) -> 0 | CF16: =SUM(BX16:CE16) -> 3 | CH16: =LARGE((BF16:BU16),1) -> 45 | CI16: =LARGE((BF16:BU16),2) -> 36 | CJ16: =LARGE((BF16:BU16),3) -> 36 | CK16: =LARGE((BF16:BU16),4) -> 33 | CL16: =LARGE((BF16:BU16),5) -> 33 | CM16: =LARGE((BF16:BU16),6) -> 33 | CN16: =LARGE((BF16:BU16),7) -> 30 | CO16: =LARGE((BF16:BU16),8) -> 22 | CP16: =LARGE((BF16:BU16),9) -> 0 | CQ16: =LARGE((BF16:BU16),10) -> 0 | CR16: =LARGE((BF16:BU16),11) -> 0 | CS16: =LARGE((BF16:BU16),12) -> 0 | CT16: =LARGE((BF16:BU16),13) -> 0 | CU16: =LARGE((BF16:BU16),14) -> 0 | CV16: =LARGE((BF16:BU16),15) -> 0 | CW16: =LARGE((BF16:BU16),16) -> 0 | CY16: =LARGE((BX16:CE16),1) -> 3 | CZ16: =LARGE((BX16:CE16),2) -> 0 | DA16: =LARGE((BX16:CE16),3) -> 0 | DB16: =LARGE((BX16:CE16),4) -> 0 | DC16: =LARGE((BX16:CE16),5) -> 0 | DD16: =LARGE((BX16:CE16),6) -> 0 | DE16: =LARGE((BX16:CE16),7) -> 0 | DF16: =LARGE((BX16:CE16),8) -> 0
A17: 14 | B17: 14 | C17: Luigi di Maria | E17: 80 | F17: =E17+0 -> 80 | M17: 16 | N17: 20 | R17: 39 | S17: 39 | AB17: 30 | AC17: 33 | AG17: 45 | AH17: 45 | AV17: =SUM(BA17+BB17) -> 267 | AW17: =(AV16-AV17) -> 4 | BA17: =SUM(CH17:CP17) -> 267 | BB17: =SUM(CY17:DC17) -> 0 | BF17: =H17 -> 0 | BG17: =I17 -> 0 | BH17: =M17 -> 16 | BI17: =N17 -> 20 | BJ17: =R17 -> 39 | BK17: =S17 -> 39 | BL17: =W17 -> 0 | BM17: =X17 -> 0 | BN17: =AB17 -> 30 | BO17: =AC17 -> 33 | BP17: =AG17 -> 45 | BQ17: =AH17 -> 45 | BR17: =AL17 -> 0 | BS17: =AM17 -> 0 | BT17: =AQ17 -> 0 | BU17: =AR17 -> 0 | BV17: =SUM(BF17:BU17) -> 267 | BX17: =SUM(J17:L17) -> 0 | BY17: =SUM(O17:Q17) -> 0 | BZ17: =SUM(T17:V17) -> 0 | CA17: =SUM(Y17:AA17) -> 0 | CB17: =SUM(AD17:AF17) -> 0 | CC17: =SUM(AI17:AK17) -> 0 | CD17: =SUM(AN17:AP17) -> 0 | CE17: =SUM(AS17:AU17) -> 0 | CF17: =SUM(BX17:CE17) -> 0 | CH17: =LARGE((BF17:BU17),1) -> 45 | CI17: =LARGE((BF17:BU17),2) -> 45 | CJ17: =LARGE((BF17:BU17),3) -> 39 | CK17: =LARGE((BF17:BU17),4) -> 39 | CL17: =LARGE((BF17:BU17),5) -> 33 | CM17: =LARGE((BF17:BU17),6) -> 30 | CN17: =LARGE((BF17:BU17),7) -> 20 | CO17: =LARGE((BF17:BU17),8) -> 16 | CP17: =LARGE((BF17:BU17),9) -> 0 | CQ17: =LARGE((BF17:BU17),10) -> 0 | CR17: =LARGE((BF17:BU17),11) -> 0 | CS17: =LARGE((BF17:BU17),12) -> 0 | CT17: =LARGE((BF17:BU17),13) -> 0 | CU17: =LARGE((BF17:BU17),14) -> 0 | CV17: =LARGE((BF17:BU17),15) -> 0 | CW17: =LARGE((BF17:BU17),16) -> 0 | CY17: =LARGE((BX17:CE17),1) -> 0 | CZ17: =LARGE((BX17:CE17),2) -> 0 | DA17: =LARGE((BX17:CE17),3) -> 0 | DB17: =LARGE((BX17:CE17),4) -> 0 | DC17: =LARGE((BX17:CE17),5) -> 0 | DD17: =LARGE((BX17:CE17),6) -> 0 | DE17: =LARGE((BX17:CE17),7) -> 0 | DF17: =LARGE((BX17:CE17),8) -> 0
A18: 15 | B18: 15 | C18: Leonardo Iacovazzo | E18: 80 | F18: =E18+0 -> 80 | M18: 39 | N18: 60 | R18: 60 | S18: 26 | W18: 28 | X18: 28 | AV18: =SUM(BA18+BB18) -> 241 | AW18: =(AV17-AV18) -> 26 | BA18: =SUM(CH18:CP18) -> 241 | BB18: =SUM(CY18:DC18) -> 0 | BF18: =H18 -> 0 | BG18: =I18 -> 0 | BH18: =M18 -> 39 | BI18: =N18 -> 60 | BJ18: =R18 -> 60 | BK18: =S18 -> 26 | BL18: =W18 -> 28 | BM18: =X18 -> 28 | BN18: =AB18 -> 0 | BO18: =AC18 -> 0 | BP18: =AG18 -> 0 | BQ18: =AH18 -> 0 | BR18: =AL18 -> 0 | BS18: =AM18 -> 0 | BT18: =AQ18 -> 0 | BU18: =AR18 -> 0 | BV18: =SUM(BF18:BU18) -> 241 | BX18: =SUM(J18:L18) -> 0 | BY18: =SUM(O18:Q18) -> 0 | BZ18: =SUM(T18:V18) -> 0 | CA18: =SUM(Y18:AA18) -> 0 | CB18: =SUM(AD18:AF18) -> 0 | CC18: =SUM(AI18:AK18) -> 0 | CD18: =SUM(AN18:AP18) -> 0 | CE18: =SUM(AS18:AU18) -> 0 | CF18: =SUM(BX18:CE18) -> 0 | CH18: =LARGE((BF18:BU18),1) -> 60 | CI18: =LARGE((BF18:BU18),2) -> 60 | CJ18: =LARGE((BF18:BU18),3) -> 39 | CK18: =LARGE((BF18:BU18),4) -> 28 | CL18: =LARGE((BF18:BU18),5) -> 28 | CM18: =LARGE((BF18:BU18),6) -> 26 | CN18: =LARGE((BF18:BU18),7) -> 0 | CO18: =LARGE((BF18:BU18),8) -> 0 | CP18: =LARGE((BF18:BU18),9) -> 0 | CQ18: =LARGE((BF18:BU18),10) -> 0 | CR18: =LARGE((BF18:BU18),11) -> 0 | CS18: =LARGE((BF18:BU18),12) -> 0 | CT18: =LARGE((BF18:BU18),13) -> 0 | CU18: =LARGE((BF18:BU18),14) -> 0 | CV18: =LARGE((BF18:BU18),15) -> 0 | CW18: =LARGE((BF18:BU18),16) -> 0 | CY18: =LARGE((BX18:CE18),1) -> 0 | CZ18: =LARGE((BX18:CE18),2) -> 0 | DA18: =LARGE((BX18:CE18),3) -> 0 | DB18: =LARGE((BX18:CE18),4) -> 0 | DC18: =LARGE((BX18:CE18),5) -> 0 | DD18: =LARGE((BX18:CE18),6) -> 0 | DE18: =LARGE((BX18:CE18),7) -> 0 | DF18: =LARGE((BX18:CE18),8) -> 0
A19: 16 | B19: 16 | C19: Antonio Juric | E19: 80 | F19: =E19+0 -> 80 | W19: 24 | X19: 39 | AB19: 36 | AC19: 42 | AG19: 49 | AH19: 36 | AV19: =SUM(BA19+BB19) -> 226 | AW19: =(AV18-AV19) -> 15 | BA19: =SUM(CH19:CP19) -> 226 | BB19: =SUM(CY19:DC19) -> 0 | BF19: =H19 -> 0 | BG19: =I19 -> 0 | BH19: =M19 -> 0 | BI19: =N19 -> 0 | BJ19: =R19 -> 0 | BK19: =S19 -> 0 | BL19: =W19 -> 24 | BM19: =X19 -> 39 | BN19: =AB19 -> 36 | BO19: =AC19 -> 42 | BP19: =AG19 -> 49 | BQ19: =AH19 -> 36 | BR19: =AL19 -> 0 | BS19: =AM19 -> 0 | BT19: =AQ19 -> 0 | BU19: =AR19 -> 0 | BV19: =SUM(BF19:BU19) -> 226 | BX19: =SUM(J19:L19) -> 0 | BY19: =SUM(O19:Q19) -> 0 | BZ19: =SUM(T19:V19) -> 0 | CA19: =SUM(Y19:AA19) -> 0 | CB19: =SUM(AD19:AF19) -> 0 | CC19: =SUM(AI19:AK19) -> 0 | CD19: =SUM(AN19:AP19) -> 0 | CE19: =SUM(AS19:AU19) -> 0 | CF19: =SUM(BX19:CE19) -> 0 | CH19: =LARGE((BF19:BU19),1) -> 49 | CI19: =LARGE((BF19:BU19),2) -> 42 | CJ19: =LARGE((BF19:BU19),3) -> 39 | CK19: =LARGE((BF19:BU19),4) -> 36 | CL19: =LARGE((BF19:BU19),5) -> 36 | CM19: =LARGE((BF19:BU19),6) -> 24 | CN19: =LARGE((BF19:BU19),7) -> 0 | CO19: =LARGE((BF19:BU19),8) -> 0 | CP19: =LARGE((BF19:BU19),9) -> 0 | CQ19: =LARGE((BF19:BU19),10) -> 0 | CR19: =LARGE((BF19:BU19),11) -> 0 | CS19: =LARGE((BF19:BU19),12) -> 0 | CT19: =LARGE((BF19:BU19),13) -> 0 | CU19: =LARGE((BF19:BU19),14) -> 0 | CV19: =LARGE((BF19:BU19),15) -> 0 | CW19: =LARGE((BF19:BU19),16) -> 0 | CY19: =LARGE((BX19:CE19),1) -> 0 | CZ19: =LARGE((BX19:CE19),2) -> 0 | DA19: =LARGE((BX19:CE19),3) -> 0 | DB19: =LARGE((BX19:CE19),4) -> 0 | DC19: =LARGE((BX19:CE19),5) -> 0 | DD19: =LARGE((BX19:CE19),6) -> 0 | DE19: =LARGE((BX19:CE19),7) -> 0 | DF19: =LARGE((BX19:CE19),8) -> 0
A20: 17 | B20: 17 | C20: Sonny Dorion | E20: 80 | F20: =E20+0 -> 80 | H20: 33 | I20: 42 | M20: 22 | N20: 36 | W20: 39 | X20: 49 | AV20: =SUM(BA20+BB20) -> 221 | AW20: =(AV19-AV20) -> 5 | BA20: =SUM(CH20:CP20) -> 221 | BB20: =SUM(CY20:DC20) -> 0 | BF20: =H20 -> 33 | BG20: =I20 -> 42 | BH20: =M20 -> 22 | BI20: =N20 -> 36 | BJ20: =R20 -> 0 | BK20: =S20 -> 0 | BL20: =W20 -> 39 | BM20: =X20 -> 49 | BN20: =AB20 -> 0 | BO20: =AC20 -> 0 | BP20: =AG20 -> 0 | BQ20: =AH20 -> 0 | BR20: =AL20 -> 0 | BS20: =AM20 -> 0 | BT20: =AQ20 -> 0 | BU20: =AR20 -> 0 | BV20: =SUM(BF20:BU20) -> 221 | BX20: =SUM(J20:L20) -> 0 | BY20: =SUM(O20:Q20) -> 0 | BZ20: =SUM(T20:V20) -> 0 | CA20: =SUM(Y20:AA20) -> 0 | CB20: =SUM(AD20:AF20) -> 0 | CC20: =SUM(AI20:AK20) -> 0 | CD20: =SUM(AN20:AP20) -> 0 | CE20: =SUM(AS20:AU20) -> 0 | CF20: =SUM(BX20:CE20) -> 0 | CH20: =LARGE((BF20:BU20),1) -> 49 | CI20: =LARGE((BF20:BU20),2) -> 42 | CJ20: =LARGE((BF20:BU20),3) -> 39 | CK20: =LARGE((BF20:BU20),4) -> 36 | CL20: =LARGE((BF20:BU20),5) -> 33 | CM20: =LARGE((BF20:BU20),6) -> 22 | CN20: =LARGE((BF20:BU20),7) -> 0 | CO20: =LARGE((BF20:BU20),8) -> 0 | CP20: =LARGE((BF20:BU20),9) -> 0 | CQ20: =LARGE((BF20:BU20),10) -> 0 | CR20: =LARGE((BF20:BU20),11) -> 0 | CS20: =LARGE((BF20:BU20),12) -> 0 | CT20: =LARGE((BF20:BU20),13) -> 0 | CU20: =LARGE((BF20:BU20),14) -> 0 | CV20: =LARGE((BF20:BU20),15) -> 0 | CW20: =LARGE((BF20:BU20),16) -> 0 | CY20: =LARGE((BX20:CE20),1) -> 0 | CZ20: =LARGE((BX20:CE20),2) -> 0 | DA20: =LARGE((BX20:CE20),3) -> 0 | DB20: =LARGE((BX20:CE20),4) -> 0 | DC20: =LARGE((BX20:CE20),5) -> 0 | DD20: =LARGE((BX20:CE20),6) -> 0 | DE20: =LARGE((BX20:CE20),7) -> 0 | DF20: =LARGE((BX20:CE20),8) -> 0
A21: 18 | B21: 18 | C21: Ennio Antonio Desini | E21: 80 | F21: =E21+0 -> 80 | M21: 30 | N21: 49 | Q21: 3 | W21: 54 | X21: 67 | AV21: =SUM(BA21+BB21) -> 203 | AW21: =(AV20-AV21) -> 18 | BA21: =SUM(CH21:CP21) -> 200 | BB21: =SUM(CY21:DC21) -> 3 | BF21: =H21 -> 0 | BG21: =I21 -> 0 | BH21: =M21 -> 30 | BI21: =N21 -> 49 | BJ21: =R21 -> 0 | BK21: =S21 -> 0 | BL21: =W21 -> 54 | BM21: =X21 -> 67 | BN21: =AB21 -> 0 | BO21: =AC21 -> 0 | BP21: =AG21 -> 0 | BQ21: =AH21 -> 0 | BR21: =AL21 -> 0 | BS21: =AM21 -> 0 | BT21: =AQ21 -> 0 | BU21: =AR21 -> 0 | BV21: =SUM(BF21:BU21) -> 200 | BX21: =SUM(J21:L21) -> 0 | BY21: =SUM(O21:Q21) -> 3 | BZ21: =SUM(T21:V21) -> 0 | CA21: =SUM(Y21:AA21) -> 0 | CB21: =SUM(AD21:AF21) -> 0 | CC21: =SUM(AI21:AK21) -> 0 | CD21: =SUM(AN21:AP21) -> 0 | CE21: =SUM(AS21:AU21) -> 0 | CF21: =SUM(BX21:CE21) -> 3 | CH21: =LARGE((BF21:BU21),1) -> 67 | CI21: =LARGE((BF21:BU21),2) -> 54 | CJ21: =LARGE((BF21:BU21),3) -> 49 | CK21: =LARGE((BF21:BU21),4) -> 30 | CL21: =LARGE((BF21:BU21),5) -> 0 | CM21: =LARGE((BF21:BU21),6) -> 0 | CN21: =LARGE((BF21:BU21),7) -> 0 | CO21: =LARGE((BF21:BU21),8) -> 0 | CP21: =LARGE((BF21:BU21),9) -> 0 | CQ21: =LARGE((BF21:BU21),10) -> 0 | CR21: =LARGE((BF21:BU21),11) -> 0 | CS21: =LARGE((BF21:BU21),12) -> 0 | CT21: =LARGE((BF21:BU21),13) -> 0 | CU21: =LARGE((BF21:BU21),14) -> 0 | CV21: =LARGE((BF21:BU21),15) -> 0 | CW21: =LARGE((BF21:BU21),16) -> 0 | CY21: =LARGE((BX21:CE21),1) -> 3 | CZ21: =LARGE((BX21:CE21),2) -> 0 | DA21: =LARGE((BX21:CE21),3) -> 0 | DB21: =LARGE((BX21:CE21),4) -> 0 | DC21: =LARGE((BX21:CE21),5) -> 0 | DD21: =LARGE((BX21:CE21),6) -> 0 | DE21: =LARGE((BX21:CE21),7) -> 0 | DF21: =LARGE((BX21:CE21),8) -> 0
A22: 19 | B22: 19 | C22: Carlo Fanini | E22: 80 | F22: =E22+0 -> 80 | M22: 28 | N22: 28 | AB22: 39 | AC22: 30 | AG22: 36 | AH22: 42 | AV22: =SUM(BA22+BB22) -> 203 | AW22: =(AV21-AV22) -> 0 | BA22: =SUM(CH22:CP22) -> 203 | BB22: =SUM(CY22:DC22) -> 0 | BF22: =H22 -> 0 | BG22: =I22 -> 0 | BH22: =M22 -> 28 | BI22: =N22 -> 28 | BJ22: =R22 -> 0 | BK22: =S22 -> 0 | BL22: =W22 -> 0 | BM22: =X22 -> 0 | BN22: =AB22 -> 39 | BO22: =AC22 -> 30 | BP22: =AG22 -> 36 | BQ22: =AH22 -> 42 | BR22: =AL22 -> 0 | BS22: =AM22 -> 0 | BT22: =AQ22 -> 0 | BU22: =AR22 -> 0 | BV22: =SUM(BF22:BU22) -> 203 | BX22: =SUM(J22:L22) -> 0 | BY22: =SUM(O22:Q22) -> 0 | BZ22: =SUM(T22:V22) -> 0 | CA22: =SUM(Y22:AA22) -> 0 | CB22: =SUM(AD22:AF22) -> 0 | CC22: =SUM(AI22:AK22) -> 0 | CD22: =SUM(AN22:AP22) -> 0 | CE22: =SUM(AS22:AU22) -> 0 | CF22: =SUM(BX22:CE22) -> 0 | CH22: =LARGE((BF22:BU22),1) -> 42 | CI22: =LARGE((BF22:BU22),2) -> 39 | CJ22: =LARGE((BF22:BU22),3) -> 36 | CK22: =LARGE((BF22:BU22),4) -> 30 | CL22: =LARGE((BF22:BU22),5) -> 28 | CM22: =LARGE((BF22:BU22),6) -> 28 | CN22: =LARGE((BF22:BU22),7) -> 0 | CO22: =LARGE((BF22:BU22),8) -> 0 | CP22: =LARGE((BF22:BU22),9) -> 0 | CQ22: =LARGE((BF22:BU22),10) -> 0 | CR22: =LARGE((BF22:BU22),11) -> 0 | CS22: =LARGE((BF22:BU22),12) -> 0 | CT22: =LARGE((BF22:BU22),13) -> 0 | CU22: =LARGE((BF22:BU22),14) -> 0 | CV22: =LARGE((BF22:BU22),15) -> 0 | CW22: =LARGE((BF22:BU22),16) -> 0 | CY22: =LARGE((BX22:CE22),1) -> 0 | CZ22: =LARGE((BX22:CE22),2) -> 0 | DA22: =LARGE((BX22:CE22),3) -> 0 | DB22: =LARGE((BX22:CE22),4) -> 0 | DC22: =LARGE((BX22:CE22),5) -> 0 | DD22: =LARGE((BX22:CE22),6) -> 0 | DE22: =LARGE((BX22:CE22),7) -> 0 | DF22: =LARGE((BX22:CE22),8) -> 0
A23: 20 | B23: 20 | C23: Emad El Mattar | E23: 80 | F23: =E23+0 -> 80 | AB23: 28 | AC23: 26 | AL23: 30 | AM23: 33 | AV23: =SUM(BA23+BB23) -> 117 | AW23: =(AV22-AV23) -> 86 | BA23: =SUM(CH23:CP23) -> 117 | BB23: =SUM(CY23:DC23) -> 0 | BF23: =H23 -> 0 | BG23: =I23 -> 0 | BH23: =M23 -> 0 | BI23: =N23 -> 0 | BJ23: =R23 -> 0 | BK23: =S23 -> 0 | BL23: =W23 -> 0 | BM23: =X23 -> 0 | BN23: =AB23 -> 28 | BO23: =AC23 -> 26 | BP23: =AG23 -> 0 | BQ23: =AH23 -> 0 | BR23: =AL23 -> 30 | BS23: =AM23 -> 33 | BT23: =AQ23 -> 0 | BU23: =AR23 -> 0 | BV23: =SUM(BF23:BU23) -> 117 | BX23: =SUM(J23:L23) -> 0 | BY23: =SUM(O23:Q23) -> 0 | BZ23: =SUM(T23:V23) -> 0 | CA23: =SUM(Y23:AA23) -> 0 | CB23: =SUM(AD23:AF23) -> 0 | CC23: =SUM(AI23:AK23) -> 0 | CD23: =SUM(AN23:AP23) -> 0 | CE23: =SUM(AS23:AU23) -> 0 | CF23: =SUM(BX23:CE23) -> 0 | CH23: =LARGE((BF23:BU23),1) -> 33 | CI23: =LARGE((BF23:BU23),2) -> 30 | CJ23: =LARGE((BF23:BU23),3) -> 28 | CK23: =LARGE((BF23:BU23),4) -> 26 | CL23: =LARGE((BF23:BU23),5) -> 0 | CM23: =LARGE((BF23:BU23),6) -> 0 | CN23: =LARGE((BF23:BU23),7) -> 0 | CO23: =LARGE((BF23:BU23),8) -> 0 | CP23: =LARGE((BF23:BU23),9) -> 0 | CQ23: =LARGE((BF23:BU23),10) -> 0 | CR23: =LARGE((BF23:BU23),11) -> 0 | CS23: =LARGE((BF23:BU23),12) -> 0 | CT23: =LARGE((BF23:BU23),13) -> 0 | CU23: =LARGE((BF23:BU23),14) -> 0 | CV23: =LARGE((BF23:BU23),15) -> 0 | CW23: =LARGE((BF23:BU23),16) -> 0 | CY23: =LARGE((BX23:CE23),1) -> 0 | CZ23: =LARGE((BX23:CE23),2) -> 0 | DA23: =LARGE((BX23:CE23),3) -> 0 | DB23: =LARGE((BX23:CE23),4) -> 0 | DC23: =LARGE((BX23:CE23),5) -> 0 | DD23: =LARGE((BX23:CE23),6) -> 0 | DE23: =LARGE((BX23:CE23),7) -> 0 | DF23: =LARGE((BX23:CE23),8) -> 0
A24: 21 | B24: 21 | C24: Ilyas Shaikh | E24: 80 | F24: =E24+0 -> 80 | W24: 67 | X24: 42 | Z24: 3 | AV24: =SUM(BA24+BB24) -> 112 | AW24: =(AV23-AV24) -> 5 | BA24: =SUM(CH24:CP24) -> 109 | BB24: =SUM(CY24:DC24) -> 3 | BF24: =H24 -> 0 | BG24: =I24 -> 0 | BH24: =M24 -> 0 | BI24: =N24 -> 0 | BJ24: =R24 -> 0 | BK24: =S24 -> 0 | BL24: =W24 -> 67 | BM24: =X24 -> 42 | BN24: =AB24 -> 0 | BO24: =AC24 -> 0 | BP24: =AG24 -> 0 | BQ24: =AH24 -> 0 | BR24: =AL24 -> 0 | BS24: =AM24 -> 0 | BT24: =AQ24 -> 0 | BU24: =AR24 -> 0 | BV24: =SUM(BF24:BU24) -> 109 | BX24: =SUM(J24:L24) -> 0 | BY24: =SUM(O24:Q24) -> 0 | BZ24: =SUM(T24:V24) -> 0 | CA24: =SUM(Y24:AA24) -> 3 | CB24: =SUM(AD24:AF24) -> 0 | CC24: =SUM(AI24:AK24) -> 0 | CD24: =SUM(AN24:AP24) -> 0 | CE24: =SUM(AS24:AU24) -> 0 | CF24: =SUM(BX24:CE24) -> 3 | CH24: =LARGE((BF24:BU24),1) -> 67 | CI24: =LARGE((BF24:BU24),2) -> 42 | CJ24: =LARGE((BF24:BU24),3) -> 0 | CK24: =LARGE((BF24:BU24),4) -> 0 | CL24: =LARGE((BF24:BU24),5) -> 0 | CM24: =LARGE((BF24:BU24),6) -> 0 | CN24: =LARGE((BF24:BU24),7) -> 0 | CO24: =LARGE((BF24:BU24),8) -> 0 | CP24: =LARGE((BF24:BU24),9) -> 0 | CQ24: =LARGE((BF24:BU24),10) -> 0 | CR24: =LARGE((BF24:BU24),11) -> 0 | CS24: =LARGE((BF24:BU24),12) -> 0 | CT24: =LARGE((BF24:BU24),13) -> 0 | CU24: =LARGE((BF24:BU24),14) -> 0 | CV24: =LARGE((BF24:BU24),15) -> 0 | CW24: =LARGE((BF24:BU24),16) -> 0 | CY24: =LARGE((BX24:CE24),1) -> 3 | CZ24: =LARGE((BX24:CE24),2) -> 0 | DA24: =LARGE((BX24:CE24),3) -> 0 | DB24: =LARGE((BX24:CE24),4) -> 0 | DC24: =LARGE((BX24:CE24),5) -> 0 | DD24: =LARGE((BX24:CE24),6) -> 0 | DE24: =LARGE((BX24:CE24),7) -> 0 | DF24: =LARGE((BX24:CE24),8) -> 0
A25: 22 | B25: 22 | C25: Paul Holland | E25: 80 | F25: =E25+0 -> 80 | H25: 24 | I25: 24 | AL25: 26 | AM25: 28 | AV25: =SUM(BA25+BB25) -> 102 | AW25: =(AV24-AV25) -> 10 | BA25: =SUM(CH25:CP25) -> 102 | BB25: =SUM(CY25:DC25) -> 0 | BF25: =H25 -> 24 | BG25: =I25 -> 24 | BH25: =M25 -> 0 | BI25: =N25 -> 0 | BJ25: =R25 -> 0 | BK25: =S25 -> 0 | BL25: =W25 -> 0 | BM25: =X25 -> 0 | BN25: =AB25 -> 0 | BO25: =AC25 -> 0 | BP25: =AG25 -> 0 | BQ25: =AH25 -> 0 | BR25: =AL25 -> 26 | BS25: =AM25 -> 28 | BT25: =AQ25 -> 0 | BU25: =AR25 -> 0 | BV25: =SUM(BF25:BU25) -> 102 | BX25: =SUM(J25:L25) -> 0 | BY25: =SUM(O25:Q25) -> 0 | BZ25: =SUM(T25:V25) -> 0 | CA25: =SUM(Y25:AA25) -> 0 | CB25: =SUM(AD25:AF25) -> 0 | CC25: =SUM(AI25:AK25) -> 0 | CD25: =SUM(AN25:AP25) -> 0 | CE25: =SUM(AS25:AU25) -> 0 | CF25: =SUM(BX25:CE25) -> 0 | CH25: =LARGE((BF25:BU25),1) -> 28 | CI25: =LARGE((BF25:BU25),2) -> 26 | CJ25: =LARGE((BF25:BU25),3) -> 24 | CK25: =LARGE((BF25:BU25),4) -> 24 | CL25: =LARGE((BF25:BU25),5) -> 0 | CM25: =LARGE((BF25:BU25),6) -> 0 | CN25: =LARGE((BF25:BU25),7) -> 0 | CO25: =LARGE((BF25:BU25),8) -> 0 | CP25: =LARGE((BF25:BU25),9) -> 0 | CQ25: =LARGE((BF25:BU25),10) -> 0 | CR25: =LARGE((BF25:BU25),11) -> 0 | CS25: =LARGE((BF25:BU25),12) -> 0 | CT25: =LARGE((BF25:BU25),13) -> 0 | CU25: =LARGE((BF25:BU25),14) -> 0 | CV25: =LARGE((BF25:BU25),15) -> 0 | CW25: =LARGE((BF25:BU25),16) -> 0 | CY25: =LARGE((BX25:CE25),1) -> 0 | CZ25: =LARGE((BX25:CE25),2) -> 0 | DA25: =LARGE((BX25:CE25),3) -> 0 | DB25: =LARGE((BX25:CE25),4) -> 0 | DC25: =LARGE((BX25:CE25),5) -> 0 | DD25: =LARGE((BX25:CE25),6) -> 0 | DE25: =LARGE((BX25:CE25),7) -> 0 | DF25: =LARGE((BX25:CE25),8) -> 0
B26: 23 | C26: Zuhier Zulkifli | E26: 80 | F26: =E26+0 -> 80 | AQ26: 45 | AR26: 49 | AV26: =SUM(BA26+BB26) -> 94 | AW26: =(AV25-AV26) -> 8 | BA26: =SUM(CH26:CP26) -> 94 | BB26: =SUM(CY26:DC26) -> 0 | BF26: =H26 -> 0 | BG26: =I26 -> 0 | BH26: =M26 -> 0 | BI26: =N26 -> 0 | BJ26: =R26 -> 0 | BK26: =S26 -> 0 | BL26: =W26 -> 0 | BM26: =X26 -> 0 | BN26: =AB26 -> 0 | BO26: =AC26 -> 0 | BP26: =AG26 -> 0 | BQ26: =AH26 -> 0 | BR26: =AL26 -> 0 | BS26: =AM26 -> 0 | BT26: =AQ26 -> 45 | BU26: =AR26 -> 49 | BV26: =SUM(BF26:BU26) -> 94 | BX26: =SUM(J26:L26) -> 0 | BY26: =SUM(O26:Q26) -> 0 | BZ26: =SUM(T26:V26) -> 0 | CA26: =SUM(Y26:AA26) -> 0 | CB26: =SUM(AD26:AF26) -> 0 | CC26: =SUM(AI26:AK26) -> 0 | CD26: =SUM(AN26:AP26) -> 0 | CE26: =SUM(AS26:AU26) -> 0 | CF26: =SUM(BX26:CE26) -> 0 | CH26: =LARGE((BF26:BU26),1) -> 49 | CI26: =LARGE((BF26:BU26),2) -> 45 | CJ26: =LARGE((BF26:BU26),3) -> 0 | CK26: =LARGE((BF26:BU26),4) -> 0 | CL26: =LARGE((BF26:BU26),5) -> 0 | CM26: =LARGE((BF26:BU26),6) -> 0 | CN26: =LARGE((BF26:BU26),7) -> 0 | CO26: =LARGE((BF26:BU26),8) -> 0 | CP26: =LARGE((BF26:BU26),9) -> 0 | CQ26: =LARGE((BF26:BU26),10) -> 0 | CR26: =LARGE((BF26:BU26),11) -> 0 | CS26: =LARGE((BF26:BU26),12) -> 0 | CT26: =LARGE((BF26:BU26),13) -> 0 | CU26: =LARGE((BF26:BU26),14) -> 0 | CV26: =LARGE((BF26:BU26),15) -> 0 | CW26: =LARGE((BF26:BU26),16) -> 0 | CY26: =LARGE((BX26:CE26),1) -> 0 | CZ26: =LARGE((BX26:CE26),2) -> 0 | DA26: =LARGE((BX26:CE26),3) -> 0 | DB26: =LARGE((BX26:CE26),4) -> 0 | DC26: =LARGE((BX26:CE26),5) -> 0 | DD26: =LARGE((BX26:CE26),6) -> 0 | DE26: =LARGE((BX26:CE26),7) -> 0 | DF26: =LARGE((BX26:CE26),8) -> 0
A27: 23 | B27: 24 | C27: Matija Babic | E27: 80 | F27: =E27+0 -> 80 | H27: 26 | I27: 54 | AV27: =SUM(BA27+BB27) -> 80 | AW27: =(AV26-AV27) -> 14 | BA27: =SUM(CH27:CP27) -> 80 | BB27: =SUM(CY27:DC27) -> 0 | BF27: =H27 -> 26 | BG27: =I27 -> 54 | BH27: =M27 -> 0 | BI27: =N27 -> 0 | BJ27: =R27 -> 0 | BK27: =S27 -> 0 | BL27: =W27 -> 0 | BM27: =X27 -> 0 | BN27: =AB27 -> 0 | BO27: =AC27 -> 0 | BP27: =AG27 -> 0 | BQ27: =AH27 -> 0 | BR27: =AL27 -> 0 | BS27: =AM27 -> 0 | BT27: =AQ27 -> 0 | BU27: =AR27 -> 0 | BV27: =SUM(BF27:BU27) -> 80 | BX27: =SUM(J27:L27) -> 0 | BY27: =SUM(O27:Q27) -> 0 | BZ27: =SUM(T27:V27) -> 0 | CA27: =SUM(Y27:AA27) -> 0 | CB27: =SUM(AD27:AF27) -> 0 | CC27: =SUM(AI27:AK27) -> 0 | CD27: =SUM(AN27:AP27) -> 0 | CE27: =SUM(AS27:AU27) -> 0 | CF27: =SUM(BX27:CE27) -> 0 | CH27: =LARGE((BF27:BU27),1) -> 54 | CI27: =LARGE((BF27:BU27),2) -> 26 | CJ27: =LARGE((BF27:BU27),3) -> 0 | CK27: =LARGE((BF27:BU27),4) -> 0 | CL27: =LARGE((BF27:BU27),5) -> 0 | CM27: =LARGE((BF27:BU27),6) -> 0 | CN27: =LARGE((BF27:BU27),7) -> 0 | CO27: =LARGE((BF27:BU27),8) -> 0 | CP27: =LARGE((BF27:BU27),9) -> 0 | CQ27: =LARGE((BF27:BU27),10) -> 0 | CR27: =LARGE((BF27:BU27),11) -> 0 | CS27: =LARGE((BF27:BU27),12) -> 0 | CT27: =LARGE((BF27:BU27),13) -> 0 | CU27: =LARGE((BF27:BU27),14) -> 0 | CV27: =LARGE((BF27:BU27),15) -> 0 | CW27: =LARGE((BF27:BU27),16) -> 0 | CY27: =LARGE((BX27:CE27),1) -> 0 | CZ27: =LARGE((BX27:CE27),2) -> 0 | DA27: =LARGE((BX27:CE27),3) -> 0 | DB27: =LARGE((BX27:CE27),4) -> 0 | DC27: =LARGE((BX27:CE27),5) -> 0 | DD27: =LARGE((BX27:CE27),6) -> 0 | DE27: =LARGE((BX27:CE27),7) -> 0 | DF27: =LARGE((BX27:CE27),8) -> 0
A28: 24 | B28: 25 | C28: Hussain Alkhayat | E28: 80 | F28: =E28+0 -> 80 | M28: 36 | N28: 42 | AV28: =SUM(BA28+BB28) -> 78 | AW28: =(AV27-AV28) -> 2 | BA28: =SUM(CH28:CP28) -> 78 | BB28: =SUM(CY28:DC28) -> 0 | BF28: =H28 -> 0 | BG28: =I28 -> 0 | BH28: =M28 -> 36 | BI28: =N28 -> 42 | BJ28: =R28 -> 0 | BK28: =S28 -> 0 | BL28: =W28 -> 0 | BM28: =X28 -> 0 | BN28: =AB28 -> 0 | BO28: =AC28 -> 0 | BP28: =AG28 -> 0 | BQ28: =AH28 -> 0 | BR28: =AL28 -> 0 | BS28: =AM28 -> 0 | BT28: =AQ28 -> 0 | BU28: =AR28 -> 0 | BV28: =SUM(BF28:BU28) -> 78 | BX28: =SUM(J28:L28) -> 0 | BY28: =SUM(O28:Q28) -> 0 | BZ28: =SUM(T28:V28) -> 0 | CA28: =SUM(Y28:AA28) -> 0 | CB28: =SUM(AD28:AF28) -> 0 | CC28: =SUM(AI28:AK28) -> 0 | CD28: =SUM(AN28:AP28) -> 0 | CE28: =SUM(AS28:AU28) -> 0 | CF28: =SUM(BX28:CE28) -> 0 | CH28: =LARGE((BF28:BU28),1) -> 42 | CI28: =LARGE((BF28:BU28),2) -> 36 | CJ28: =LARGE((BF28:BU28),3) -> 0 | CK28: =LARGE((BF28:BU28),4) -> 0 | CL28: =LARGE((BF28:BU28),5) -> 0 | CM28: =LARGE((BF28:BU28),6) -> 0 | CN28: =LARGE((BF28:BU28),7) -> 0 | CO28: =LARGE((BF28:BU28),8) -> 0 | CP28: =LARGE((BF28:BU28),9) -> 0 | CQ28: =LARGE((BF28:BU28),10) -> 0 | CR28: =LARGE((BF28:BU28),11) -> 0 | CS28: =LARGE((BF28:BU28),12) -> 0 | CT28: =LARGE((BF28:BU28),13) -> 0 | CU28: =LARGE((BF28:BU28),14) -> 0 | CV28: =LARGE((BF28:BU28),15) -> 0 | CW28: =LARGE((BF28:BU28),16) -> 0 | CY28: =LARGE((BX28:CE28),1) -> 0 | CZ28: =LARGE((BX28:CE28),2) -> 0 | DA28: =LARGE((BX28:CE28),3) -> 0 | DB28: =LARGE((BX28:CE28),4) -> 0 | DC28: =LARGE((BX28:CE28),5) -> 0 | DD28: =LARGE((BX28:CE28),6) -> 0 | DE28: =LARGE((BX28:CE28),7) -> 0 | DF28: =LARGE((BX28:CE28),8) -> 0
A29: 25 | B29: 26 | C29: Lucas Metro | E29: 80 | F29: =E29+0 -> 80 | R29: 36 | S29: 33 | AV29: =SUM(BA29+BB29) -> 69 | AW29: =(AV28-AV29) -> 9 | BA29: =SUM(CH29:CP29) -> 69 | BB29: =SUM(CY29:DC29) -> 0 | BF29: =H29 -> 0 | BG29: =I29 -> 0 | BH29: =M29 -> 0 | BI29: =N29 -> 0 | BJ29: =R29 -> 36 | BK29: =S29 -> 33 | BL29: =W29 -> 0 | BM29: =X29 -> 0 | BN29: =AB29 -> 0 | BO29: =AC29 -> 0 | BP29: =AG29 -> 0 | BQ29: =AH29 -> 0 | BR29: =AL29 -> 0 | BS29: =AM29 -> 0 | BT29: =AQ29 -> 0 | BU29: =AR29 -> 0 | BV29: =SUM(BF29:BU29) -> 69 | BX29: =SUM(J29:L29) -> 0 | BY29: =SUM(O29:Q29) -> 0 | BZ29: =SUM(T29:V29) -> 0 | CA29: =SUM(Y29:AA29) -> 0 | CB29: =SUM(AD29:AF29) -> 0 | CC29: =SUM(AI29:AK29) -> 0 | CD29: =SUM(AN29:AP29) -> 0 | CE29: =SUM(AS29:AU29) -> 0 | CF29: =SUM(BX29:CE29) -> 0 | CH29: =LARGE((BF29:BU29),1) -> 36 | CI29: =LARGE((BF29:BU29),2) -> 33 | CJ29: =LARGE((BF29:BU29),3) -> 0 | CK29: =LARGE((BF29:BU29),4) -> 0 | CL29: =LARGE((BF29:BU29),5) -> 0 | CM29: =LARGE((BF29:BU29),6) -> 0 | CN29: =LARGE((BF29:BU29),7) -> 0 | CO29: =LARGE((BF29:BU29),8) -> 0 | CP29: =LARGE((BF29:BU29),9) -> 0 | CQ29: =LARGE((BF29:BU29),10) -> 0 | CR29: =LARGE((BF29:BU29),11) -> 0 | CS29: =LARGE((BF29:BU29),12) -> 0 | CT29: =LARGE((BF29:BU29),13) -> 0 | CU29: =LARGE((BF29:BU29),14) -> 0 | CV29: =LARGE((BF29:BU29),15) -> 0 | CW29: =LARGE((BF29:BU29),16) -> 0 | CY29: =LARGE((BX29:CE29),1) -> 0 | CZ29: =LARGE((BX29:CE29),2) -> 0 | DA29: =LARGE((BX29:CE29),3) -> 0 | DB29: =LARGE((BX29:CE29),4) -> 0 | DC29: =LARGE((BX29:CE29),5) -> 0 | DD29: =LARGE((BX29:CE29),6) -> 0 | DE29: =LARGE((BX29:CE29),7) -> 0 | DF29: =LARGE((BX29:CE29),8) -> 0
A30: 26 | B30: 27 | C30: Teresa Wojtanka | E30: 80 | F30: =E30+0 -> 80 | AL30: 33 | AM30: 36 | AV30: =SUM(BA30+BB30) -> 69 | AW30: =(AV29-AV30) -> 0 | BA30: =SUM(CH30:CP30) -> 69 | BB30: =SUM(CY30:DC30) -> 0 | BF30: =H30 -> 0 | BG30: =I30 -> 0 | BH30: =M30 -> 0 | BI30: =N30 -> 0 | BJ30: =R30 -> 0 | BK30: =S30 -> 0 | BL30: =W30 -> 0 | BM30: =X30 -> 0 | BN30: =AB30 -> 0 | BO30: =AC30 -> 0 | BP30: =AG30 -> 0 | BQ30: =AH30 -> 0 | BR30: =AL30 -> 33 | BS30: =AM30 -> 36 | BT30: =AQ30 -> 0 | BU30: =AR30 -> 0 | BV30: =SUM(BF30:BU30) -> 69 | BX30: =SUM(J30:L30) -> 0 | BY30: =SUM(O30:Q30) -> 0 | BZ30: =SUM(T30:V30) -> 0 | CA30: =SUM(Y30:AA30) -> 0 | CB30: =SUM(AD30:AF30) -> 0 | CC30: =SUM(AI30:AK30) -> 0 | CD30: =SUM(AN30:AP30) -> 0 | CE30: =SUM(AS30:AU30) -> 0 | CF30: =SUM(BX30:CE30) -> 0 | CH30: =LARGE((BF30:BU30),1) -> 36 | CI30: =LARGE((BF30:BU30),2) -> 33 | CJ30: =LARGE((BF30:BU30),3) -> 0 | CK30: =LARGE((BF30:BU30),4) -> 0 | CL30: =LARGE((BF30:BU30),5) -> 0 | CM30: =LARGE((BF30:BU30),6) -> 0 | CN30: =LARGE((BF30:BU30),7) -> 0 | CO30: =LARGE((BF30:BU30),8) -> 0 | CP30: =LARGE((BF30:BU30),9) -> 0 | CQ30: =LARGE((BF30:BU30),10) -> 0 | CR30: =LARGE((BF30:BU30),11) -> 0 | CS30: =LARGE((BF30:BU30),12) -> 0 | CT30: =LARGE((BF30:BU30),13) -> 0 | CU30: =LARGE((BF30:BU30),14) -> 0 | CV30: =LARGE((BF30:BU30),15) -> 0 | CW30: =LARGE((BF30:BU30),16) -> 0 | CY30: =LARGE((BX30:CE30),1) -> 0 | CZ30: =LARGE((BX30:CE30),2) -> 0 | DA30: =LARGE((BX30:CE30),3) -> 0 | DB30: =LARGE((BX30:CE30),4) -> 0 | DC30: =LARGE((BX30:CE30),5) -> 0 | DD30: =LARGE((BX30:CE30),6) -> 0 | DE30: =LARGE((BX30:CE30),7) -> 0 | DF30: =LARGE((BX30:CE30),8) -> 0
A31: 27 | B31: 28 | C31: Sultan Khalifa | E31: 80 | F31: =E31+0 -> 80 | AL31: 39 | AM31: 26 | AV31: =SUM(BA31+BB31) -> 65 | AW31: =(AV30-AV31) -> 4 | BA31: =SUM(CH31:CP31) -> 65 | BB31: =SUM(CY31:DC31) -> 0 | BF31: =H31 -> 0 | BG31: =I31 -> 0 | BH31: =M31 -> 0 | BI31: =N31 -> 0 | BJ31: =R31 -> 0 | BK31: =S31 -> 0 | BL31: =W31 -> 0 | BM31: =X31 -> 0 | BN31: =AB31 -> 0 | BO31: =AC31 -> 0 | BP31: =AG31 -> 0 | BQ31: =AH31 -> 0 | BR31: =AL31 -> 39 | BS31: =AM31 -> 26 | BT31: =AQ31 -> 0 | BU31: =AR31 -> 0 | BV31: =SUM(BF31:BU31) -> 65 | BX31: =SUM(J31:L31) -> 0 | BY31: =SUM(O31:Q31) -> 0 | BZ31: =SUM(T31:V31) -> 0 | CA31: =SUM(Y31:AA31) -> 0 | CB31: =SUM(AD31:AF31) -> 0 | CC31: =SUM(AI31:AK31) -> 0 | CD31: =SUM(AN31:AP31) -> 0 | CE31: =SUM(AS31:AU31) -> 0 | CF31: =SUM(BX31:CE31) -> 0 | CH31: =LARGE((BF31:BU31),1) -> 39 | CI31: =LARGE((BF31:BU31),2) -> 26 | CJ31: =LARGE((BF31:BU31),3) -> 0 | CK31: =LARGE((BF31:BU31),4) -> 0 | CL31: =LARGE((BF31:BU31),5) -> 0 | CM31: =LARGE((BF31:BU31),6) -> 0 | CN31: =LARGE((BF31:BU31),7) -> 0 | CO31: =LARGE((BF31:BU31),8) -> 0 | CP31: =LARGE((BF31:BU31),9) -> 0 | CQ31: =LARGE((BF31:BU31),10) -> 0 | CR31: =LARGE((BF31:BU31),11) -> 0 | CS31: =LARGE((BF31:BU31),12) -> 0 | CT31: =LARGE((BF31:BU31),13) -> 0 | CU31: =LARGE((BF31:BU31),14) -> 0 | CV31: =LARGE((BF31:BU31),15) -> 0 | CW31: =LARGE((BF31:BU31),16) -> 0 | CY31: =LARGE((BX31:CE31),1) -> 0 | CZ31: =LARGE((BX31:CE31),2) -> 0 | DA31: =LARGE((BX31:CE31),3) -> 0 | DB31: =LARGE((BX31:CE31),4) -> 0 | DC31: =LARGE((BX31:CE31),5) -> 0 | DD31: =LARGE((BX31:CE31),6) -> 0 | DE31: =LARGE((BX31:CE31),7) -> 0 | DF31: =LARGE((BX31:CE31),8) -> 0
A32: 28 | B32: 29 | C32: Chandrashekar Chanagonda | E32: 80 | F32: =E32+0 -> 80 | R32: 33 | S32: 30 | AV32: =SUM(BA32+BB32) -> 63 | AW32: =(AV31-AV32) -> 2 | BA32: =SUM(CH32:CP32) -> 63 | BB32: =SUM(CY32:DC32) -> 0 | BF32: =H32 -> 0 | BG32: =I32 -> 0 | BH32: =M32 -> 0 | BI32: =N32 -> 0 | BJ32: =R32 -> 33 | BK32: =S32 -> 30 | BL32: =W32 -> 0 | BM32: =X32 -> 0 | BN32: =AB32 -> 0 | BO32: =AC32 -> 0 | BP32: =AG32 -> 0 | BQ32: =AH32 -> 0 | BR32: =AL32 -> 0 | BS32: =AM32 -> 0 | BT32: =AQ32 -> 0 | BU32: =AR32 -> 0 | BV32: =SUM(BF32:BU32) -> 63 | BX32: =SUM(J32:L32) -> 0 | BY32: =SUM(O32:Q32) -> 0 | BZ32: =SUM(T32:V32) -> 0 | CA32: =SUM(Y32:AA32) -> 0 | CB32: =SUM(AD32:AF32) -> 0 | CC32: =SUM(AI32:AK32) -> 0 | CD32: =SUM(AN32:AP32) -> 0 | CE32: =SUM(AS32:AU32) -> 0 | CF32: =SUM(BX32:CE32) -> 0 | CH32: =LARGE((BF32:BU32),1) -> 33 | CI32: =LARGE((BF32:BU32),2) -> 30 | CJ32: =LARGE((BF32:BU32),3) -> 0 | CK32: =LARGE((BF32:BU32),4) -> 0 | CL32: =LARGE((BF32:BU32),5) -> 0 | CM32: =LARGE((BF32:BU32),6) -> 0 | CN32: =LARGE((BF32:BU32),7) -> 0 | CO32: =LARGE((BF32:BU32),8) -> 0 | CP32: =LARGE((BF32:BU32),9) -> 0 | CQ32: =LARGE((BF32:BU32),10) -> 0 | CR32: =LARGE((BF32:BU32),11) -> 0 | CS32: =LARGE((BF32:BU32),12) -> 0 | CT32: =LARGE((BF32:BU32),13) -> 0 | CU32: =LARGE((BF32:BU32),14) -> 0 | CV32: =LARGE((BF32:BU32),15) -> 0 | CW32: =LARGE((BF32:BU32),16) -> 0 | CY32: =LARGE((BX32:CE32),1) -> 0 | CZ32: =LARGE((BX32:CE32),2) -> 0 | DA32: =LARGE((BX32:CE32),3) -> 0 | DB32: =LARGE((BX32:CE32),4) -> 0 | DC32: =LARGE((BX32:CE32),5) -> 0 | DD32: =LARGE((BX32:CE32),6) -> 0 | DE32: =LARGE((BX32:CE32),7) -> 0 | DF32: =LARGE((BX32:CE32),8) -> 0
A33: 29 | B33: 30 | C33: Patricio Rosello | E33: 80 | F33: =E33+0 -> 80 | H33: 28 | I33: 26 | AV33: =SUM(BA33+BB33) -> 54 | AW33: =(AV32-AV33) -> 9 | BA33: =SUM(CH33:CP33) -> 54 | BB33: =SUM(CY33:DC33) -> 0 | BF33: =H33 -> 28 | BG33: =I33 -> 26 | BH33: =M33 -> 0 | BI33: =N33 -> 0 | BJ33: =R33 -> 0 | BK33: =S33 -> 0 | BL33: =W33 -> 0 | BM33: =X33 -> 0 | BN33: =AB33 -> 0 | BO33: =AC33 -> 0 | BP33: =AG33 -> 0 | BQ33: =AH33 -> 0 | BR33: =AL33 -> 0 | BS33: =AM33 -> 0 | BT33: =AQ33 -> 0 | BU33: =AR33 -> 0 | BV33: =SUM(BF33:BU33) -> 54 | BX33: =SUM(J33:L33) -> 0 | BY33: =SUM(O33:Q33) -> 0 | BZ33: =SUM(T33:V33) -> 0 | CA33: =SUM(Y33:AA33) -> 0 | CB33: =SUM(AD33:AF33) -> 0 | CC33: =SUM(AI33:AK33) -> 0 | CD33: =SUM(AN33:AP33) -> 0 | CE33: =SUM(AS33:AU33) -> 0 | CF33: =SUM(BX33:CE33) -> 0 | CH33: =LARGE((BF33:BU33),1) -> 28 | CI33: =LARGE((BF33:BU33),2) -> 26 | CJ33: =LARGE((BF33:BU33),3) -> 0 | CK33: =LARGE((BF33:BU33),4) -> 0 | CL33: =LARGE((BF33:BU33),5) -> 0 | CM33: =LARGE((BF33:BU33),6) -> 0 | CN33: =LARGE((BF33:BU33),7) -> 0 | CO33: =LARGE((BF33:BU33),8) -> 0 | CP33: =LARGE((BF33:BU33),9) -> 0 | CQ33: =LARGE((BF33:BU33),10) -> 0 | CR33: =LARGE((BF33:BU33),11) -> 0 | CS33: =LARGE((BF33:BU33),12) -> 0 | CT33: =LARGE((BF33:BU33),13) -> 0 | CU33: =LARGE((BF33:BU33),14) -> 0 | CV33: =LARGE((BF33:BU33),15) -> 0 | CW33: =LARGE((BF33:BU33),16) -> 0 | CY33: =LARGE((BX33:CE33),1) -> 0 | CZ33: =LARGE((BX33:CE33),2) -> 0 | DA33: =LARGE((BX33:CE33),3) -> 0 | DB33: =LARGE((BX33:CE33),4) -> 0 | DC33: =LARGE((BX33:CE33),5) -> 0 | DD33: =LARGE((BX33:CE33),6) -> 0 | DE33: =LARGE((BX33:CE33),7) -> 0 | DF33: =LARGE((BX33:CE33),8) -> 0
A34: 30 | B34: 31 | C34: Matteo Vanucci | E34: 80 | F34: =E34+0 -> 80 | M34: 26 | N34: 26 | AV34: =SUM(BA34+BB34) -> 52 | AW34: =(AV33-AV34) -> 2 | BA34: =SUM(CH34:CP34) -> 52 | BB34: =SUM(CY34:DC34) -> 0 | BF34: =H34 -> 0 | BG34: =I34 -> 0 | BH34: =M34 -> 26 | BI34: =N34 -> 26 | BJ34: =R34 -> 0 | BK34: =S34 -> 0 | BL34: =W34 -> 0 | BM34: =X34 -> 0 | BN34: =AB34 -> 0 | BO34: =AC34 -> 0 | BP34: =AG34 -> 0 | BQ34: =AH34 -> 0 | BR34: =AL34 -> 0 | BS34: =AM34 -> 0 | BT34: =AQ34 -> 0 | BU34: =AR34 -> 0 | BV34: =SUM(BF34:BU34) -> 52 | BX34: =SUM(J34:L34) -> 0 | BY34: =SUM(O34:Q34) -> 0 | BZ34: =SUM(T34:V34) -> 0 | CA34: =SUM(Y34:AA34) -> 0 | CB34: =SUM(AD34:AF34) -> 0 | CC34: =SUM(AI34:AK34) -> 0 | CD34: =SUM(AN34:AP34) -> 0 | CE34: =SUM(AS34:AU34) -> 0 | CF34: =SUM(BX34:CE34) -> 0 | CH34: =LARGE((BF34:BU34),1) -> 26 | CI34: =LARGE((BF34:BU34),2) -> 26 | CJ34: =LARGE((BF34:BU34),3) -> 0 | CK34: =LARGE((BF34:BU34),4) -> 0 | CL34: =LARGE((BF34:BU34),5) -> 0 | CM34: =LARGE((BF34:BU34),6) -> 0 | CN34: =LARGE((BF34:BU34),7) -> 0 | CO34: =LARGE((BF34:BU34),8) -> 0 | CP34: =LARGE((BF34:BU34),9) -> 0 | CQ34: =LARGE((BF34:BU34),10) -> 0 | CR34: =LARGE((BF34:BU34),11) -> 0 | CS34: =LARGE((BF34:BU34),12) -> 0 | CT34: =LARGE((BF34:BU34),13) -> 0 | CU34: =LARGE((BF34:BU34),14) -> 0 | CV34: =LARGE((BF34:BU34),15) -> 0 | CW34: =LARGE((BF34:BU34),16) -> 0 | CY34: =LARGE((BX34:CE34),1) -> 0 | CZ34: =LARGE((BX34:CE34),2) -> 0 | DA34: =LARGE((BX34:CE34),3) -> 0 | DB34: =LARGE((BX34:CE34),4) -> 0 | DC34: =LARGE((BX34:CE34),5) -> 0 | DD34: =LARGE((BX34:CE34),6) -> 0 | DE34: =LARGE((BX34:CE34),7) -> 0 | DF34: =LARGE((BX34:CE34),8) -> 0
A35: 31 | B35: 32 | C35: Khurshed Messman | E35: 80 | F35: =E35+0 -> 80 | AB35: 26 | AC35: 24 | AV35: =SUM(BA35+BB35) -> 50 | AW35: =(AV34-AV35) -> 2 | BA35: =SUM(CH35:CP35) -> 50 | BB35: =SUM(CY35:DC35) -> 0 | BF35: =H35 -> 0 | BG35: =I35 -> 0 | BH35: =M35 -> 0 | BI35: =N35 -> 0 | BJ35: =R35 -> 0 | BK35: =S35 -> 0 | BL35: =W35 -> 0 | BM35: =X35 -> 0 | BN35: =AB35 -> 26 | BO35: =AC35 -> 24 | BP35: =AG35 -> 0 | BQ35: =AH35 -> 0 | BR35: =AL35 -> 0 | BS35: =AM35 -> 0 | BT35: =AQ35 -> 0 | BU35: =AR35 -> 0 | BV35: =SUM(BF35:BU35) -> 50 | BX35: =SUM(J35:L35) -> 0 | BY35: =SUM(O35:Q35) -> 0 | BZ35: =SUM(T35:V35) -> 0 | CA35: =SUM(Y35:AA35) -> 0 | CB35: =SUM(AD35:AF35) -> 0 | CC35: =SUM(AI35:AK35) -> 0 | CD35: =SUM(AN35:AP35) -> 0 | CE35: =SUM(AS35:AU35) -> 0 | CF35: =SUM(BX35:CE35) -> 0 | CH35: =LARGE((BF35:BU35),1) -> 26 | CI35: =LARGE((BF35:BU35),2) -> 24 | CJ35: =LARGE((BF35:BU35),3) -> 0 | CK35: =LARGE((BF35:BU35),4) -> 0 | CL35: =LARGE((BF35:BU35),5) -> 0 | CM35: =LARGE((BF35:BU35),6) -> 0 | CN35: =LARGE((BF35:BU35),7) -> 0 | CO35: =LARGE((BF35:BU35),8) -> 0 | CP35: =LARGE((BF35:BU35),9) -> 0 | CQ35: =LARGE((BF35:BU35),10) -> 0 | CR35: =LARGE((BF35:BU35),11) -> 0 | CS35: =LARGE((BF35:BU35),12) -> 0 | CT35: =LARGE((BF35:BU35),13) -> 0 | CU35: =LARGE((BF35:BU35),14) -> 0 | CV35: =LARGE((BF35:BU35),15) -> 0 | CW35: =LARGE((BF35:BU35),16) -> 0 | CY35: =LARGE((BX35:CE35),1) -> 0 | CZ35: =LARGE((BX35:CE35),2) -> 0 | DA35: =LARGE((BX35:CE35),3) -> 0 | DB35: =LARGE((BX35:CE35),4) -> 0 | DC35: =LARGE((BX35:CE35),5) -> 0 | DD35: =LARGE((BX35:CE35),6) -> 0 | DE35: =LARGE((BX35:CE35),7) -> 0 | DF35: =LARGE((BX35:CE35),8) -> 0
A36: 32 | B36: 33 | C36: Tashi Namja Bhutia | E36: 80 | F36: =E36+0 -> 80 | W36: 20 | X36: 24 | AV36: =SUM(BA36+BB36) -> 44 | AW36: =(AV35-AV36) -> 6 | BA36: =SUM(CH36:CP36) -> 44 | BB36: =SUM(CY36:DC36) -> 0 | BF36: =H36 -> 0 | BG36: =I36 -> 0 | BH36: =M36 -> 0 | BI36: =N36 -> 0 | BJ36: =R36 -> 0 | BK36: =S36 -> 0 | BL36: =W36 -> 20 | BM36: =X36 -> 24 | BN36: =AB36 -> 0 | BO36: =AC36 -> 0 | BP36: =AG36 -> 0 | BQ36: =AH36 -> 0 | BR36: =AL36 -> 0 | BS36: =AM36 -> 0 | BT36: =AQ36 -> 0 | BU36: =AR36 -> 0 | BV36: =SUM(BF36:BU36) -> 44 | BX36: =SUM(J36:L36) -> 0 | BY36: =SUM(O36:Q36) -> 0 | BZ36: =SUM(T36:V36) -> 0 | CA36: =SUM(Y36:AA36) -> 0 | CB36: =SUM(AD36:AF36) -> 0 | CC36: =SUM(AI36:AK36) -> 0 | CD36: =SUM(AN36:AP36) -> 0 | CE36: =SUM(AS36:AU36) -> 0 | CF36: =SUM(BX36:CE36) -> 0 | CH36: =LARGE((BF36:BU36),1) -> 24 | CI36: =LARGE((BF36:BU36),2) -> 20 | CJ36: =LARGE((BF36:BU36),3) -> 0 | CK36: =LARGE((BF36:BU36),4) -> 0 | CL36: =LARGE((BF36:BU36),5) -> 0 | CM36: =LARGE((BF36:BU36),6) -> 0 | CN36: =LARGE((BF36:BU36),7) -> 0 | CO36: =LARGE((BF36:BU36),8) -> 0 | CP36: =LARGE((BF36:BU36),9) -> 0 | CQ36: =LARGE((BF36:BU36),10) -> 0 | CR36: =LARGE((BF36:BU36),11) -> 0 | CS36: =LARGE((BF36:BU36),12) -> 0 | CT36: =LARGE((BF36:BU36),13) -> 0 | CU36: =LARGE((BF36:BU36),14) -> 0 | CV36: =LARGE((BF36:BU36),15) -> 0 | CW36: =LARGE((BF36:BU36),16) -> 0 | CY36: =LARGE((BX36:CE36),1) -> 0 | CZ36: =LARGE((BX36:CE36),2) -> 0 | DA36: =LARGE((BX36:CE36),3) -> 0 | DB36: =LARGE((BX36:CE36),4) -> 0 | DC36: =LARGE((BX36:CE36),5) -> 0 | DD36: =LARGE((BX36:CE36),6) -> 0 | DE36: =LARGE((BX36:CE36),7) -> 0 | DF36: =LARGE((BX36:CE36),8) -> 0
A37: 33 | B37: 34 | C37: Mzamo Thabede | E37: 80 | F37: =E37+0 -> 80 | M37: 14 | N37: 16 | AV37: =SUM(BA37+BB37) -> 30 | AW37: =(AV36-AV37) -> 14 | BA37: =SUM(CH37:CP37) -> 30 | BB37: =SUM(CY37:DC37) -> 0 | BF37: =H37 -> 0 | BG37: =I37 -> 0 | BH37: =M37 -> 14 | BI37: =N37 -> 16 | BJ37: =R37 -> 0 | BK37: =S37 -> 0 | BL37: =W37 -> 0 | BM37: =X37 -> 0 | BN37: =AB37 -> 0 | BO37: =AC37 -> 0 | BP37: =AG37 -> 0 | BQ37: =AH37 -> 0 | BR37: =AL37 -> 0 | BS37: =AM37 -> 0 | BT37: =AQ37 -> 0 | BU37: =AR37 -> 0 | BV37: =SUM(BF37:BU37) -> 30 | BX37: =SUM(J37:L37) -> 0 | BY37: =SUM(O37:Q37) -> 0 | BZ37: =SUM(T37:V37) -> 0 | CA37: =SUM(Y37:AA37) -> 0 | CB37: =SUM(AD37:AF37) -> 0 | CC37: =SUM(AI37:AK37) -> 0 | CD37: =SUM(AN37:AP37) -> 0 | CE37: =SUM(AS37:AU37) -> 0 | CF37: =SUM(BX37:CE37) -> 0 | CH37: =LARGE((BF37:BU37),1) -> 16 | CI37: =LARGE((BF37:BU37),2) -> 14 | CJ37: =LARGE((BF37:BU37),3) -> 0 | CK37: =LARGE((BF37:BU37),4) -> 0 | CL37: =LARGE((BF37:BU37),5) -> 0 | CM37: =LARGE((BF37:BU37),6) -> 0 | CN37: =LARGE((BF37:BU37),7) -> 0 | CO37: =LARGE((BF37:BU37),8) -> 0 | CP37: =LARGE((BF37:BU37),9) -> 0 | CQ37: =LARGE((BF37:BU37),10) -> 0 | CR37: =LARGE((BF37:BU37),11) -> 0 | CS37: =LARGE((BF37:BU37),12) -> 0 | CT37: =LARGE((BF37:BU37),13) -> 0 | CU37: =LARGE((BF37:BU37),14) -> 0 | CV37: =LARGE((BF37:BU37),15) -> 0 | CW37: =LARGE((BF37:BU37),16) -> 0 | CY37: =LARGE((BX37:CE37),1) -> 0 | CZ37: =LARGE((BX37:CE37),2) -> 0 | DA37: =LARGE((BX37:CE37),3) -> 0 | DB37: =LARGE((BX37:CE37),4) -> 0 | DC37: =LARGE((BX37:CE37),5) -> 0 | DD37: =LARGE((BX37:CE37),6) -> 0 | DE37: =LARGE((BX37:CE37),7) -> 0 | DF37: =LARGE((BX37:CE37),8) -> 0
A38: 34 | B38: 35 | C38: Mohcine Hatifi | E38: 80 | F38: =E38+0 -> 80 | M38: 12 | N38: 14 | AV38: =SUM(BA38+BB38) -> 26 | AW38: =(AV37-AV38) -> 4 | BA38: =SUM(CH38:CP38) -> 26 | BB38: =SUM(CY38:DC38) -> 0 | BF38: =H38 -> 0 | BG38: =I38 -> 0 | BH38: =M38 -> 12 | BI38: =N38 -> 14 | BJ38: =R38 -> 0 | BK38: =S38 -> 0 | BL38: =W38 -> 0 | BM38: =X38 -> 0 | BN38: =AB38 -> 0 | BO38: =AC38 -> 0 | BP38: =AG38 -> 0 | BQ38: =AH38 -> 0 | BR38: =AL38 -> 0 | BS38: =AM38 -> 0 | BT38: =AQ38 -> 0 | BU38: =AR38 -> 0 | BV38: =SUM(BF38:BU38) -> 26 | BX38: =SUM(J38:L38) -> 0 | BY38: =SUM(O38:Q38) -> 0 | BZ38: =SUM(T38:V38) -> 0 | CA38: =SUM(Y38:AA38) -> 0 | CB38: =SUM(AD38:AF38) -> 0 | CC38: =SUM(AI38:AK38) -> 0 | CD38: =SUM(AN38:AP38) -> 0 | CE38: =SUM(AS38:AU38) -> 0 | CF38: =SUM(BX38:CE38) -> 0 | CH38: =LARGE((BF38:BU38),1) -> 14 | CI38: =LARGE((BF38:BU38),2) -> 12 | CJ38: =LARGE((BF38:BU38),3) -> 0 | CK38: =LARGE((BF38:BU38),4) -> 0 | CL38: =LARGE((BF38:BU38),5) -> 0 | CM38: =LARGE((BF38:BU38),6) -> 0 | CN38: =LARGE((BF38:BU38),7) -> 0 | CO38: =LARGE((BF38:BU38),8) -> 0 | CP38: =LARGE((BF38:BU38),9) -> 0 | CQ38: =LARGE((BF38:BU38),10) -> 0 | CR38: =LARGE((BF38:BU38),11) -> 0 | CS38: =LARGE((BF38:BU38),12) -> 0 | CT38: =LARGE((BF38:BU38),13) -> 0 | CU38: =LARGE((BF38:BU38),14) -> 0 | CV38: =LARGE((BF38:BU38),15) -> 0 | CW38: =LARGE((BF38:BU38),16) -> 0 | CY38: =LARGE((BX38:CE38),1) -> 0 | CZ38: =LARGE((BX38:CE38),2) -> 0 | DA38: =LARGE((BX38:CE38),3) -> 0 | DB38: =LARGE((BX38:CE38),4) -> 0 | DC38: =LARGE((BX38:CE38),5) -> 0 | DD38: =LARGE((BX38:CE38),6) -> 0 | DE38: =LARGE((BX38:CE38),7) -> 0 | DF38: =LARGE((BX38:CE38),8) -> 0
B39: 36 | E39: 80 | F39: =E39+0 -> 80 | AV39: =SUM(BA39+BB39) -> 0 | AW39: =(AV38-AV39) -> 26 | BA39: =SUM(CH39:CP39) -> 0 | BB39: =SUM(CY39:DC39) -> 0 | BF39: =H39 -> 0 | BG39: =I39 -> 0 | BH39: =M39 -> 0 | BI39: =N39 -> 0 | BJ39: =R39 -> 0 | BK39: =S39 -> 0 | BL39: =W39 -> 0 | BM39: =X39 -> 0 | BN39: =AB39 -> 0 | BO39: =AC39 -> 0 | BP39: =AG39 -> 0 | BQ39: =AH39 -> 0 | BR39: =AL39 -> 0 | BS39: =AM39 -> 0 | BT39: =AQ39 -> 0 | BU39: =AR39 -> 0 | BV39: =SUM(BF39:BU39) -> 0 | BX39: =SUM(J39:L39) -> 0 | BY39: =SUM(O39:Q39) -> 0 | BZ39: =SUM(T39:V39) -> 0 | CA39: =SUM(Y39:AA39) -> 0 | CB39: =SUM(AD39:AF39) -> 0 | CC39: =SUM(AI39:AK39) -> 0 | CD39: =SUM(AN39:AP39) -> 0 | CE39: =SUM(AS39:AU39) -> 0 | CF39: =SUM(BX39:CE39) -> 0 | CH39: =LARGE((BF39:BU39),1) -> 0 | CI39: =LARGE((BF39:BU39),2) -> 0 | CJ39: =LARGE((BF39:BU39),3) -> 0 | CK39: =LARGE((BF39:BU39),4) -> 0 | CL39: =LARGE((BF39:BU39),5) -> 0 | CM39: =LARGE((BF39:BU39),6) -> 0 | CN39: =LARGE((BF39:BU39),7) -> 0 | CO39: =LARGE((BF39:BU39),8) -> 0 | CP39: =LARGE((BF39:BU39),9) -> 0 | CQ39: =LARGE((BF39:BU39),10) -> 0 | CR39: =LARGE((BF39:BU39),11) -> 0 | CS39: =LARGE((BF39:BU39),12) -> 0 | CT39: =LARGE((BF39:BU39),13) -> 0 | CU39: =LARGE((BF39:BU39),14) -> 0 | CV39: =LARGE((BF39:BU39),15) -> 0 | CW39: =LARGE((BF39:BU39),16) -> 0 | CY39: =LARGE((BX39:CE39),1) -> 0 | CZ39: =LARGE((BX39:CE39),2) -> 0 | DA39: =LARGE((BX39:CE39),3) -> 0 | DB39: =LARGE((BX39:CE39),4) -> 0 | DC39: =LARGE((BX39:CE39),5) -> 0 | DD39: =LARGE((BX39:CE39),6) -> 0 | DE39: =LARGE((BX39:CE39),7) -> 0 | DF39: =LARGE((BX39:CE39),8) -> 0
B40: 37 | E40: 80 | F40: =E40+0 -> 80 | AV40: =SUM(BA40+BB40) -> 0 | AW40: =(AV39-AV40) -> 0 | BA40: =SUM(CH40:CP40) -> 0 | BB40: =SUM(CY40:DC40) -> 0 | BF40: =H40 -> 0 | BG40: =I40 -> 0 | BH40: =M40 -> 0 | BI40: =N40 -> 0 | BJ40: =R40 -> 0 | BK40: =S40 -> 0 | BL40: =W40 -> 0 | BM40: =X40 -> 0 | BN40: =AB40 -> 0 | BO40: =AC40 -> 0 | BP40: =AG40 -> 0 | BQ40: =AH40 -> 0 | BR40: =AL40 -> 0 | BS40: =AM40 -> 0 | BT40: =AQ40 -> 0 | BU40: =AR40 -> 0 | BV40: =SUM(BF40:BU40) -> 0 | BX40: =SUM(J40:L40) -> 0 | BY40: =SUM(O40:Q40) -> 0 | BZ40: =SUM(T40:V40) -> 0 | CA40: =SUM(Y40:AA40) -> 0 | CB40: =SUM(AD40:AF40) -> 0 | CC40: =SUM(AI40:AK40) -> 0 | CD40: =SUM(AN40:AP40) -> 0 | CE40: =SUM(AS40:AU40) -> 0 | CF40: =SUM(BX40:CE40) -> 0 | CH40: =LARGE((BF40:BU40),1) -> 0 | CI40: =LARGE((BF40:BU40),2) -> 0 | CJ40: =LARGE((BF40:BU40),3) -> 0 | CK40: =LARGE((BF40:BU40),4) -> 0 | CL40: =LARGE((BF40:BU40),5) -> 0 | CM40: =LARGE((BF40:BU40),6) -> 0 | CN40: =LARGE((BF40:BU40),7) -> 0 | CO40: =LARGE((BF40:BU40),8) -> 0 | CP40: =LARGE((BF40:BU40),9) -> 0 | CQ40: =LARGE((BF40:BU40),10) -> 0 | CR40: =LARGE((BF40:BU40),11) -> 0 | CS40: =LARGE((BF40:BU40),12) -> 0 | CT40: =LARGE((BF40:BU40),13) -> 0 | CU40: =LARGE((BF40:BU40),14) -> 0 | CV40: =LARGE((BF40:BU40),15) -> 0 | CW40: =LARGE((BF40:BU40),16) -> 0 | CY40: =LARGE((BX40:CE40),1) -> 0 | CZ40: =LARGE((BX40:CE40),2) -> 0 | DA40: =LARGE((BX40:CE40),3) -> 0 | DB40: =LARGE((BX40:CE40),4) -> 0 | DC40: =LARGE((BX40:CE40),5) -> 0 | DD40: =LARGE((BX40:CE40),6) -> 0 | DE40: =LARGE((BX40:CE40),7) -> 0 | DF40: =LARGE((BX40:CE40),8) -> 0
B41: 38 | E41: 80 | F41: =E41+0 -> 80 | AV41: =SUM(BA41+BB41) -> 0 | AW41: =(AV40-AV41) -> 0 | BA41: =SUM(CH41:CP41) -> 0 | BB41: =SUM(CY41:DC41) -> 0 | BF41: =H41 -> 0 | BG41: =I41 -> 0 | BH41: =M41 -> 0 | BI41: =N41 -> 0 | BJ41: =R41 -> 0 | BK41: =S41 -> 0 | BL41: =W41 -> 0 | BM41: =X41 -> 0 | BN41: =AB41 -> 0 | BO41: =AC41 -> 0 | BP41: =AG41 -> 0 | BQ41: =AH41 -> 0 | BR41: =AL41 -> 0 | BS41: =AM41 -> 0 | BT41: =AQ41 -> 0 | BU41: =AR41 -> 0 | BV41: =SUM(BF41:BU41) -> 0 | BX41: =SUM(J41:L41) -> 0 | BY41: =SUM(O41:Q41) -> 0 | BZ41: =SUM(T41:V41) -> 0 | CA41: =SUM(Y41:AA41) -> 0 | CB41: =SUM(AD41:AF41) -> 0 | CC41: =SUM(AI41:AK41) -> 0 | CD41: =SUM(AN41:AP41) -> 0 | CE41: =SUM(AS41:AU41) -> 0 | CF41: =SUM(BX41:CE41) -> 0 | CH41: =LARGE((BF41:BU41),1) -> 0 | CI41: =LARGE((BF41:BU41),2) -> 0 | CJ41: =LARGE((BF41:BU41),3) -> 0 | CK41: =LARGE((BF41:BU41),4) -> 0 | CL41: =LARGE((BF41:BU41),5) -> 0 | CM41: =LARGE((BF41:BU41),6) -> 0 | CN41: =LARGE((BF41:BU41),7) -> 0 | CO41: =LARGE((BF41:BU41),8) -> 0 | CP41: =LARGE((BF41:BU41),9) -> 0 | CQ41: =LARGE((BF41:BU41),10) -> 0 | CR41: =LARGE((BF41:BU41),11) -> 0 | CS41: =LARGE((BF41:BU41),12) -> 0 | CT41: =LARGE((BF41:BU41),13) -> 0 | CU41: =LARGE((BF41:BU41),14) -> 0 | CV41: =LARGE((BF41:BU41),15) -> 0 | CW41: =LARGE((BF41:BU41),16) -> 0 | CY41: =LARGE((BX41:CE41),1) -> 0 | CZ41: =LARGE((BX41:CE41),2) -> 0 | DA41: =LARGE((BX41:CE41),3) -> 0 | DB41: =LARGE((BX41:CE41),4) -> 0 | DC41: =LARGE((BX41:CE41),5) -> 0 | DD41: =LARGE((BX41:CE41),6) -> 0 | DE41: =LARGE((BX41:CE41),7) -> 0 | DF41: =LARGE((BX41:CE41),8) -> 0
B42: 39 | E42: 80 | F42: =E42+0 -> 80 | AV42: =SUM(BA42+BB42) -> 0 | AW42: =(AV41-AV42) -> 0 | BA42: =SUM(CH42:CP42) -> 0 | BB42: =SUM(CY42:DC42) -> 0 | BF42: =H42 -> 0 | BG42: =I42 -> 0 | BH42: =M42 -> 0 | BI42: =N42 -> 0 | BJ42: =R42 -> 0 | BK42: =S42 -> 0 | BL42: =W42 -> 0 | BM42: =X42 -> 0 | BN42: =AB42 -> 0 | BO42: =AC42 -> 0 | BP42: =AG42 -> 0 | BQ42: =AH42 -> 0 | BR42: =AL42 -> 0 | BS42: =AM42 -> 0 | BT42: =AQ42 -> 0 | BU42: =AR42 -> 0 | BV42: =SUM(BF42:BU42) -> 0 | BX42: =SUM(J42:L42) -> 0 | BY42: =SUM(O42:Q42) -> 0 | BZ42: =SUM(T42:V42) -> 0 | CA42: =SUM(Y42:AA42) -> 0 | CB42: =SUM(AD42:AF42) -> 0 | CC42: =SUM(AI42:AK42) -> 0 | CD42: =SUM(AN42:AP42) -> 0 | CE42: =SUM(AS42:AU42) -> 0 | CF42: =SUM(BX42:CE42) -> 0 | CH42: =LARGE((BF42:BU42),1) -> 0 | CI42: =LARGE((BF42:BU42),2) -> 0 | CJ42: =LARGE((BF42:BU42),3) -> 0 | CK42: =LARGE((BF42:BU42),4) -> 0 | CL42: =LARGE((BF42:BU42),5) -> 0 | CM42: =LARGE((BF42:BU42),6) -> 0 | CN42: =LARGE((BF42:BU42),7) -> 0 | CO42: =LARGE((BF42:BU42),8) -> 0 | CP42: =LARGE((BF42:BU42),9) -> 0 | CQ42: =LARGE((BF42:BU42),10) -> 0 | CR42: =LARGE((BF42:BU42),11) -> 0 | CS42: =LARGE((BF42:BU42),12) -> 0 | CT42: =LARGE((BF42:BU42),13) -> 0 | CU42: =LARGE((BF42:BU42),14) -> 0 | CV42: =LARGE((BF42:BU42),15) -> 0 | CW42: =LARGE((BF42:BU42),16) -> 0 | CY42: =LARGE((BX42:CE42),1) -> 0 | CZ42: =LARGE((BX42:CE42),2) -> 0 | DA42: =LARGE((BX42:CE42),3) -> 0 | DB42: =LARGE((BX42:CE42),4) -> 0 | DC42: =LARGE((BX42:CE42),5) -> 0 | DD42: =LARGE((BX42:CE42),6) -> 0 | DE42: =LARGE((BX42:CE42),7) -> 0 | DF42: =LARGE((BX42:CE42),8) -> 0
B43: 40 | E43: 80 | F43: =E43+0 -> 80 | AV43: =SUM(BA43+BB43) -> 0 | AW43: =(AV42-AV43) -> 0 | BA43: =SUM(CH43:CP43) -> 0 | BB43: =SUM(CY43:DC43) -> 0 | BF43: =H43 -> 0 | BG43: =I43 -> 0 | BH43: =M43 -> 0 | BI43: =N43 -> 0 | BJ43: =R43 -> 0 | BK43: =S43 -> 0 | BL43: =W43 -> 0 | BM43: =X43 -> 0 | BN43: =AB43 -> 0 | BO43: =AC43 -> 0 | BP43: =AG43 -> 0 | BQ43: =AH43 -> 0 | BR43: =AL43 -> 0 | BS43: =AM43 -> 0 | BT43: =AQ43 -> 0 | BU43: =AR43 -> 0 | BV43: =SUM(BF43:BU43) -> 0 | BX43: =SUM(J43:L43) -> 0 | BY43: =SUM(O43:Q43) -> 0 | BZ43: =SUM(T43:V43) -> 0 | CA43: =SUM(Y43:AA43) -> 0 | CB43: =SUM(AD43:AF43) -> 0 | CC43: =SUM(AI43:AK43) -> 0 | CD43: =SUM(AN43:AP43) -> 0 | CE43: =SUM(AS43:AU43) -> 0 | CF43: =SUM(BX43:CE43) -> 0 | CH43: =LARGE((BF43:BU43),1) -> 0 | CI43: =LARGE((BF43:BU43),2) -> 0 | CJ43: =LARGE((BF43:BU43),3) -> 0 | CK43: =LARGE((BF43:BU43),4) -> 0 | CL43: =LARGE((BF43:BU43),5) -> 0 | CM43: =LARGE((BF43:BU43),6) -> 0 | CN43: =LARGE((BF43:BU43),7) -> 0 | CO43: =LARGE((BF43:BU43),8) -> 0 | CP43: =LARGE((BF43:BU43),9) -> 0 | CQ43: =LARGE((BF43:BU43),10) -> 0 | CR43: =LARGE((BF43:BU43),11) -> 0 | CS43: =LARGE((BF43:BU43),12) -> 0 | CT43: =LARGE((BF43:BU43),13) -> 0 | CU43: =LARGE((BF43:BU43),14) -> 0 | CV43: =LARGE((BF43:BU43),15) -> 0 | CW43: =LARGE((BF43:BU43),16) -> 0 | CY43: =LARGE((BX43:CE43),1) -> 0 | CZ43: =LARGE((BX43:CE43),2) -> 0 | DA43: =LARGE((BX43:CE43),3) -> 0 | DB43: =LARGE((BX43:CE43),4) -> 0 | DC43: =LARGE((BX43:CE43),5) -> 0 | DD43: =LARGE((BX43:CE43),6) -> 0 | DE43: =LARGE((BX43:CE43),7) -> 0 | DF43: =LARGE((BX43:CE43),8) -> 0
B44: 41 | E44: 80 | F44: =E44+0 -> 80 | AV44: =SUM(BA44+BB44) -> 0 | AW44: =(AV43-AV44) -> 0 | BA44: =SUM(CH44:CP44) -> 0 | BB44: =SUM(CY44:DC44) -> 0 | BF44: =H44 -> 0 | BG44: =I44 -> 0 | BH44: =M44 -> 0 | BI44: =N44 -> 0 | BJ44: =R44 -> 0 | BK44: =S44 -> 0 | BL44: =W44 -> 0 | BM44: =X44 -> 0 | BN44: =AB44 -> 0 | BO44: =AC44 -> 0 | BP44: =AG44 -> 0 | BQ44: =AH44 -> 0 | BR44: =AL44 -> 0 | BS44: =AM44 -> 0 | BT44: =AQ44 -> 0 | BU44: =AR44 -> 0 | BV44: =SUM(BF44:BU44) -> 0 | BX44: =SUM(J44:L44) -> 0 | BY44: =SUM(O44:Q44) -> 0 | BZ44: =SUM(T44:V44) -> 0 | CA44: =SUM(Y44:AA44) -> 0 | CB44: =SUM(AD44:AF44) -> 0 | CC44: =SUM(AI44:AK44) -> 0 | CD44: =SUM(AN44:AP44) -> 0 | CE44: =SUM(AS44:AU44) -> 0 | CF44: =SUM(BX44:CE44) -> 0 | CH44: =LARGE((BF44:BU44),1) -> 0 | CI44: =LARGE((BF44:BU44),2) -> 0 | CJ44: =LARGE((BF44:BU44),3) -> 0 | CK44: =LARGE((BF44:BU44),4) -> 0 | CL44: =LARGE((BF44:BU44),5) -> 0 | CM44: =LARGE((BF44:BU44),6) -> 0 | CN44: =LARGE((BF44:BU44),7) -> 0 | CO44: =LARGE((BF44:BU44),8) -> 0 | CP44: =LARGE((BF44:BU44),9) -> 0 | CQ44: =LARGE((BF44:BU44),10) -> 0 | CR44: =LARGE((BF44:BU44),11) -> 0 | CS44: =LARGE((BF44:BU44),12) -> 0 | CT44: =LARGE((BF44:BU44),13) -> 0 | CU44: =LARGE((BF44:BU44),14) -> 0 | CV44: =LARGE((BF44:BU44),15) -> 0 | CW44: =LARGE((BF44:BU44),16) -> 0 | CY44: =LARGE((BX44:CE44),1) -> 0 | CZ44: =LARGE((BX44:CE44),2) -> 0 | DA44: =LARGE((BX44:CE44),3) -> 0 | DB44: =LARGE((BX44:CE44),4) -> 0 | DC44: =LARGE((BX44:CE44),5) -> 0 | DD44: =LARGE((BX44:CE44),6) -> 0 | DE44: =LARGE((BX44:CE44),7) -> 0 | DF44: =LARGE((BX44:CE44),8) -> 0
B45: 42 | E45: 80 | F45: =E45+0 -> 80 | AV45: =SUM(BA45+BB45) -> 0 | AW45: =(AV44-AV45) -> 0 | BA45: =SUM(CH45:CP45) -> 0 | BB45: =SUM(CY45:DC45) -> 0 | BF45: =H45 -> 0 | BG45: =I45 -> 0 | BH45: =M45 -> 0 | BI45: =N45 -> 0 | BJ45: =R45 -> 0 | BK45: =S45 -> 0 | BL45: =W45 -> 0 | BM45: =X45 -> 0 | BN45: =AB45 -> 0 | BO45: =AC45 -> 0 | BP45: =AG45 -> 0 | BQ45: =AH45 -> 0 | BR45: =AL45 -> 0 | BS45: =AM45 -> 0 | BT45: =AQ45 -> 0 | BU45: =AR45 -> 0 | BV45: =SUM(BF45:BU45) -> 0 | BX45: =SUM(J45:L45) -> 0 | BY45: =SUM(O45:Q45) -> 0 | BZ45: =SUM(T45:V45) -> 0 | CA45: =SUM(Y45:AA45) -> 0 | CB45: =SUM(AD45:AF45) -> 0 | CC45: =SUM(AI45:AK45) -> 0 | CD45: =SUM(AN45:AP45) -> 0 | CE45: =SUM(AS45:AU45) -> 0 | CF45: =SUM(BX45:CE45) -> 0 | CH45: =LARGE((BF45:BU45),1) -> 0 | CI45: =LARGE((BF45:BU45),2) -> 0 | CJ45: =LARGE((BF45:BU45),3) -> 0 | CK45: =LARGE((BF45:BU45),4) -> 0 | CL45: =LARGE((BF45:BU45),5) -> 0 | CM45: =LARGE((BF45:BU45),6) -> 0 | CN45: =LARGE((BF45:BU45),7) -> 0 | CO45: =LARGE((BF45:BU45),8) -> 0 | CP45: =LARGE((BF45:BU45),9) -> 0 | CQ45: =LARGE((BF45:BU45),10) -> 0 | CR45: =LARGE((BF45:BU45),11) -> 0 | CS45: =LARGE((BF45:BU45),12) -> 0 | CT45: =LARGE((BF45:BU45),13) -> 0 | CU45: =LARGE((BF45:BU45),14) -> 0 | CV45: =LARGE((BF45:BU45),15) -> 0 | CW45: =LARGE((BF45:BU45),16) -> 0 | CY45: =LARGE((BX45:CE45),1) -> 0 | CZ45: =LARGE((BX45:CE45),2) -> 0 | DA45: =LARGE((BX45:CE45),3) -> 0 | DB45: =LARGE((BX45:CE45),4) -> 0 | DC45: =LARGE((BX45:CE45),5) -> 0 | DD45: =LARGE((BX45:CE45),6) -> 0 | DE45: =LARGE((BX45:CE45),7) -> 0 | DF45: =LARGE((BX45:CE45),8) -> 0
B46: 43 | E46: 80 | F46: =E46+0 -> 80 | AV46: =SUM(BA46+BB46) -> 0 | AW46: =(AV45-AV46) -> 0 | BA46: =SUM(CH46:CP46) -> 0 | BB46: =SUM(CY46:DC46) -> 0 | BF46: =H46 -> 0 | BG46: =I46 -> 0 | BH46: =M46 -> 0 | BI46: =N46 -> 0 | BJ46: =R46 -> 0 | BK46: =S46 -> 0 | BL46: =W46 -> 0 | BM46: =X46 -> 0 | BN46: =AB46 -> 0 | BO46: =AC46 -> 0 | BP46: =AG46 -> 0 | BQ46: =AH46 -> 0 | BR46: =AL46 -> 0 | BS46: =AM46 -> 0 | BT46: =AQ46 -> 0 | BU46: =AR46 -> 0 | BV46: =SUM(BF46:BU46) -> 0 | BX46: =SUM(J46:L46) -> 0 | BY46: =SUM(O46:Q46) -> 0 | BZ46: =SUM(T46:V46) -> 0 | CA46: =SUM(Y46:AA46) -> 0 | CB46: =SUM(AD46:AF46) -> 0 | CC46: =SUM(AI46:AK46) -> 0 | CD46: =SUM(AN46:AP46) -> 0 | CE46: =SUM(AS46:AU46) -> 0 | CF46: =SUM(BX46:CE46) -> 0 | CH46: =LARGE((BF46:BU46),1) -> 0 | CI46: =LARGE((BF46:BU46),2) -> 0 | CJ46: =LARGE((BF46:BU46),3) -> 0 | CK46: =LARGE((BF46:BU46),4) -> 0 | CL46: =LARGE((BF46:BU46),5) -> 0 | CM46: =LARGE((BF46:BU46),6) -> 0 | CN46: =LARGE((BF46:BU46),7) -> 0 | CO46: =LARGE((BF46:BU46),8) -> 0 | CP46: =LARGE((BF46:BU46),9) -> 0 | CQ46: =LARGE((BF46:BU46),10) -> 0 | CR46: =LARGE((BF46:BU46),11) -> 0 | CS46: =LARGE((BF46:BU46),12) -> 0 | CT46: =LARGE((BF46:BU46),13) -> 0 | CU46: =LARGE((BF46:BU46),14) -> 0 | CV46: =LARGE((BF46:BU46),15) -> 0 | CW46: =LARGE((BF46:BU46),16) -> 0 | CY46: =LARGE((BX46:CE46),1) -> 0 | CZ46: =LARGE((BX46:CE46),2) -> 0 | DA46: =LARGE((BX46:CE46),3) -> 0 | DB46: =LARGE((BX46:CE46),4) -> 0 | DC46: =LARGE((BX46:CE46),5) -> 0 | DD46: =LARGE((BX46:CE46),6) -> 0 | DE46: =LARGE((BX46:CE46),7) -> 0 | DF46: =LARGE((BX46:CE46),8) -> 0
B47: 44 | E47: 80 | F47: =E47+0 -> 80 | AV47: =SUM(BA47+BB47) -> 0 | AW47: =(AV46-AV47) -> 0 | BA47: =SUM(CH47:CP47) -> 0 | BB47: =SUM(CY47:DC47) -> 0 | BF47: =H47 -> 0 | BG47: =I47 -> 0 | BH47: =M47 -> 0 | BI47: =N47 -> 0 | BJ47: =R47 -> 0 | BK47: =S47 -> 0 | BL47: =W47 -> 0 | BM47: =X47 -> 0 | BN47: =AB47 -> 0 | BO47: =AC47 -> 0 | BP47: =AG47 -> 0 | BQ47: =AH47 -> 0 | BR47: =AL47 -> 0 | BS47: =AM47 -> 0 | BT47: =AQ47 -> 0 | BU47: =AR47 -> 0 | BV47: =SUM(BF47:BU47) -> 0 | BX47: =SUM(J47:L47) -> 0 | BY47: =SUM(O47:Q47) -> 0 | BZ47: =SUM(T47:V47) -> 0 | CA47: =SUM(Y47:AA47) -> 0 | CB47: =SUM(AD47:AF47) -> 0 | CC47: =SUM(AI47:AK47) -> 0 | CD47: =SUM(AN47:AP47) -> 0 | CE47: =SUM(AS47:AU47) -> 0 | CF47: =SUM(BX47:CE47) -> 0 | CH47: =LARGE((BF47:BU47),1) -> 0 | CI47: =LARGE((BF47:BU47),2) -> 0 | CJ47: =LARGE((BF47:BU47),3) -> 0 | CK47: =LARGE((BF47:BU47),4) -> 0 | CL47: =LARGE((BF47:BU47),5) -> 0 | CM47: =LARGE((BF47:BU47),6) -> 0 | CN47: =LARGE((BF47:BU47),7) -> 0 | CO47: =LARGE((BF47:BU47),8) -> 0 | CP47: =LARGE((BF47:BU47),9) -> 0 | CQ47: =LARGE((BF47:BU47),10) -> 0 | CR47: =LARGE((BF47:BU47),11) -> 0 | CS47: =LARGE((BF47:BU47),12) -> 0 | CT47: =LARGE((BF47:BU47),13) -> 0 | CU47: =LARGE((BF47:BU47),14) -> 0 | CV47: =LARGE((BF47:BU47),15) -> 0 | CW47: =LARGE((BF47:BU47),16) -> 0 | CY47: =LARGE((BX47:CE47),1) -> 0 | CZ47: =LARGE((BX47:CE47),2) -> 0 | DA47: =LARGE((BX47:CE47),3) -> 0 | DB47: =LARGE((BX47:CE47),4) -> 0 | DC47: =LARGE((BX47:CE47),5) -> 0 | DD47: =LARGE((BX47:CE47),6) -> 0 | DE47: =LARGE((BX47:CE47),7) -> 0 | DF47: =LARGE((BX47:CE47),8) -> 0
B48: 45 | E48: 80 | F48: =E48+0 -> 80 | AV48: =SUM(BA48+BB48) -> 0 | AW48: =(AV47-AV48) -> 0 | BA48: =SUM(CH48:CP48) -> 0 | BB48: =SUM(CY48:DC48) -> 0 | BF48: =H48 -> 0 | BG48: =I48 -> 0 | BH48: =M48 -> 0 | BI48: =N48 -> 0 | BJ48: =R48 -> 0 | BK48: =S48 -> 0 | BL48: =W48 -> 0 | BM48: =X48 -> 0 | BN48: =AB48 -> 0 | BO48: =AC48 -> 0 | BP48: =AG48 -> 0 | BQ48: =AH48 -> 0 | BR48: =AL48 -> 0 | BS48: =AM48 -> 0 | BT48: =AQ48 -> 0 | BU48: =AR48 -> 0 | BV48: =SUM(BF48:BU48) -> 0 | BX48: =SUM(J48:L48) -> 0 | BY48: =SUM(O48:Q48) -> 0 | BZ48: =SUM(T48:V48) -> 0 | CA48: =SUM(Y48:AA48) -> 0 | CB48: =SUM(AD48:AF48) -> 0 | CC48: =SUM(AI48:AK48) -> 0 | CD48: =SUM(AN48:AP48) -> 0 | CE48: =SUM(AS48:AU48) -> 0 | CF48: =SUM(BX48:CE48) -> 0 | CH48: =LARGE((BF48:BU48),1) -> 0 | CI48: =LARGE((BF48:BU48),2) -> 0 | CJ48: =LARGE((BF48:BU48),3) -> 0 | CK48: =LARGE((BF48:BU48),4) -> 0 | CL48: =LARGE((BF48:BU48),5) -> 0 | CM48: =LARGE((BF48:BU48),6) -> 0 | CN48: =LARGE((BF48:BU48),7) -> 0 | CO48: =LARGE((BF48:BU48),8) -> 0 | CP48: =LARGE((BF48:BU48),9) -> 0 | CQ48: =LARGE((BF48:BU48),10) -> 0 | CR48: =LARGE((BF48:BU48),11) -> 0 | CS48: =LARGE((BF48:BU48),12) -> 0 | CT48: =LARGE((BF48:BU48),13) -> 0 | CU48: =LARGE((BF48:BU48),14) -> 0 | CV48: =LARGE((BF48:BU48),15) -> 0 | CW48: =LARGE((BF48:BU48),16) -> 0 | CY48: =LARGE((BX48:CE48),1) -> 0 | CZ48: =LARGE((BX48:CE48),2) -> 0 | DA48: =LARGE((BX48:CE48),3) -> 0 | DB48: =LARGE((BX48:CE48),4) -> 0 | DC48: =LARGE((BX48:CE48),5) -> 0 | DD48: =LARGE((BX48:CE48),6) -> 0 | DE48: =LARGE((BX48:CE48),7) -> 0 | DF48: =LARGE((BX48:CE48),8) -> 0
B49: 46 | E49: 80 | F49: =E49+0 -> 80 | AV49: =SUM(BA49+BB49) -> 0 | AW49: =(AV48-AV49) -> 0 | BA49: =SUM(CH49:CP49) -> 0 | BB49: =SUM(CY49:DC49) -> 0 | BF49: =H49 -> 0 | BG49: =I49 -> 0 | BH49: =M49 -> 0 | BI49: =N49 -> 0 | BJ49: =R49 -> 0 | BK49: =S49 -> 0 | BL49: =W49 -> 0 | BM49: =X49 -> 0 | BN49: =AB49 -> 0 | BO49: =AC49 -> 0 | BP49: =AG49 -> 0 | BQ49: =AH49 -> 0 | BR49: =AL49 -> 0 | BS49: =AM49 -> 0 | BT49: =AQ49 -> 0 | BU49: =AR49 -> 0 | BV49: =SUM(BF49:BU49) -> 0 | BX49: =SUM(J49:L49) -> 0 | BY49: =SUM(O49:Q49) -> 0 | BZ49: =SUM(T49:V49) -> 0 | CA49: =SUM(Y49:AA49) -> 0 | CB49: =SUM(AD49:AF49) -> 0 | CC49: =SUM(AI49:AK49) -> 0 | CD49: =SUM(AN49:AP49) -> 0 | CE49: =SUM(AS49:AU49) -> 0 | CF49: =SUM(BX49:CE49) -> 0 | CH49: =LARGE((BF49:BU49),1) -> 0 | CI49: =LARGE((BF49:BU49),2) -> 0 | CJ49: =LARGE((BF49:BU49),3) -> 0 | CK49: =LARGE((BF49:BU49),4) -> 0 | CL49: =LARGE((BF49:BU49),5) -> 0 | CM49: =LARGE((BF49:BU49),6) -> 0 | CN49: =LARGE((BF49:BU49),7) -> 0 | CO49: =LARGE((BF49:BU49),8) -> 0 | CP49: =LARGE((BF49:BU49),9) -> 0 | CQ49: =LARGE((BF49:BU49),10) -> 0 | CR49: =LARGE((BF49:BU49),11) -> 0 | CS49: =LARGE((BF49:BU49),12) -> 0 | CT49: =LARGE((BF49:BU49),13) -> 0 | CU49: =LARGE((BF49:BU49),14) -> 0 | CV49: =LARGE((BF49:BU49),15) -> 0 | CW49: =LARGE((BF49:BU49),16) -> 0 | CY49: =LARGE((BX49:CE49),1) -> 0 | CZ49: =LARGE((BX49:CE49),2) -> 0 | DA49: =LARGE((BX49:CE49),3) -> 0 | DB49: =LARGE((BX49:CE49),4) -> 0 | DC49: =LARGE((BX49:CE49),5) -> 0 | DD49: =LARGE((BX49:CE49),6) -> 0 | DE49: =LARGE((BX49:CE49),7) -> 0 | DF49: =LARGE((BX49:CE49),8) -> 0
B50: 47 | E50: 80 | F50: =E50+0 -> 80 | AV50: =SUM(BA50+BB50) -> 0 | AW50: =(AV49-AV50) -> 0 | BA50: =SUM(CH50:CP50) -> 0 | BB50: =SUM(CY50:DC50) -> 0 | BF50: =H50 -> 0 | BG50: =I50 -> 0 | BH50: =M50 -> 0 | BI50: =N50 -> 0 | BJ50: =R50 -> 0 | BK50: =S50 -> 0 | BL50: =W50 -> 0 | BM50: =X50 -> 0 | BN50: =AB50 -> 0 | BO50: =AC50 -> 0 | BP50: =AG50 -> 0 | BQ50: =AH50 -> 0 | BR50: =AL50 -> 0 | BS50: =AM50 -> 0 | BT50: =AQ50 -> 0 | BU50: =AR50 -> 0 | BV50: =SUM(BF50:BU50) -> 0 | BX50: =SUM(J50:L50) -> 0 | BY50: =SUM(O50:Q50) -> 0 | BZ50: =SUM(T50:V50) -> 0 | CA50: =SUM(Y50:AA50) -> 0 | CB50: =SUM(AD50:AF50) -> 0 | CC50: =SUM(AI50:AK50) -> 0 | CD50: =SUM(AN50:AP50) -> 0 | CE50: =SUM(AS50:AU50) -> 0 | CF50: =SUM(BX50:CE50) -> 0 | CH50: =LARGE((BF50:BU50),1) -> 0 | CI50: =LARGE((BF50:BU50),2) -> 0 | CJ50: =LARGE((BF50:BU50),3) -> 0 | CK50: =LARGE((BF50:BU50),4) -> 0 | CL50: =LARGE((BF50:BU50),5) -> 0 | CM50: =LARGE((BF50:BU50),6) -> 0 | CN50: =LARGE((BF50:BU50),7) -> 0 | CO50: =LARGE((BF50:BU50),8) -> 0 | CP50: =LARGE((BF50:BU50),9) -> 0 | CQ50: =LARGE((BF50:BU50),10) -> 0 | CR50: =LARGE((BF50:BU50),11) -> 0 | CS50: =LARGE((BF50:BU50),12) -> 0 | CT50: =LARGE((BF50:BU50),13) -> 0 | CU50: =LARGE((BF50:BU50),14) -> 0 | CV50: =LARGE((BF50:BU50),15) -> 0 | CW50: =LARGE((BF50:BU50),16) -> 0 | CY50: =LARGE((BX50:CE50),1) -> 0 | CZ50: =LARGE((BX50:CE50),2) -> 0 | DA50: =LARGE((BX50:CE50),3) -> 0 | DB50: =LARGE((BX50:CE50),4) -> 0 | DC50: =LARGE((BX50:CE50),5) -> 0 | DD50: =LARGE((BX50:CE50),6) -> 0 | DE50: =LARGE((BX50:CE50),7) -> 0 | DF50: =LARGE((BX50:CE50),8) -> 0
... B53: 50 | E53: 80 | F53: =E53+0 -> 80 | AV53: =SUM(BA53+BB53) -> 0 | AW53: =(AV52-AV53) -> 0 | BA53: =SUM(CH53:CP53) -> 0 | BB53: =SUM(CY53:DC53) -> 0 | BF53: =H53 -> 0 | BG53: =I53 -> 0 | BH53: =M53 -> 0 | BI53: =N53 -> 0 | BJ53: =R53 -> 0 | BK53: =S53 -> 0 | BL53: =W53 -> 0 | BM53: =X53 -> 0 | BN53: =AB53 -> 0 | BO53: =AC53 -> 0 | BP53: =AG53 -> 0 | BQ53: =AH53 -> 0 | BR53: =AL53 -> 0 | BS53: =AM53 -> 0 | BT53: =AQ53 -> 0 | BU53: =AR53 -> 0 | BV53: =SUM(BF53:BU53) -> 0 | BX53: =SUM(J53:L53) -> 0 | BY53: =SUM(O53:Q53) -> 0 | BZ53: =SUM(T53:V53) -> 0 | CA53: =SUM(Y53:AA53) -> 0 | CB53: =SUM(AD53:AF53) -> 0 | CC53: =SUM(AI53:AK53) -> 0 | CD53: =SUM(AN53:AP53) -> 0 | CE53: =SUM(AS53:AU53) -> 0 | CF53: =SUM(BX53:CE53) -> 0 | CH53: =LARGE((BF53:BU53),1) -> 0 | CI53: =LARGE((BF53:BU53),2) -> 0 | CJ53: =LARGE((BF53:BU53),3) -> 0 | CK53: =LARGE((BF53:BU53),4) -> 0 | CL53: =LARGE((BF53:BU53),5) -> 0 | CM53: =LARGE((BF53:BU53),6) -> 0 | CN53: =LARGE((BF53:BU53),7) -> 0 | CO53: =LARGE((BF53:BU53),8) -> 0 | CP53: =LARGE((BF53:BU53),9) -> 0 | CQ53: =LARGE((BF53:BU53),10) -> 0 | CR53: =LARGE((BF53:BU53),11) -> 0 | CS53: =LARGE((BF53:BU53),12) -> 0 | CT53: =LARGE((BF53:BU53),13) -> 0 | CU53: =LARGE((BF53:BU53),14) -> 0 | CV53: =LARGE((BF53:BU53),15) -> 0 | CW53: =LARGE((BF53:BU53),16) -> 0 | CY53: =LARGE((BX53:CE53),1) -> 0 | CZ53: =LARGE((BX53:CE53),2) -> 0 | DA53: =LARGE((BX53:CE53),3) -> 0 | DB53: =LARGE((BX53:CE53),4) -> 0 | DC53: =LARGE((BX53:CE53),5) -> 0 | DD53: =LARGE((BX53:CE53),6) -> 0 | DE53: =LARGE((BX53:CE53),7) -> 0 | DF53: =LARGE((BX53:CE53),8) -> 0

Sheet Masters
A1: The Emirates Group Karting Club Season 10 (2019-2020) | H1: 11-Oct-19 International | M1: 08-Nov-19 Hill | R1: 22-Nov-19 The Drop | W1: 06-Dec-19 Monaco | AB1: 24-Jan-20 International | AG1: 21-Feb-20 Speedway w/Bus Stop | AL1: 31-Aug-20 Hill | AQ1: 27-Sep-20 Reverse Int. | AV1: Championship Points | BA1: Best 9 Race Points | BB1: Best 5 Race Day Bonus Points
H2: Race Points | J2: Bonus Points | M2: Race Points | O2: Bonus Points | R2: Race Points | T2: Bonus Points | W2: Race Points | Y2: Bonus Points | AB2: Race Points | AD2: Bonus Points | AG2: Race Points | AI2: Bonus Points | AL2: Race Points | AN2: Bonus Points | AQ2: Race Points | AS2: Bonus Points | AV2: (Best 9 Race + Best 5 Bonus) | AW2: Points Gap | CH2: RACE POINTS IN DESCENDING ORDER | CY2: BONUS POINTS IN DESCENDING ORDER
A3: Prev. Pos | B3: Cur. Pos | C3: Driver | D3: Nationality | E3: Min. Weight (kgs.) | F3: Success Weight (kgs.) | G3: Member (Y/N) | H3: Race 1 | I3: Race 2 | J3: Q | K3: R1 | L3: R2 | M3: Race 1 | N3: Race 2 | O3: Q | P3: R1 | Q3: R2 | R3: Race 1 | S3: Race 2 | T3: Q | U3: R1 | V3: R2 | W3: Race 1 | X3: Race 2 | Y3: Q | Z3: R1 | AA3: R2 | AB3: Race 1 | AC3: Race 2 | AD3: Q | AE3: R1 | AF3: R2 | AG3: Race 1 | AH3: Race 2 | AI3: Q | AJ3: R1 | AK3: R2 | AL3: Race 1 | AM3: Race 2 | AN3: Q | AO3: R1 | AP3: R2 | AQ3: Race 1 | AR3: Race 2 | AS3: Q | AT3: R1 | AU3: R2 | BF3: R1 | BG3: R2 | BH3: R3 | BI3: R4 | BJ3: R5 | BK3: R6 | BL3: R7 | BM3: R8 | BN3: R9 | BO3: R10 | BP3: R11 | BQ3: R12 | BR3: R13 | BS3: R14 | BT3: R15 | BU3: R16 | BV3: TOTAL RACE POINTS | BX3: RD1 | BY3: RD2 | BZ3: RD3 | CA3: RD4 | CB3: RD5 | CC3: RD6 | CD3: RD7 | CE3: RD8 | CF3: TOTAL BONUS POINTS | CH3: 1 | CI3: 2 | CJ3: 3 | CK3: 4 | CL3: 5 | CM3: 6 | CN3: 7 | CO3: 8 | CP3: 9 | CQ3: 10 | CR3: 11 | CS3: 12 | CT3: 13 | CU3: 14 | CV3: 15 | CW3: 16 | CY3: 1 | CZ3: 2 | DA3: 3 | DB3: 4 | DC3: 5 | DD3: 6 | DE3: 7 | DF3: 8
A4: 2 | B4: 1 | C4: Redza Jamil | E4: 90 | F4: =E4+0 -> 90 | H4: 67 | I4: 60 | M4: 60 | N4: 60 | W4: 75 | X4: 75 | Y4: 3 | Z4: 3 | AA4: 3 | AB4: 60 | AC4: 54 | AG4: 54 | AH4: 45 | AL4: 75 | AM4: 54 | AO4: 3 | AQ4: 75 | AR4: 75 | AT4: 3 | AU4: 3 | AV4: =SUM(BA4+BB4) -> 640 | BA4: =SUM(CH4:CP4) -> 622 | BB4: =SUM(CY4:DC4) -> 18 | BF4: =H4 -> 67 | BG4: =I4 -> 60 | BH4: =M4 -> 60 | BI4: =N4 -> 60 | BJ4: =R4 -> 0 | BK4: =S4 -> 0 | BL4: =W4 -> 75 | BM4: =X4 -> 75 | BN4: =AB4 -> 60 | BO4: =AC4 -> 54 | BP4: =AG4 -> 54 | BQ4: =AH4 -> 45 | BR4: =AL4 -> 75 | BS4: =AM4 -> 54 | BT4: =AQ4 -> 75 | BU4: =AR4 -> 75 | BV4: =SUM(BF4:BU4) -> 889 | BX4: =SUM(J4:L4) -> 0 | BY4: =SUM(O4:Q4) -> 0 | BZ4: =SUM(T4:V4) -> 0 | CA4: =SUM(Y4:AA4) -> 9 | CB4: =SUM(AD4:AF4) -> 0 | CC4: =SUM(AI4:AK4) -> 0 | CD4: =SUM(AN4:AP4) -> 3 | CE4: =SUM(AS4:AU4) -> 6 | CF4: =SUM(BX4:CE4) -> 18 | CH4: =LARGE((BF4:BU4),1) -> 75 | CI4: =LARGE((BF4:BU4),2) -> 75 | CJ4: =LARGE((BF4:BU4),3) -> 75 | CK4: =LARGE((BF4:BU4),4) -> 75 | CL4: =LARGE((BF4:BU4),5) -> 75 | CM4: =LARGE((BF4:BU4),6) -> 67 | CN4: =LARGE((BF4:BU4),7) -> 60 | CO4: =LARGE((BF4:BU4),8) -> 60 | CP4: =LARGE((BF4:BU4),9) -> 60 | CQ4: =LARGE((BF4:BU4),10) -> 60 | CR4: =LARGE((BF4:BU4),11) -> 54 | CS4: =LARGE((BF4:BU4),12) -> 54 | CT4: =LARGE((BF4:BU4),13) -> 54 | CU4: =LARGE((BF4:BU4),14) -> 45 | CV4: =LARGE((BF4:BU4),15) -> 0 | CW4: =LARGE((BF4:BU4),16) -> 0 | CY4: =LARGE((BX4:CE4),1) -> 9 | CZ4: =LARGE((BX4:CE4),2) -> 6 | DA4: =LARGE((BX4:CE4),3) -> 3 | DB4: =LARGE((BX4:CE4),4) -> 0 | DC4: =LARGE((BX4:CE4),5) -> 0 | DD4: =LARGE((BX4:CE4),6) -> 0 | DE4: =LARGE((BX4:CE4),7) -> 0 | DF4: =LARGE((BX4:CE4),8) -> 0
A5: 1 | B5: 2 | C5: Fabio Davoli | E5: 90 | F5: =E5+0 -> 90 | H5: 42 | I5: 54 | J5: 3 | M5: 42 | N5: 75 | O5: 3 | Q5: 3 | R5: 75 | S5: 75 | T5: 3 | U5: 3 | V5: 3 | AB5: 75 | AC5: 60 | AD5: 3 | AE5: 3 | AG5: 75 | AH5: 67 | AV5: =SUM(BA5+BB5) -> 622 | AW5: =(AV4-AV5) -> 18 | BA5: =SUM(CH5:CP5) -> 598 | BB5: =SUM(CY5:DC5) -> 24 | BF5: =H5 -> 42 | BG5: =I5 -> 54 | BH5: =M5 -> 42 | BI5: =N5 -> 75 | BJ5: =R5 -> 75 | BK5: =S5 -> 75 | BL5: =W5 -> 0 | BM5: =X5 -> 0 | BN5: =AB5 -> 75 | BO5: =AC5 -> 60 | BP5: =AG5 -> 75 | BQ5: =AH5 -> 67 | BR5: =AL5 -> 0 | BS5: =AM5 -> 0 | BT5: =AQ5 -> 0 | BU5: =AR5 -> 0 | BV5: =SUM(BF5:BU5) -> 640 | BX5: =SUM(J5:L5) -> 3 | BY5: =SUM(O5:Q5) -> 6 | BZ5: =SUM(T5:V5) -> 9 | CA5: =SUM(Y5:AA5) -> 0 | CB5: =SUM(AD5:AF5) -> 6 | CC5: =SUM(AI5:AK5) -> 0 | CD5: =SUM(AN5:AP5) -> 0 | CE5: =SUM(AS5:AU5) -> 0 | CF5: =SUM(BX5:CE5) -> 24 | CH5: =LARGE((BF5:BU5),1) -> 75 | CI5: =LARGE((BF5:BU5),2) -> 75 | CJ5: =LARGE((BF5:BU5),3) -> 75 | CK5: =LARGE((BF5:BU5),4) -> 75 | CL5: =LARGE((BF5:BU5),5) -> 75 | CM5: =LARGE((BF5:BU5),6) -> 67 | CN5: =LARGE((BF5:BU5),7) -> 60 | CO5: =LARGE((BF5:BU5),8) -> 54 | CP5: =LARGE((BF5:BU5),9) -> 42 | CQ5: =LARGE((BF5:BU5),10) -> 42 | CR5: =LARGE((BF5:BU5),11) -> 0 | CS5: =LARGE((BF5:BU5),12) -> 0 | CT5: =LARGE((BF5:BU5),13) -> 0 | CU5: =LARGE((BF5:BU5),14) -> 0 | CV5: =LARGE((BF5:BU5),15) -> 0 | CW5: =LARGE((BF5:BU5),16) -> 0 | CY5: =LARGE((BX5:CE5),1) -> 9 | CZ5: =LARGE((BX5:CE5),2) -> 6 | DA5: =LARGE((BX5:CE5),3) -> 6 | DB5: =LARGE((BX5:CE5),4) -> 3 | DC5: =LARGE((BX5:CE5),5) -> 0 | DD5: =LARGE((BX5:CE5),6) -> 0 | DE5: =LARGE((BX5:CE5),7) -> 0 | DF5: =LARGE((BX5:CE5),8) -> 0
A6: 3 | B6: 3 | C6: Peter Francis | E6: 90 | F6: =E6+0 -> 90 | H6: 60 | I6: 75 | L6: 3 | M6: 67 | N6: 45 | R6: 45 | S6: 67 | AB6: 49 | AC6: 49 | AG6: 45 | AH6: 60 | AK6: 3 | AL6: 60 | AM6: 75 | AN6: 3 | AQ6: 60 | AR6: 54 | AV6: =SUM(BA6+BB6) -> 587 | AW6: =(AV5-AV6) -> 35 | BA6: =SUM(CH6:CP6) -> 578 | BB6: =SUM(CY6:DC6) -> 9 | BF6: =H6 -> 60 | BG6: =I6 -> 75 | BH6: =M6 -> 67 | BI6: =N6 -> 45 | BJ6: =R6 -> 45 | BK6: =S6 -> 67 | BL6: =W6 -> 0 | BM6: =X6 -> 0 | BN6: =AB6 -> 49 | BO6: =AC6 -> 49 | BP6: =AG6 -> 45 | BQ6: =AH6 -> 60 | BR6: =AL6 -> 60 | BS6: =AM6 -> 75 | BT6: =AQ6 -> 60 | BU6: =AR6 -> 54 | BV6: =SUM(BF6:BU6) -> 811 | BX6: =SUM(J6:L6) -> 3 | BY6: =SUM(O6:Q6) -> 0 | BZ6: =SUM(T6:V6) -> 0 | CA6: =SUM(Y6:AA6) -> 0 | CB6: =SUM(AD6:AF6) -> 0 | CC6: =SUM(AI6:AK6) -> 3 | CD6: =SUM(AN6:AP6) -> 3 | CE6: =SUM(AS6:AU6) -> 0 | CF6: =SUM(BX6:CE6) -> 9 | CH6: =LARGE((BF6:BU6),1) -> 75 | CI6: =LARGE((BF6:BU6),2) -> 75 | CJ6: =LARGE((BF6:BU6),3) -> 67 | CK6: =LARGE((BF6:BU6),4) -> 67 | CL6: =LARGE((BF6:BU6),5) -> 60 | CM6: =LARGE((BF6:BU6),6) -> 60 | CN6: =LARGE((BF6:BU6),7) -> 60 | CO6: =LARGE((BF6:BU6),8) -> 60 | CP6: =LARGE((BF6:BU6),9) -> 54 | CQ6: =LARGE((BF6:BU6),10) -> 49 | CR6: =LARGE((BF6:BU6),11) -> 49 | CS6: =LARGE((BF6:BU6),12) -> 45 | CT6: =LARGE((BF6:BU6),13) -> 45 | CU6: =LARGE((BF6:BU6),14) -> 45 | CV6: =LARGE((BF6:BU6),15) -> 0 | CW6: =LARGE((BF6:BU6),16) -> 0 | CY6: =LARGE((BX6:CE6),1) -> 3 | CZ6: =LARGE((BX6:CE6),2) -> 3 | DA6: =LARGE((BX6:CE6),3) -> 3 | DB6: =LARGE((BX6:CE6),4) -> 0 | DC6: =LARGE((BX6:CE6),5) -> 0 | DD6: =LARGE((BX6:CE6),6) -> 0 | DE6: =LARGE((BX6:CE6),7) -> 0 | DF6: =LARGE((BX6:CE6),8) -> 0
A7: 6 | B7: 4 | C7: Husain Raj | E7: 90 | F7: =E7+0 -> 90 | H7: 75 | I7: 67 | K7: 3 | M7: 49 | N7: 54 | AB7: 54 | AC7: 42 | AL7: 67 | AM7: 67 | AP7: 3 | AQ7: 49 | AR7: 60 | AV7: =SUM(BA7+BB7) -> 548 | AW7: =(AV6-AV7) -> 39 | BA7: =SUM(CH7:CP7) -> 542 | BB7: =SUM(CY7:DC7) -> 6 | BF7: =H7 -> 75 | BG7: =I7 -> 67 | BH7: =M7 -> 49 | BI7: =N7 -> 54 | BJ7: =R7 -> 0 | BK7: =S7 -> 0 | BL7: =W7 -> 0 | BM7: =X7 -> 0 | BN7: =AB7 -> 54 | BO7: =AC7 -> 42 | BP7: =AG7 -> 0 | BQ7: =AH7 -> 0 | BR7: =AL7 -> 67 | BS7: =AM7 -> 67 | BT7: =AQ7 -> 49 | BU7: =AR7 -> 60 | BV7: =SUM(BF7:BU7) -> 584 | BX7: =SUM(J7:L7) -> 3 | BY7: =SUM(O7:Q7) -> 0 | BZ7: =SUM(T7:V7) -> 0 | CA7: =SUM(Y7:AA7) -> 0 | CB7: =SUM(AD7:AF7) -> 0 | CC7: =SUM(AI7:AK7) -> 0 | CD7: =SUM(AN7:AP7) -> 3 | CE7: =SUM(AS7:AU7) -> 0 | CF7: =SUM(BX7:CE7) -> 6 | CH7: =LARGE((BF7:BU7),1) -> 75 | CI7: =LARGE((BF7:BU7),2) -> 67 | CJ7: =LARGE((BF7:BU7),3) -> 67 | CK7: =LARGE((BF7:BU7),4) -> 67 | CL7: =LARGE((BF7:BU7),5) -> 60 | CM7: =LARGE((BF7:BU7),6) -> 54 | CN7: =LARGE((BF7:BU7),7) -> 54 | CO7: =LARGE((BF7:BU7),8) -> 49 | CP7: =LARGE((BF7:BU7),9) -> 49 | CQ7: =LARGE((BF7:BU7),10) -> 42 | CR7: =LARGE((BF7:BU7),11) -> 0 | CS7: =LARGE((BF7:BU7),12) -> 0 | CT7: =LARGE((BF7:BU7),13) -> 0 | CU7: =LARGE((BF7:BU7),14) -> 0 | CV7: =LARGE((BF7:BU7),15) -> 0 | CW7: =LARGE((BF7:BU7),16) -> 0 | CY7: =LARGE((BX7:CE7),1) -> 3 | CZ7: =LARGE((BX7:CE7),2) -> 3 | DA7: =LARGE((BX7:CE7),3) -> 0 | DB7: =LARGE((BX7:CE7),4) -> 0 | DC7: =LARGE((BX7:CE7),5) -> 0 | DD7: =LARGE((BX7:CE7),6) -> 0 | DE7: =LARGE((BX7:CE7),7) -> 0 | DF7: =LARGE((BX7:CE7),8) -> 0
A8: 4 | B8: 5 | C8: Paul Davies | E8: 90 | F8: =E8+0 -> 90 | H8: 45 | I8: 49 | M8: 54 | N8: 49 | R8: 67 | S8: 60 | W8: 67 | X8: 67 | AB8: 42 | AC8: 36 | AV8: =SUM(BA8+BB8) -> 500 | AW8: =(AV7-AV8) -> 48 | BA8: =SUM(CH8:CP8) -> 500 | BB8: =SUM(CY8:DC8) -> 0 | BF8: =H8 -> 45 | BG8: =I8 -> 49 | BH8: =M8 -> 54 | BI8: =N8 -> 49 | BJ8: =R8 -> 67 | BK8: =S8 -> 60 | BL8: =W8 -> 67 | BM8: =X8 -> 67 | BN8: =AB8 -> 42 | BO8: =AC8 -> 36 | BP8: =AG8 -> 0 | BQ8: =AH8 -> 0 | BR8: =AL8 -> 0 | BS8: =AM8 -> 0 | BT8: =AQ8 -> 0 | BU8: =AR8 -> 0 | BV8: =SUM(BF8:BU8) -> 536 | BX8: =SUM(J8:L8) -> 0 | BY8: =SUM(O8:Q8) -> 0 | BZ8: =SUM(T8:V8) -> 0 | CA8: =SUM(Y8:AA8) -> 0 | CB8: =SUM(AD8:AF8) -> 0 | CC8: =SUM(AI8:AK8) -> 0 | CD8: =SUM(AN8:AP8) -> 0 | CE8: =SUM(AS8:AU8) -> 0 | CF8: =SUM(BX8:CE8) -> 0 | CH8: =LARGE((BF8:BU8),1) -> 67 | CI8: =LARGE((BF8:BU8),2) -> 67 | CJ8: =LARGE((BF8:BU8),3) -> 67 | CK8: =LARGE((BF8:BU8),4) -> 60 | CL8: =LARGE((BF8:BU8),5) -> 54 | CM8: =LARGE((BF8:BU8),6) -> 49 | CN8: =LARGE((BF8:BU8),7) -> 49 | CO8: =LARGE((BF8:BU8),8) -> 45 | CP8: =LARGE((BF8:BU8),9) -> 42 | CQ8: =LARGE((BF8:BU8),10) -> 36 | CR8: =LARGE((BF8:BU8),11) -> 0 | CS8: =LARGE((BF8:BU8),12) -> 0 | CT8: =LARGE((BF8:BU8),13) -> 0 | CU8: =LARGE((BF8:BU8),14) -> 0 | CV8: =LARGE((BF8:BU8),15) -> 0 | CW8: =LARGE((BF8:BU8),16) -> 0 | CY8: =LARGE((BX8:CE8),1) -> 0 | CZ8: =LARGE((BX8:CE8),2) -> 0 | DA8: =LARGE((BX8:CE8),3) -> 0 | DB8: =LARGE((BX8:CE8),4) -> 0 | DC8: =LARGE((BX8:CE8),5) -> 0 | DD8: =LARGE((BX8:CE8),6) -> 0 | DE8: =LARGE((BX8:CE8),7) -> 0 | DF8: =LARGE((BX8:CE8),8) -> 0
A9: 5 | B9: 6 | C9: Prabath Fernando | E9: 90 | F9: =E9+0 -> 90 | H9: 54 | I9: 42 | M9: 45 | N9: 42 | R9: 60 | S9: 54 | W9: 60 | X9: 60 | AB9: 39 | AC9: 39 | AG9: 42 | AH9: 42 | AL9: 54 | AM9: 60 | AV9: =SUM(BA9+BB9) -> 489 | AW9: =(AV8-AV9) -> 11 | BA9: =SUM(CH9:CP9) -> 489 | BB9: =SUM(CY9:DC9) -> 0 | BF9: =H9 -> 54 | BG9: =I9 -> 42 | BH9: =M9 -> 45 | BI9: =N9 -> 42 | BJ9: =R9 -> 60 | BK9: =S9 -> 54 | BL9: =W9 -> 60 | BM9: =X9 -> 60 | BN9: =AB9 -> 39 | BO9: =AC9 -> 39 | BP9: =AG9 -> 42 | BQ9: =AH9 -> 42 | BR9: =AL9 -> 54 | BS9: =AM9 -> 60 | BT9: =AQ9 -> 0 | BU9: =AR9 -> 0 | BV9: =SUM(BF9:BU9) -> 693 | BX9: =SUM(J9:L9) -> 0 | BY9: =SUM(O9:Q9) -> 0 | BZ9: =SUM(T9:V9) -> 0 | CA9: =SUM(Y9:AA9) -> 0 | CB9: =SUM(AD9:AF9) -> 0 | CC9: =SUM(AI9:AK9) -> 0 | CD9: =SUM(AN9:AP9) -> 0 | CE9: =SUM(AS9:AU9) -> 0 | CF9: =SUM(BX9:CE9) -> 0 | CH9: =LARGE((BF9:BU9),1) -> 60 | CI9: =LARGE((BF9:BU9),2) -> 60 | CJ9: =LARGE((BF9:BU9),3) -> 60 | CK9: =LARGE((BF9:BU9),4) -> 60 | CL9: =LARGE((BF9:BU9),5) -> 54 | CM9: =LARGE((BF9:BU9),6) -> 54 | CN9: =LARGE((BF9:BU9),7) -> 54 | CO9: =LARGE((BF9:BU9),8) -> 45 | CP9: =LARGE((BF9:BU9),9) -> 42 | CQ9: =LARGE((BF9:BU9),10) -> 42 | CR9: =LARGE((BF9:BU9),11) -> 42 | CS9: =LARGE((BF9:BU9),12) -> 42 | CT9: =LARGE((BF9:BU9),13) -> 39 | CU9: =LARGE((BF9:BU9),14) -> 39 | CV9: =LARGE((BF9:BU9),15) -> 0 | CW9: =LARGE((BF9:BU9),16) -> 0 | CY9: =LARGE((BX9:CE9),1) -> 0 | CZ9: =LARGE((BX9:CE9),2) -> 0 | DA9: =LARGE((BX9:CE9),3) -> 0 | DB9: =LARGE((BX9:CE9),4) -> 0 | DC9: =LARGE((BX9:CE9),5) -> 0 | DD9: =LARGE((BX9:CE9),6) -> 0 | DE9: =LARGE((BX9:CE9),7) -> 0 | DF9: =LARGE((BX9:CE9),8) -> 0
A10: 8 | B10: 7 | C10: Julien Roudil | E10: 90 | F10: =E10+0 -> 90 | AB10: 67 | AC10: 75 | AF10: 3 | AG10: 49 | AH10: 75 | AI10: 3 | AQ10: 67 | AR10: 67 | AS10: 3 | AV10: =SUM(BA10+BB10) -> 409 | AW10: =(AV9-AV10) -> 80 | BA10: =SUM(CH10:CP10) -> 400 | BB10: =SUM(CY10:DC10) -> 9 | BF10: =H10 -> 0 | BG10: =I10 -> 0 | BH10: =M10 -> 0 | BI10: =N10 -> 0 | BJ10: =R10 -> 0 | BK10: =S10 -> 0 | BL10: =W10 -> 0 | BM10: =X10 -> 0 | BN10: =AB10 -> 67 | BO10: =AC10 -> 75 | BP10: =AG10 -> 49 | BQ10: =AH10 -> 75 | BR10: =AL10 -> 0 | BS10: =AM10 -> 0 | BT10: =AQ10 -> 67 | BU10: =AR10 -> 67 | BV10: =SUM(BF10:BU10) -> 400 | BX10: =SUM(J10:L10) -> 0 | BY10: =SUM(O10:Q10) -> 0 | BZ10: =SUM(T10:V10) -> 0 | CA10: =SUM(Y10:AA10) -> 0 | CB10: =SUM(AD10:AF10) -> 3 | CC10: =SUM(AI10:AK10) -> 3 | CD10: =SUM(AN10:AP10) -> 0 | CE10: =SUM(AS10:AU10) -> 3 | CF10: =SUM(BX10:CE10) -> 9 | CH10: =LARGE((BF10:BU10),1) -> 75 | CI10: =LARGE((BF10:BU10),2) -> 75 | CJ10: =LARGE((BF10:BU10),3) -> 67 | CK10: =LARGE((BF10:BU10),4) -> 67 | CL10: =LARGE((BF10:BU10),5) -> 67 | CM10: =LARGE((BF10:BU10),6) -> 49 | CN10: =LARGE((BF10:BU10),7) -> 0 | CO10: =LARGE((BF10:BU10),8) -> 0 | CP10: =LARGE((BF10:BU10),9) -> 0 | CQ10: =LARGE((BF10:BU10),10) -> 0 | CR10: =LARGE((BF10:BU10),11) -> 0 | CS10: =LARGE((BF10:BU10),12) -> 0 | CT10: =LARGE((BF10:BU10),13) -> 0 | CU10: =LARGE((BF10:BU10),14) -> 0 | CV10: =LARGE((BF10:BU10),15) -> 0 | CW10: =LARGE((BF10:BU10),16) -> 0 | CY10: =LARGE((BX10:CE10),1) -> 3 | CZ10: =LARGE((BX10:CE10),2) -> 3 | DA10: =LARGE((BX10:CE10),3) -> 3 | DB10: =LARGE((BX10:CE10),4) -> 0 | DC10: =LARGE((BX10:CE10),5) -> 0 | DD10: =LARGE((BX10:CE10),6) -> 0 | DE10: =LARGE((BX10:CE10),7) -> 0 | DF10: =LARGE((BX10:CE10),8) -> 0
A11: 7 | B11: 8 | C11: Fulvio Parrilli | E11: 90 | F11: =E11+0 -> 90 | M11: 75 | N11: 67 | P11: 3 | AB11: 36 | AC11: 67 | AG11: 60 | AH11: 49 | AJ11: 3 | AV11: =SUM(BA11+BB11) -> 360 | AW11: =(AV10-AV11) -> 49 | BA11: =SUM(CH11:CP11) -> 354 | BB11: =SUM(CY11:DC11) -> 6 | BF11: =H11 -> 0 | BG11: =I11 -> 0 | BH11: =M11 -> 75 | BI11: =N11 -> 67 | BJ11: =R11 -> 0 | BK11: =S11 -> 0 | BL11: =W11 -> 0 | BM11: =X11 -> 0 | BN11: =AB11 -> 36 | BO11: =AC11 -> 67 | BP11: =AG11 -> 60 | BQ11: =AH11 -> 49 | BR11: =AL11 -> 0 | BS11: =AM11 -> 0 | BT11: =AQ11 -> 0 | BU11: =AR11 -> 0 | BV11: =SUM(BF11:BU11) -> 354 | BX11: =SUM(J11:L11) -> 0 | BY11: =SUM(O11:Q11) -> 3 | BZ11: =SUM(T11:V11) -> 0 | CA11: =SUM(Y11:AA11) -> 0 | CB11: =SUM(AD11:AF11) -> 0 | CC11: =SUM(AI11:AK11) -> 3 | CD11: =SUM(AN11:AP11) -> 0 | CE11: =SUM(AS11:AU11) -> 0 | CF11: =SUM(BX11:CE11) -> 6 | CH11: =LARGE((BF11:BU11),1) -> 75 | CI11: =LARGE((BF11:BU11),2) -> 67 | CJ11: =LARGE((BF11:BU11),3) -> 67 | CK11: =LARGE((BF11:BU11),4) -> 60 | CL11: =LARGE((BF11:BU11),5) -> 49 | CM11: =LARGE((BF11:BU11),6) -> 36 | CN11: =LARGE((BF11:BU11),7) -> 0 | CO11: =LARGE((BF11:BU11),8) -> 0 | CP11: =LARGE((BF11:BU11),9) -> 0 | CQ11: =LARGE((BF11:BU11),10) -> 0 | CR11: =LARGE((BF11:BU11),11) -> 0 | CS11: =LARGE((BF11:BU11),12) -> 0 | CT11: =LARGE((BF11:BU11),13) -> 0 | CU11: =LARGE((BF11:BU11),14) -> 0 | CV11: =LARGE((BF11:BU11),15) -> 0 | CW11: =LARGE((BF11:BU11),16) -> 0 | CY11: =LARGE((BX11:CE11),1) -> 3 | CZ11: =LARGE((BX11:CE11),2) -> 3 | DA11: =LARGE((BX11:CE11),3) -> 0 | DB11: =LARGE((BX11:CE11),4) -> 0 | DC11: =LARGE((BX11:CE11),5) -> 0 | DD11: =LARGE((BX11:CE11),6) -> 0 | DE11: =LARGE((BX11:CE11),7) -> 0 | DF11: =LARGE((BX11:CE11),8) -> 0
A12: 9 | B12: 9 | C12: Atef Al Barwani | E12: 90 | F12: =E12+0 -> 90 | AG12: 67 | AH12: 54 | AV12: =SUM(BA12+BB12) -> 121 | AW12: =(AV11-AV12) -> 239 | BA12: =SUM(CH12:CP12) -> 121 | BB12: =SUM(CY12:DC12) -> 0 | BF12: =H12 -> 0 | BG12: =I12 -> 0 | BH12: =M12 -> 0 | BI12: =N12 -> 0 | BJ12: =R12 -> 0 | BK12: =S12 -> 0 | BL12: =W12 -> 0 | BM12: =X12 -> 0 | BN12: =AB12 -> 0 | BO12: =AC12 -> 0 | BP12: =AG12 -> 67 | BQ12: =AH12 -> 54 | BR12: =AL12 -> 0 | BS12: =AM12 -> 0 | BT12: =AQ12 -> 0 | BU12: =AR12 -> 0 | BV12: =SUM(BF12:BU12) -> 121 | BX12: =SUM(J12:L12) -> 0 | BY12: =SUM(O12:Q12) -> 0 | BZ12: =SUM(T12:V12) -> 0 | CA12: =SUM(Y12:AA12) -> 0 | CB12: =SUM(AD12:AF12) -> 0 | CC12: =SUM(AI12:AK12) -> 0 | CD12: =SUM(AN12:AP12) -> 0 | CE12: =SUM(AS12:AU12) -> 0 | CF12: =SUM(BX12:CE12) -> 0 | CH12: =LARGE((BF12:BU12),1) -> 67 | CI12: =LARGE((BF12:BU12),2) -> 54 | CJ12: =LARGE((BF12:BU12),3) -> 0 | CK12: =LARGE((BF12:BU12),4) -> 0 | CL12: =LARGE((BF12:BU12),5) -> 0 | CM12: =LARGE((BF12:BU12),6) -> 0 | CN12: =LARGE((BF12:BU12),7) -> 0 | CO12: =LARGE((BF12:BU12),8) -> 0 | CP12: =LARGE((BF12:BU12),9) -> 0 | CQ12: =LARGE((BF12:BU12),10) -> 0 | CR12: =LARGE((BF12:BU12),11) -> 0 | CS12: =LARGE((BF12:BU12),12) -> 0 | CT12: =LARGE((BF12:BU12),13) -> 0 | CU12: =LARGE((BF12:BU12),14) -> 0 | CV12: =LARGE((BF12:BU12),15) -> 0 | CW12: =LARGE((BF12:BU12),16) -> 0 | CY12: =LARGE((BX12:CE12),1) -> 0 | CZ12: =LARGE((BX12:CE12),2) -> 0 | DA12: =LARGE((BX12:CE12),3) -> 0 | DB12: =LARGE((BX12:CE12),4) -> 0 | DC12: =LARGE((BX12:CE12),5) -> 0 | DD12: =LARGE((BX12:CE12),6) -> 0 | DE12: =LARGE((BX12:CE12),7) -> 0 | DF12: =LARGE((BX12:CE12),8) -> 0
B13: 10 | C13: Salvatore Zanna | E13: 90 | F13: =E13+0 -> 90 | AQ13: 54 | AR13: 49 | AV13: =SUM(BA13+BB13) -> 103 | AW13: =(AV12-AV13) -> 18 | BA13: =SUM(CH13:CP13) -> 103 | BB13: =SUM(CY13:DC13) -> 0 | BF13: =H13 -> 0 | BG13: =I13 -> 0 | BH13: =M13 -> 0 | BI13: =N13 -> 0 | BJ13: =R13 -> 0 | BK13: =S13 -> 0 | BL13: =W13 -> 0 | BM13: =X13 -> 0 | BN13: =AB13 -> 0 | BO13: =AC13 -> 0 | BP13: =AG13 -> 0 | BQ13: =AH13 -> 0 | BR13: =AL13 -> 0 | BS13: =AM13 -> 0 | BT13: =AQ13 -> 54 | BU13: =AR13 -> 49 | BV13: =SUM(BF13:BU13) -> 103 | BX13: =SUM(J13:L13) -> 0 | BY13: =SUM(O13:Q13) -> 0 | BZ13: =SUM(T13:V13) -> 0 | CA13: =SUM(Y13:AA13) -> 0 | CB13: =SUM(AD13:AF13) -> 0 | CC13: =SUM(AI13:AK13) -> 0 | CD13: =SUM(AN13:AP13) -> 0 | CE13: =SUM(AS13:AU13) -> 0 | CF13: =SUM(BX13:CE13) -> 0 | CH13: =LARGE((BF13:BU13),1) -> 54 | CI13: =LARGE((BF13:BU13),2) -> 49 | CJ13: =LARGE((BF13:BU13),3) -> 0 | CK13: =LARGE((BF13:BU13),4) -> 0 | CL13: =LARGE((BF13:BU13),5) -> 0 | CM13: =LARGE((BF13:BU13),6) -> 0 | CN13: =LARGE((BF13:BU13),7) -> 0 | CO13: =LARGE((BF13:BU13),8) -> 0 | CP13: =LARGE((BF13:BU13),9) -> 0 | CQ13: =LARGE((BF13:BU13),10) -> 0 | CR13: =LARGE((BF13:BU13),11) -> 0 | CS13: =LARGE((BF13:BU13),12) -> 0 | CT13: =LARGE((BF13:BU13),13) -> 0 | CU13: =LARGE((BF13:BU13),14) -> 0 | CV13: =LARGE((BF13:BU13),15) -> 0 | CW13: =LARGE((BF13:BU13),16) -> 0 | CY13: =LARGE((BX13:CE13),1) -> 0 | CZ13: =LARGE((BX13:CE13),2) -> 0 | DA13: =LARGE((BX13:CE13),3) -> 0 | DB13: =LARGE((BX13:CE13),4) -> 0 | DC13: =LARGE((BX13:CE13),5) -> 0 | DD13: =LARGE((BX13:CE13),6) -> 0 | DE13: =LARGE((BX13:CE13),7) -> 0 | DF13: =LARGE((BX13:CE13),8) -> 0
A14: 10 | B14: 11 | C14: Gilles Metro | E14: 90 | F14: =E14+0 -> 90 | R14: 54 | S14: 45 | AV14: =SUM(BA14+BB14) -> 99 | AW14: =(AV13-AV14) -> 4 | BA14: =SUM(CH14:CP14) -> 99 | BB14: =SUM(CY14:DC14) -> 0 | BF14: =H14 -> 0 | BG14: =I14 -> 0 | BH14: =M14 -> 0 | BI14: =N14 -> 0 | BJ14: =R14 -> 54 | BK14: =S14 -> 45 | BL14: =W14 -> 0 | BM14: =X14 -> 0 | BN14: =AB14 -> 0 | BO14: =AC14 -> 0 | BP14: =AG14 -> 0 | BQ14: =AH14 -> 0 | BR14: =AL14 -> 0 | BS14: =AM14 -> 0 | BT14: =AQ14 -> 0 | BU14: =AR14 -> 0 | BV14: =SUM(BF14:BU14) -> 99 | BX14: =SUM(J14:L14) -> 0 | BY14: =SUM(O14:Q14) -> 0 | BZ14: =SUM(T14:V14) -> 0 | CA14: =SUM(Y14:AA14) -> 0 | CB14: =SUM(AD14:AF14) -> 0 | CC14: =SUM(AI14:AK14) -> 0 | CD14: =SUM(AN14:AP14) -> 0 | CE14: =SUM(AS14:AU14) -> 0 | CF14: =SUM(BX14:CE14) -> 0 | CH14: =LARGE((BF14:BU14),1) -> 54 | CI14: =LARGE((BF14:BU14),2) -> 45 | CJ14: =LARGE((BF14:BU14),3) -> 0 | CK14: =LARGE((BF14:BU14),4) -> 0 | CL14: =LARGE((BF14:BU14),5) -> 0 | CM14: =LARGE((BF14:BU14),6) -> 0 | CN14: =LARGE((BF14:BU14),7) -> 0 | CO14: =LARGE((BF14:BU14),8) -> 0 | CP14: =LARGE((BF14:BU14),9) -> 0 | CQ14: =LARGE((BF14:BU14),10) -> 0 | CR14: =LARGE((BF14:BU14),11) -> 0 | CS14: =LARGE((BF14:BU14),12) -> 0 | CT14: =LARGE((BF14:BU14),13) -> 0 | CU14: =LARGE((BF14:BU14),14) -> 0 | CV14: =LARGE((BF14:BU14),15) -> 0 | CW14: =LARGE((BF14:BU14),16) -> 0 | CY14: =LARGE((BX14:CE14),1) -> 0 | CZ14: =LARGE((BX14:CE14),2) -> 0 | DA14: =LARGE((BX14:CE14),3) -> 0 | DB14: =LARGE((BX14:CE14),4) -> 0 | DC14: =LARGE((BX14:CE14),5) -> 0 | DD14: =LARGE((BX14:CE14),6) -> 0 | DE14: =LARGE((BX14:CE14),7) -> 0 | DF14: =LARGE((BX14:CE14),8) -> 0
A15: 11 | B15: 12 | C15: Mark Gray | E15: 90 | F15: =E15+0 -> 90 | R15: 49 | S15: 49 | AV15: =SUM(BA15+BB15) -> 98 | AW15: =(AV14-AV15) -> 1 | BA15: =SUM(CH15:CP15) -> 98 | BB15: =SUM(CY15:DC15) -> 0 | BF15: =H15 -> 0 | BG15: =I15 -> 0 | BH15: =M15 -> 0 | BI15: =N15 -> 0 | BJ15: =R15 -> 49 | BK15: =S15 -> 49 | BL15: =W15 -> 0 | BM15: =X15 -> 0 | BN15: =AB15 -> 0 | BO15: =AC15 -> 0 | BP15: =AG15 -> 0 | BQ15: =AH15 -> 0 | BR15: =AL15 -> 0 | BS15: =AM15 -> 0 | BT15: =AQ15 -> 0 | BU15: =AR15 -> 0 | BV15: =SUM(BF15:BU15) -> 98 | BX15: =SUM(J15:L15) -> 0 | BY15: =SUM(O15:Q15) -> 0 | BZ15: =SUM(T15:V15) -> 0 | CA15: =SUM(Y15:AA15) -> 0 | CB15: =SUM(AD15:AF15) -> 0 | CC15: =SUM(AI15:AK15) -> 0 | CD15: =SUM(AN15:AP15) -> 0 | CE15: =SUM(AS15:AU15) -> 0 | CF15: =SUM(BX15:CE15) -> 0 | CH15: =LARGE((BF15:BU15),1) -> 49 | CI15: =LARGE((BF15:BU15),2) -> 49 | CJ15: =LARGE((BF15:BU15),3) -> 0 | CK15: =LARGE((BF15:BU15),4) -> 0 | CL15: =LARGE((BF15:BU15),5) -> 0 | CM15: =LARGE((BF15:BU15),6) -> 0 | CN15: =LARGE((BF15:BU15),7) -> 0 | CO15: =LARGE((BF15:BU15),8) -> 0 | CP15: =LARGE((BF15:BU15),9) -> 0 | CQ15: =LARGE((BF15:BU15),10) -> 0 | CR15: =LARGE((BF15:BU15),11) -> 0 | CS15: =LARGE((BF15:BU15),12) -> 0 | CT15: =LARGE((BF15:BU15),13) -> 0 | CU15: =LARGE((BF15:BU15),14) -> 0 | CV15: =LARGE((BF15:BU15),15) -> 0 | CW15: =LARGE((BF15:BU15),16) -> 0 | CY15: =LARGE((BX15:CE15),1) -> 0 | CZ15: =LARGE((BX15:CE15),2) -> 0 | DA15: =LARGE((BX15:CE15),3) -> 0 | DB15: =LARGE((BX15:CE15),4) -> 0 | DC15: =LARGE((BX15:CE15),5) -> 0 | DD15: =LARGE((BX15:CE15),6) -> 0 | DE15: =LARGE((BX15:CE15),7) -> 0 | DF15: =LARGE((BX15:CE15),8) -> 0
A16: 12 | B16: 13 | C16: Julian Marin | E16: 90 | F16: =E16+0 -> 90 | H16: 49 | I16: 45 | AV16: =SUM(BA16+BB16) -> 94 | AW16: =(AV15-AV16) -> 4 | BA16: =SUM(CH16:CP16) -> 94 | BB16: =SUM(CY16:DC16) -> 0 | BF16: =H16 -> 49 | BG16: =I16 -> 45 | BH16: =M16 -> 0 | BI16: =N16 -> 0 | BJ16: =R16 -> 0 | BK16: =S16 -> 0 | BL16: =W16 -> 0 | BM16: =X16 -> 0 | BN16: =AB16 -> 0 | BO16: =AC16 -> 0 | BP16: =AG16 -> 0 | BQ16: =AH16 -> 0 | BR16: =AL16 -> 0 | BS16: =AM16 -> 0 | BT16: =AQ16 -> 0 | BU16: =AR16 -> 0 | BV16: =SUM(BF16:BU16) -> 94 | BX16: =SUM(J16:L16) -> 0 | BY16: =SUM(O16:Q16) -> 0 | BZ16: =SUM(T16:V16) -> 0 | CA16: =SUM(Y16:AA16) -> 0 | CB16: =SUM(AD16:AF16) -> 0 | CC16: =SUM(AI16:AK16) -> 0 | CD16: =SUM(AN16:AP16) -> 0 | CE16: =SUM(AS16:AU16) -> 0 | CF16: =SUM(BX16:CE16) -> 0 | CH16: =LARGE((BF16:BU16),1) -> 49 | CI16: =LARGE((BF16:BU16),2) -> 45 | CJ16: =LARGE((BF16:BU16),3) -> 0 | CK16: =LARGE((BF16:BU16),4) -> 0 | CL16: =LARGE((BF16:BU16),5) -> 0 | CM16: =LARGE((BF16:BU16),6) -> 0 | CN16: =LARGE((BF16:BU16),7) -> 0 | CO16: =LARGE((BF16:BU16),8) -> 0 | CP16: =LARGE((BF16:BU16),9) -> 0 | CQ16: =LARGE((BF16:BU16),10) -> 0 | CR16: =LARGE((BF16:BU16),11) -> 0 | CS16: =LARGE((BF16:BU16),12) -> 0 | CT16: =LARGE((BF16:BU16),13) -> 0 | CU16: =LARGE((BF16:BU16),14) -> 0 | CV16: =LARGE((BF16:BU16),15) -> 0 | CW16: =LARGE((BF16:BU16),16) -> 0 | CY16: =LARGE((BX16:CE16),1) -> 0 | CZ16: =LARGE((BX16:CE16),2) -> 0 | DA16: =LARGE((BX16:CE16),3) -> 0 | DB16: =LARGE((BX16:CE16),4) -> 0 | DC16: =LARGE((BX16:CE16),5) -> 0 | DD16: =LARGE((BX16:CE16),6) -> 0 | DE16: =LARGE((BX16:CE16),7) -> 0 | DF16: =LARGE((BX16:CE16),8) -> 0
A17: 13 | B17: 14 | C17: Alex Scerii | E17: 90 | F17: =E17+0 -> 90 | AB17: 45 | AC17: 45 | AV17: =SUM(BA17+BB17) -> 90 | AW17: =(AV16-AV17) -> 4 | BA17: =SUM(CH17:CP17) -> 90 | BB17: =SUM(CY17:DC17) -> 0 | BF17: =H17 -> 0 | BG17: =I17 -> 0 | BH17: =M17 -> 0 | BI17: =N17 -> 0 | BJ17: =R17 -> 0 | BK17: =S17 -> 0 | BL17: =W17 -> 0 | BM17: =X17 -> 0 | BN17: =AB17 -> 45 | BO17: =AC17 -> 45 | BP17: =AG17 -> 0 | BQ17: =AH17 -> 0 | BR17: =AL17 -> 0 | BS17: =AM17 -> 0 | BT17: =AQ17 -> 0 | BU17: =AR17 -> 0 | BV17: =SUM(BF17:BU17) -> 90 | BX17: =SUM(J17:L17) -> 0 | BY17: =SUM(O17:Q17) -> 0 | BZ17: =SUM(T17:V17) -> 0 | CA17: =SUM(Y17:AA17) -> 0 | CB17: =SUM(AD17:AF17) -> 0 | CC17: =SUM(AI17:AK17) -> 0 | CD17: =SUM(AN17:AP17) -> 0 | CE17: =SUM(AS17:AU17) -> 0 | CF17: =SUM(BX17:CE17) -> 0 | CH17: =LARGE((BF17:BU17),1) -> 45 | CI17: =LARGE((BF17:BU17),2) -> 45 | CJ17: =LARGE((BF17:BU17),3) -> 0 | CK17: =LARGE((BF17:BU17),4) -> 0 | CL17: =LARGE((BF17:BU17),5) -> 0 | CM17: =LARGE((BF17:BU17),6) -> 0 | CN17: =LARGE((BF17:BU17),7) -> 0 | CO17: =LARGE((BF17:BU17),8) -> 0 | CP17: =LARGE((BF17:BU17),9) -> 0 | CQ17: =LARGE((BF17:BU17),10) -> 0 | CR17: =LARGE((BF17:BU17),11) -> 0 | CS17: =LARGE((BF17:BU17),12) -> 0 | CT17: =LARGE((BF17:BU17),13) -> 0 | CU17: =LARGE((BF17:BU17),14) -> 0 | CV17: =LARGE((BF17:BU17),15) -> 0 | CW17: =LARGE((BF17:BU17),16) -> 0 | CY17: =LARGE((BX17:CE17),1) -> 0 | CZ17: =LARGE((BX17:CE17),2) -> 0 | DA17: =LARGE((BX17:CE17),3) -> 0 | DB17: =LARGE((BX17:CE17),4) -> 0 | DC17: =LARGE((BX17:CE17),5) -> 0 | DD17: =LARGE((BX17:CE17),6) -> 0 | DE17: =LARGE((BX17:CE17),7) -> 0 | DF17: =LARGE((BX17:CE17),8) -> 0
B18: 15 | E18: 90 | F18: =E18+0 -> 90 | AV18: =SUM(BA18+BB18) -> 0 | AW18: =(AV17-AV18) -> 90 | BA18: =SUM(CH18:CP18) -> 0 | BB18: =SUM(CY18:DC18) -> 0 | BF18: =H18 -> 0 | BG18: =I18 -> 0 | BH18: =M18 -> 0 | BI18: =N18 -> 0 | BJ18: =R18 -> 0 | BK18: =S18 -> 0 | BL18: =W18 -> 0 | BM18: =X18 -> 0 | BN18: =AB18 -> 0 | BO18: =AC18 -> 0 | BP18: =AG18 -> 0 | BQ18: =AH18 -> 0 | BR18: =AL18 -> 0 | BS18: =AM18 -> 0 | BT18: =AQ18 -> 0 | BU18: =AR18 -> 0 | BV18: =SUM(BF18:BU18) -> 0 | BX18: =SUM(J18:L18) -> 0 | BY18: =SUM(O18:Q18) -> 0 | BZ18: =SUM(T18:V18) -> 0 | CA18: =SUM(Y18:AA18) -> 0 | CB18: =SUM(AD18:AF18) -> 0 | CC18: =SUM(AI18:AK18) -> 0 | CD18: =SUM(AN18:AP18) -> 0 | CE18: =SUM(AS18:AU18) -> 0 | CF18: =SUM(BX18:CE18) -> 0 | CH18: =LARGE((BF18:BU18),1) -> 0 | CI18: =LARGE((BF18:BU18),2) -> 0 | CJ18: =LARGE((BF18:BU18),3) -> 0 | CK18: =LARGE((BF18:BU18),4) -> 0 | CL18: =LARGE((BF18:BU18),5) -> 0 | CM18: =LARGE((BF18:BU18),6) -> 0 | CN18: =LARGE((BF18:BU18),7) -> 0 | CO18: =LARGE((BF18:BU18),8) -> 0 | CP18: =LARGE((BF18:BU18),9) -> 0 | CQ18: =LARGE((BF18:BU18),10) -> 0 | CR18: =LARGE((BF18:BU18),11) -> 0 | CS18: =LARGE((BF18:BU18),12) -> 0 | CT18: =LARGE((BF18:BU18),13) -> 0 | CU18: =LARGE((BF18:BU18),14) -> 0 | CV18: =LARGE((BF18:BU18),15) -> 0 | CW18: =LARGE((BF18:BU18),16) -> 0 | CY18: =LARGE((BX18:CE18),1) -> 0 | CZ18: =LARGE((BX18:CE18),2) -> 0 | DA18: =LARGE((BX18:CE18),3) -> 0 | DB18: =LARGE((BX18:CE18),4) -> 0 | DC18: =LARGE((BX18:CE18),5) -> 0 | DD18: =LARGE((BX18:CE18),6) -> 0 | DE18: =LARGE((BX18:CE18),7) -> 0 | DF18: =LARGE((BX18:CE18),8) -> 0
B19: 16 | E19: 90 | F19: =E19+0 -> 90 | AV19: =SUM(BA19+BB19) -> 0 | AW19: =(AV18-AV19) -> 0 | BA19: =SUM(CH19:CP19) -> 0 | BB19: =SUM(CY19:DC19) -> 0 | BF19: =H19 -> 0 | BG19: =I19 -> 0 | BH19: =M19 -> 0 | BI19: =N19 -> 0 | BJ19: =R19 -> 0 | BK19: =S19 -> 0 | BL19: =W19 -> 0 | BM19: =X19 -> 0 | BN19: =AB19 -> 0 | BO19: =AC19 -> 0 | BP19: =AG19 -> 0 | BQ19: =AH19 -> 0 | BR19: =AL19 -> 0 | BS19: =AM19 -> 0 | BT19: =AQ19 -> 0 | BU19: =AR19 -> 0 | BV19: =SUM(BF19:BU19) -> 0 | BX19: =SUM(J19:L19) -> 0 | BY19: =SUM(O19:Q19) -> 0 | BZ19: =SUM(T19:V19) -> 0 | CA19: =SUM(Y19:AA19) -> 0 | CB19: =SUM(AD19:AF19) -> 0 | CC19: =SUM(AI19:AK19) -> 0 | CD19: =SUM(AN19:AP19) -> 0 | CE19: =SUM(AS19:AU19) -> 0 | CF19: =SUM(BX19:CE19) -> 0 | CH19: =LARGE((BF19:BU19),1) -> 0 | CI19: =LARGE((BF19:BU19),2) -> 0 | CJ19: =LARGE((BF19:BU19),3) -> 0 | CK19: =LARGE((BF19:BU19),4) -> 0 | CL19: =LARGE((BF19:BU19),5) -> 0 | CM19: =LARGE((BF19:BU19),6) -> 0 | CN19: =LARGE((BF19:BU19),7) -> 0 | CO19: =LARGE((BF19:BU19),8) -> 0 | CP19: =LARGE((BF19:BU19),9) -> 0 | CQ19: =LARGE((BF19:BU19),10) -> 0 | CR19: =LARGE((BF19:BU19),11) -> 0 | CS19: =LARGE((BF19:BU19),12) -> 0 | CT19: =LARGE((BF19:BU19),13) -> 0 | CU19: =LARGE((BF19:BU19),14) -> 0 | CV19: =LARGE((BF19:BU19),15) -> 0 | CW19: =LARGE((BF19:BU19),16) -> 0 | CY19: =LARGE((BX19:CE19),1) -> 0 | CZ19: =LARGE((BX19:CE19),2) -> 0 | DA19: =LARGE((BX19:CE19),3) -> 0 | DB19: =LARGE((BX19:CE19),4) -> 0 | DC19: =LARGE((BX19:CE19),5) -> 0 | DD19: =LARGE((BX19:CE19),6) -> 0 | DE19: =LARGE((BX19:CE19),7) -> 0 | DF19: =LARGE((BX19:CE19),8) -> 0
B20: 17 | E20: 90 | F20: =E20+0 -> 90 | AV20: =SUM(BA20+BB20) -> 0 | AW20: =(AV19-AV20) -> 0 | BA20: =SUM(CH20:CP20) -> 0 | BB20: =SUM(CY20:DC20) -> 0 | BF20: =H20 -> 0 | BG20: =I20 -> 0 | BH20: =M20 -> 0 | BI20: =N20 -> 0 | BJ20: =R20 -> 0 | BK20: =S20 -> 0 | BL20: =W20 -> 0 | BM20: =X20 -> 0 | BN20: =AB20 -> 0 | BO20: =AC20 -> 0 | BP20: =AG20 -> 0 | BQ20: =AH20 -> 0 | BR20: =AL20 -> 0 | BS20: =AM20 -> 0 | BT20: =AQ20 -> 0 | BU20: =AR20 -> 0 | BV20: =SUM(BF20:BU20) -> 0 | BX20: =SUM(J20:L20) -> 0 | BY20: =SUM(O20:Q20) -> 0 | BZ20: =SUM(T20:V20) -> 0 | CA20: =SUM(Y20:AA20) -> 0 | CB20: =SUM(AD20:AF20) -> 0 | CC20: =SUM(AI20:AK20) -> 0 | CD20: =SUM(AN20:AP20) -> 0 | CE20: =SUM(AS20:AU20) -> 0 | CF20: =SUM(BX20:CE20) -> 0 | CH20: =LARGE((BF20:BU20),1) -> 0 | CI20: =LARGE((BF20:BU20),2) -> 0 | CJ20: =LARGE((BF20:BU20),3) -> 0 | CK20: =LARGE((BF20:BU20),4) -> 0 | CL20: =LARGE((BF20:BU20),5) -> 0 | CM20: =LARGE((BF20:BU20),6) -> 0 | CN20: =LARGE((BF20:BU20),7) -> 0 | CO20: =LARGE((BF20:BU20),8) -> 0 | CP20: =LARGE((BF20:BU20),9) -> 0 | CQ20: =LARGE((BF20:BU20),10) -> 0 | CR20: =LARGE((BF20:BU20),11) -> 0 | CS20: =LARGE((BF20:BU20),12) -> 0 | CT20: =LARGE((BF20:BU20),13) -> 0 | CU20: =LARGE((BF20:BU20),14) -> 0 | CV20: =LARGE((BF20:BU20),15) -> 0 | CW20: =LARGE((BF20:BU20),16) -> 0 | CY20: =LARGE((BX20:CE20),1) -> 0 | CZ20: =LARGE((BX20:CE20),2) -> 0 | DA20: =LARGE((BX20:CE20),3) -> 0 | DB20: =LARGE((BX20:CE20),4) -> 0 | DC20: =LARGE((BX20:CE20),5) -> 0 | DD20: =LARGE((BX20:CE20),6) -> 0 | DE20: =LARGE((BX20:CE20),7) -> 0 | DF20: =LARGE((BX20:CE20),8) -> 0
B21: 18 | E21: 90 | F21: =E21+0 -> 90 | AV21: =SUM(BA21+BB21) -> 0 | AW21: =(AV20-AV21) -> 0 | BA21: =SUM(CH21:CP21) -> 0 | BB21: =SUM(CY21:DC21) -> 0 | BF21: =H21 -> 0 | BG21: =I21 -> 0 | BH21: =M21 -> 0 | BI21: =N21 -> 0 | BJ21: =R21 -> 0 | BK21: =S21 -> 0 | BL21: =W21 -> 0 | BM21: =X21 -> 0 | BN21: =AB21 -> 0 | BO21: =AC21 -> 0 | BP21: =AG21 -> 0 | BQ21: =AH21 -> 0 | BR21: =AL21 -> 0 | BS21: =AM21 -> 0 | BT21: =AQ21 -> 0 | BU21: =AR21 -> 0 | BV21: =SUM(BF21:BU21) -> 0 | BX21: =SUM(J21:L21) -> 0 | BY21: =SUM(O21:Q21) -> 0 | BZ21: =SUM(T21:V21) -> 0 | CA21: =SUM(Y21:AA21) -> 0 | CB21: =SUM(AD21:AF21) -> 0 | CC21: =SUM(AI21:AK21) -> 0 | CD21: =SUM(AN21:AP21) -> 0 | CE21: =SUM(AS21:AU21) -> 0 | CF21: =SUM(BX21:CE21) -> 0 | CH21: =LARGE((BF21:BU21),1) -> 0 | CI21: =LARGE((BF21:BU21),2) -> 0 | CJ21: =LARGE((BF21:BU21),3) -> 0 | CK21: =LARGE((BF21:BU21),4) -> 0 | CL21: =LARGE((BF21:BU21),5) -> 0 | CM21: =LARGE((BF21:BU21),6) -> 0 | CN21: =LARGE((BF21:BU21),7) -> 0 | CO21: =LARGE((BF21:BU21),8) -> 0 | CP21: =LARGE((BF21:BU21),9) -> 0 | CQ21: =LARGE((BF21:BU21),10) -> 0 | CR21: =LARGE((BF21:BU21),11) -> 0 | CS21: =LARGE((BF21:BU21),12) -> 0 | CT21: =LARGE((BF21:BU21),13) -> 0 | CU21: =LARGE((BF21:BU21),14) -> 0 | CV21: =LARGE((BF21:BU21),15) -> 0 | CW21: =LARGE((BF21:BU21),16) -> 0 | CY21: =LARGE((BX21:CE21),1) -> 0 | CZ21: =LARGE((BX21:CE21),2) -> 0 | DA21: =LARGE((BX21:CE21),3) -> 0 | DB21: =LARGE((BX21:CE21),4) -> 0 | DC21: =LARGE((BX21:CE21),5) -> 0 | DD21: =LARGE((BX21:CE21),6) -> 0 | DE21: =LARGE((BX21:CE21),7) -> 0 | DF21: =LARGE((BX21:CE21),8) -> 0
B22: 19 | E22: 90 | F22: =E22+0 -> 90 | AV22: =SUM(BA22+BB22) -> 0 | AW22: =(AV21-AV22) -> 0 | BA22: =SUM(CH22:CP22) -> 0 | BB22: =SUM(CY22:DC22) -> 0 | BF22: =H22 -> 0 | BG22: =I22 -> 0 | BH22: =M22 -> 0 | BI22: =N22 -> 0 | BJ22: =R22 -> 0 | BK22: =S22 -> 0 | BL22: =W22 -> 0 | BM22: =X22 -> 0 | BN22: =AB22 -> 0 | BO22: =AC22 -> 0 | BP22: =AG22 -> 0 | BQ22: =AH22 -> 0 | BR22: =AL22 -> 0 | BS22: =AM22 -> 0 | BT22: =AQ22 -> 0 | BU22: =AR22 -> 0 | BV22: =SUM(BF22:BU22) -> 0 | BX22: =SUM(J22:L22) -> 0 | BY22: =SUM(O22:Q22) -> 0 | BZ22: =SUM(T22:V22) -> 0 | CA22: =SUM(Y22:AA22) -> 0 | CB22: =SUM(AD22:AF22) -> 0 | CC22: =SUM(AI22:AK22) -> 0 | CD22: =SUM(AN22:AP22) -> 0 | CE22: =SUM(AS22:AU22) -> 0 | CF22: =SUM(BX22:CE22) -> 0 | CH22: =LARGE((BF22:BU22),1) -> 0 | CI22: =LARGE((BF22:BU22),2) -> 0 | CJ22: =LARGE((BF22:BU22),3) -> 0 | CK22: =LARGE((BF22:BU22),4) -> 0 | CL22: =LARGE((BF22:BU22),5) -> 0 | CM22: =LARGE((BF22:BU22),6) -> 0 | CN22: =LARGE((BF22:BU22),7) -> 0 | CO22: =LARGE((BF22:BU22),8) -> 0 | CP22: =LARGE((BF22:BU22),9) -> 0 | CQ22: =LARGE((BF22:BU22),10) -> 0 | CR22: =LARGE((BF22:BU22),11) -> 0 | CS22: =LARGE((BF22:BU22),12) -> 0 | CT22: =LARGE((BF22:BU22),13) -> 0 | CU22: =LARGE((BF22:BU22),14) -> 0 | CV22: =LARGE((BF22:BU22),15) -> 0 | CW22: =LARGE((BF22:BU22),16) -> 0 | CY22: =LARGE((BX22:CE22),1) -> 0 | CZ22: =LARGE((BX22:CE22),2) -> 0 | DA22: =LARGE((BX22:CE22),3) -> 0 | DB22: =LARGE((BX22:CE22),4) -> 0 | DC22: =LARGE((BX22:CE22),5) -> 0 | DD22: =LARGE((BX22:CE22),6) -> 0 | DE22: =LARGE((BX22:CE22),7) -> 0 | DF22: =LARGE((BX22:CE22),8) -> 0
B23: 20 | E23: 90 | F23: =E23+0 -> 90 | AV23: =SUM(BA23+BB23) -> 0 | AW23: =(AV22-AV23) -> 0 | BA23: =SUM(CH23:CP23) -> 0 | BB23: =SUM(CY23:DC23) -> 0 | BF23: =H23 -> 0 | BG23: =I23 -> 0 | BH23: =M23 -> 0 | BI23: =N23 -> 0 | BJ23: =R23 -> 0 | BK23: =S23 -> 0 | BL23: =W23 -> 0 | BM23: =X23 -> 0 | BN23: =AB23 -> 0 | BO23: =AC23 -> 0 | BP23: =AG23 -> 0 | BQ23: =AH23 -> 0 | BR23: =AL23 -> 0 | BS23: =AM23 -> 0 | BT23: =AQ23 -> 0 | BU23: =AR23 -> 0 | BV23: =SUM(BF23:BU23) -> 0 | BX23: =SUM(J23:L23) -> 0 | BY23: =SUM(O23:Q23) -> 0 | BZ23: =SUM(T23:V23) -> 0 | CA23: =SUM(Y23:AA23) -> 0 | CB23: =SUM(AD23:AF23) -> 0 | CC23: =SUM(AI23:AK23) -> 0 | CD23: =SUM(AN23:AP23) -> 0 | CE23: =SUM(AS23:AU23) -> 0 | CF23: =SUM(BX23:CE23) -> 0 | CH23: =LARGE((BF23:BU23),1) -> 0 | CI23: =LARGE((BF23:BU23),2) -> 0 | CJ23: =LARGE((BF23:BU23),3) -> 0 | CK23: =LARGE((BF23:BU23),4) -> 0 | CL23: =LARGE((BF23:BU23),5) -> 0 | CM23: =LARGE((BF23:BU23),6) -> 0 | CN23: =LARGE((BF23:BU23),7) -> 0 | CO23: =LARGE((BF23:BU23),8) -> 0 | CP23: =LARGE((BF23:BU23),9) -> 0 | CQ23: =LARGE((BF23:BU23),10) -> 0 | CR23: =LARGE((BF23:BU23),11) -> 0 | CS23: =LARGE((BF23:BU23),12) -> 0 | CT23: =LARGE((BF23:BU23),13) -> 0 | CU23: =LARGE((BF23:BU23),14) -> 0 | CV23: =LARGE((BF23:BU23),15) -> 0 | CW23: =LARGE((BF23:BU23),16) -> 0 | CY23: =LARGE((BX23:CE23),1) -> 0 | CZ23: =LARGE((BX23:CE23),2) -> 0 | DA23: =LARGE((BX23:CE23),3) -> 0 | DB23: =LARGE((BX23:CE23),4) -> 0 | DC23: =LARGE((BX23:CE23),5) -> 0 | DD23: =LARGE((BX23:CE23),6) -> 0 | DE23: =LARGE((BX23:CE23),7) -> 0 | DF23: =LARGE((BX23:CE23),8) -> 0
B24: 21 | E24: 90 | F24: =E24+0 -> 90 | AV24: =SUM(BA24+BB24) -> 0 | AW24: =(AV23-AV24) -> 0 | BA24: =SUM(CH24:CP24) -> 0 | BB24: =SUM(CY24:DC24) -> 0 | BF24: =H24 -> 0 | BG24: =I24 -> 0 | BH24: =M24 -> 0 | BI24: =N24 -> 0 | BJ24: =R24 -> 0 | BK24: =S24 -> 0 | BL24: =W24 -> 0 | BM24: =X24 -> 0 | BN24: =AB24 -> 0 | BO24: =AC24 -> 0 | BP24: =AG24 -> 0 | BQ24: =AH24 -> 0 | BR24: =AL24 -> 0 | BS24: =AM24 -> 0 | BT24: =AQ24 -> 0 | BU24: =AR24 -> 0 | BV24: =SUM(BF24:BU24) -> 0 | BX24: =SUM(J24:L24) -> 0 | BY24: =SUM(O24:Q24) -> 0 | BZ24: =SUM(T24:V24) -> 0 | CA24: =SUM(Y24:AA24) -> 0 | CB24: =SUM(AD24:AF24) -> 0 | CC24: =SUM(AI24:AK24) -> 0 | CD24: =SUM(AN24:AP24) -> 0 | CE24: =SUM(AS24:AU24) -> 0 | CF24: =SUM(BX24:CE24) -> 0 | CH24: =LARGE((BF24:BU24),1) -> 0 | CI24: =LARGE((BF24:BU24),2) -> 0 | CJ24: =LARGE((BF24:BU24),3) -> 0 | CK24: =LARGE((BF24:BU24),4) -> 0 | CL24: =LARGE((BF24:BU24),5) -> 0 | CM24: =LARGE((BF24:BU24),6) -> 0 | CN24: =LARGE((BF24:BU24),7) -> 0 | CO24: =LARGE((BF24:BU24),8) -> 0 | CP24: =LARGE((BF24:BU24),9) -> 0 | CQ24: =LARGE((BF24:BU24),10) -> 0 | CR24: =LARGE((BF24:BU24),11) -> 0 | CS24: =LARGE((BF24:BU24),12) -> 0 | CT24: =LARGE((BF24:BU24),13) -> 0 | CU24: =LARGE((BF24:BU24),14) -> 0 | CV24: =LARGE((BF24:BU24),15) -> 0 | CW24: =LARGE((BF24:BU24),16) -> 0 | CY24: =LARGE((BX24:CE24),1) -> 0 | CZ24: =LARGE((BX24:CE24),2) -> 0 | DA24: =LARGE((BX24:CE24),3) -> 0 | DB24: =LARGE((BX24:CE24),4) -> 0 | DC24: =LARGE((BX24:CE24),5) -> 0 | DD24: =LARGE((BX24:CE24),6) -> 0 | DE24: =LARGE((BX24:CE24),7) -> 0 | DF24: =LARGE((BX24:CE24),8) -> 0
B25: 22 | E25: 90 | F25: =E25+0 -> 90 | AV25: =SUM(BA25+BB25) -> 0 | AW25: =(AV24-AV25) -> 0 | BA25: =SUM(CH25:CP25) -> 0 | BB25: =SUM(CY25:DC25) -> 0 | BF25: =H25 -> 0 | BG25: =I25 -> 0 | BH25: =M25 -> 0 | BI25: =N25 -> 0 | BJ25: =R25 -> 0 | BK25: =S25 -> 0 | BL25: =W25 -> 0 | BM25: =X25 -> 0 | BN25: =AB25 -> 0 | BO25: =AC25 -> 0 | BP25: =AG25 -> 0 | BQ25: =AH25 -> 0 | BR25: =AL25 -> 0 | BS25: =AM25 -> 0 | BT25: =AQ25 -> 0 | BU25: =AR25 -> 0 | BV25: =SUM(BF25:BU25) -> 0 | BX25: =SUM(J25:L25) -> 0 | BY25: =SUM(O25:Q25) -> 0 | BZ25: =SUM(T25:V25) -> 0 | CA25: =SUM(Y25:AA25) -> 0 | CB25: =SUM(AD25:AF25) -> 0 | CC25: =SUM(AI25:AK25) -> 0 | CD25: =SUM(AN25:AP25) -> 0 | CE25: =SUM(AS25:AU25) -> 0 | CF25: =SUM(BX25:CE25) -> 0 | CH25: =LARGE((BF25:BU25),1) -> 0 | CI25: =LARGE((BF25:BU25),2) -> 0 | CJ25: =LARGE((BF25:BU25),3) -> 0 | CK25: =LARGE((BF25:BU25),4) -> 0 | CL25: =LARGE((BF25:BU25),5) -> 0 | CM25: =LARGE((BF25:BU25),6) -> 0 | CN25: =LARGE((BF25:BU25),7) -> 0 | CO25: =LARGE((BF25:BU25),8) -> 0 | CP25: =LARGE((BF25:BU25),9) -> 0 | CQ25: =LARGE((BF25:BU25),10) -> 0 | CR25: =LARGE((BF25:BU25),11) -> 0 | CS25: =LARGE((BF25:BU25),12) -> 0 | CT25: =LARGE((BF25:BU25),13) -> 0 | CU25: =LARGE((BF25:BU25),14) -> 0 | CV25: =LARGE((BF25:BU25),15) -> 0 | CW25: =LARGE((BF25:BU25),16) -> 0 | CY25: =LARGE((BX25:CE25),1) -> 0 | CZ25: =LARGE((BX25:CE25),2) -> 0 | DA25: =LARGE((BX25:CE25),3) -> 0 | DB25: =LARGE((BX25:CE25),4) -> 0 | DC25: =LARGE((BX25:CE25),5) -> 0 | DD25: =LARGE((BX25:CE25),6) -> 0 | DE25: =LARGE((BX25:CE25),7) -> 0 | DF25: =LARGE((BX25:CE25),8) -> 0
B26: 23 | E26: 90 | F26: =E26+0 -> 90 | AV26: =SUM(BA26+BB26) -> 0 | AW26: =(AV25-AV26) -> 0 | BA26: =SUM(CH26:CP26) -> 0 | BB26: =SUM(CY26:DC26) -> 0 | BF26: =H26 -> 0 | BG26: =I26 -> 0 | BH26: =M26 -> 0 | BI26: =N26 -> 0 | BJ26: =R26 -> 0 | BK26: =S26 -> 0 | BL26: =W26 -> 0 | BM26: =X26 -> 0 | BN26: =AB26 -> 0 | BO26: =AC26 -> 0 | BP26: =AG26 -> 0 | BQ26: =AH26 -> 0 | BR26: =AL26 -> 0 | BS26: =AM26 -> 0 | BT26: =AQ26 -> 0 | BU26: =AR26 -> 0 | BV26: =SUM(BF26:BU26) -> 0 | BX26: =SUM(J26:L26) -> 0 | BY26: =SUM(O26:Q26) -> 0 | BZ26: =SUM(T26:V26) -> 0 | CA26: =SUM(Y26:AA26) -> 0 | CB26: =SUM(AD26:AF26) -> 0 | CC26: =SUM(AI26:AK26) -> 0 | CD26: =SUM(AN26:AP26) -> 0 | CE26: =SUM(AS26:AU26) -> 0 | CF26: =SUM(BX26:CE26) -> 0 | CH26: =LARGE((BF26:BU26),1) -> 0 | CI26: =LARGE((BF26:BU26),2) -> 0 | CJ26: =LARGE((BF26:BU26),3) -> 0 | CK26: =LARGE((BF26:BU26),4) -> 0 | CL26: =LARGE((BF26:BU26),5) -> 0 | CM26: =LARGE((BF26:BU26),6) -> 0 | CN26: =LARGE((BF26:BU26),7) -> 0 | CO26: =LARGE((BF26:BU26),8) -> 0 | CP26: =LARGE((BF26:BU26),9) -> 0 | CQ26: =LARGE((BF26:BU26),10) -> 0 | CR26: =LARGE((BF26:BU26),11) -> 0 | CS26: =LARGE((BF26:BU26),12) -> 0 | CT26: =LARGE((BF26:BU26),13) -> 0 | CU26: =LARGE((BF26:BU26),14) -> 0 | CV26: =LARGE((BF26:BU26),15) -> 0 | CW26: =LARGE((BF26:BU26),16) -> 0 | CY26: =LARGE((BX26:CE26),1) -> 0 | CZ26: =LARGE((BX26:CE26),2) -> 0 | DA26: =LARGE((BX26:CE26),3) -> 0 | DB26: =LARGE((BX26:CE26),4) -> 0 | DC26: =LARGE((BX26:CE26),5) -> 0 | DD26: =LARGE((BX26:CE26),6) -> 0 | DE26: =LARGE((BX26:CE26),7) -> 0 | DF26: =LARGE((BX26:CE26),8) -> 0
B27: 24 | E27: 90 | F27: =E27+0 -> 90 | AV27: =SUM(BA27+BB27) -> 0 | AW27: =(AV26-AV27) -> 0 | BA27: =SUM(CH27:CP27) -> 0 | BB27: =SUM(CY27:DC27) -> 0 | BF27: =H27 -> 0 | BG27: =I27 -> 0 | BH27: =M27 -> 0 | BI27: =N27 -> 0 | BJ27: =R27 -> 0 | BK27: =S27 -> 0 | BL27: =W27 -> 0 | BM27: =X27 -> 0 | BN27: =AB27 -> 0 | BO27: =AC27 -> 0 | BP27: =AG27 -> 0 | BQ27: =AH27 -> 0 | BR27: =AL27 -> 0 | BS27: =AM27 -> 0 | BT27: =AQ27 -> 0 | BU27: =AR27 -> 0 | BV27: =SUM(BF27:BU27) -> 0 | BX27: =SUM(J27:L27) -> 0 | BY27: =SUM(O27:Q27) -> 0 | BZ27: =SUM(T27:V27) -> 0 | CA27: =SUM(Y27:AA27) -> 0 | CB27: =SUM(AD27:AF27) -> 0 | CC27: =SUM(AI27:AK27) -> 0 | CD27: =SUM(AN27:AP27) -> 0 | CE27: =SUM(AS27:AU27) -> 0 | CF27: =SUM(BX27:CE27) -> 0 | CH27: =LARGE((BF27:BU27),1) -> 0 | CI27: =LARGE((BF27:BU27),2) -> 0 | CJ27: =LARGE((BF27:BU27),3) -> 0 | CK27: =LARGE((BF27:BU27),4) -> 0 | CL27: =LARGE((BF27:BU27),5) -> 0 | CM27: =LARGE((BF27:BU27),6) -> 0 | CN27: =LARGE((BF27:BU27),7) -> 0 | CO27: =LARGE((BF27:BU27),8) -> 0 | CP27: =LARGE((BF27:BU27),9) -> 0 | CQ27: =LARGE((BF27:BU27),10) -> 0 | CR27: =LARGE((BF27:BU27),11) -> 0 | CS27: =LARGE((BF27:BU27),12) -> 0 | CT27: =LARGE((BF27:BU27),13) -> 0 | CU27: =LARGE((BF27:BU27),14) -> 0 | CV27: =LARGE((BF27:BU27),15) -> 0 | CW27: =LARGE((BF27:BU27),16) -> 0 | CY27: =LARGE((BX27:CE27),1) -> 0 | CZ27: =LARGE((BX27:CE27),2) -> 0 | DA27: =LARGE((BX27:CE27),3) -> 0 | DB27: =LARGE((BX27:CE27),4) -> 0 | DC27: =LARGE((BX27:CE27),5) -> 0 | DD27: =LARGE((BX27:CE27),6) -> 0 | DE27: =LARGE((BX27:CE27),7) -> 0 | DF27: =LARGE((BX27:CE27),8) -> 0
B28: 25 | E28: 90 | F28: =E28+0 -> 90 | AV28: =SUM(BA28+BB28) -> 0 | AW28: =(AV27-AV28) -> 0 | BA28: =SUM(CH28:CP28) -> 0 | BB28: =SUM(CY28:DC28) -> 0 | BF28: =H28 -> 0 | BG28: =I28 -> 0 | BH28: =M28 -> 0 | BI28: =N28 -> 0 | BJ28: =R28 -> 0 | BK28: =S28 -> 0 | BL28: =W28 -> 0 | BM28: =X28 -> 0 | BN28: =AB28 -> 0 | BO28: =AC28 -> 0 | BP28: =AG28 -> 0 | BQ28: =AH28 -> 0 | BR28: =AL28 -> 0 | BS28: =AM28 -> 0 | BT28: =AQ28 -> 0 | BU28: =AR28 -> 0 | BV28: =SUM(BF28:BU28) -> 0 | BX28: =SUM(J28:L28) -> 0 | BY28: =SUM(O28:Q28) -> 0 | BZ28: =SUM(T28:V28) -> 0 | CA28: =SUM(Y28:AA28) -> 0 | CB28: =SUM(AD28:AF28) -> 0 | CC28: =SUM(AI28:AK28) -> 0 | CD28: =SUM(AN28:AP28) -> 0 | CE28: =SUM(AS28:AU28) -> 0 | CF28: =SUM(BX28:CE28) -> 0 | CH28: =LARGE((BF28:BU28),1) -> 0 | CI28: =LARGE((BF28:BU28),2) -> 0 | CJ28: =LARGE((BF28:BU28),3) -> 0 | CK28: =LARGE((BF28:BU28),4) -> 0 | CL28: =LARGE((BF28:BU28),5) -> 0 | CM28: =LARGE((BF28:BU28),6) -> 0 | CN28: =LARGE((BF28:BU28),7) -> 0 | CO28: =LARGE((BF28:BU28),8) -> 0 | CP28: =LARGE((BF28:BU28),9) -> 0 | CQ28: =LARGE((BF28:BU28),10) -> 0 | CR28: =LARGE((BF28:BU28),11) -> 0 | CS28: =LARGE((BF28:BU28),12) -> 0 | CT28: =LARGE((BF28:BU28),13) -> 0 | CU28: =LARGE((BF28:BU28),14) -> 0 | CV28: =LARGE((BF28:BU28),15) -> 0 | CW28: =LARGE((BF28:BU28),16) -> 0 | CY28: =LARGE((BX28:CE28),1) -> 0 | CZ28: =LARGE((BX28:CE28),2) -> 0 | DA28: =LARGE((BX28:CE28),3) -> 0 | DB28: =LARGE((BX28:CE28),4) -> 0 | DC28: =LARGE((BX28:CE28),5) -> 0 | DD28: =LARGE((BX28:CE28),6) -> 0 | DE28: =LARGE((BX28:CE28),7) -> 0 | DF28: =LARGE((BX28:CE28),8) -> 0
B29: 26 | E29: 90 | F29: =E29+0 -> 90 | AV29: =SUM(BA29+BB29) -> 0 | AW29: =(AV28-AV29) -> 0 | BA29: =SUM(CH29:CP29) -> 0 | BB29: =SUM(CY29:DC29) -> 0 | BF29: =H29 -> 0 | BG29: =I29 -> 0 | BH29: =M29 -> 0 | BI29: =N29 -> 0 | BJ29: =R29 -> 0 | BK29: =S29 -> 0 | BL29: =W29 -> 0 | BM29: =X29 -> 0 | BN29: =AB29 -> 0 | BO29: =AC29 -> 0 | BP29: =AG29 -> 0 | BQ29: =AH29 -> 0 | BR29: =AL29 -> 0 | BS29: =AM29 -> 0 | BT29: =AQ29 -> 0 | BU29: =AR29 -> 0 | BV29: =SUM(BF29:BU29) -> 0 | BX29: =SUM(J29:L29) -> 0 | BY29: =SUM(O29:Q29) -> 0 | BZ29: =SUM(T29:V29) -> 0 | CA29: =SUM(Y29:AA29) -> 0 | CB29: =SUM(AD29:AF29) -> 0 | CC29: =SUM(AI29:AK29) -> 0 | CD29: =SUM(AN29:AP29) -> 0 | CE29: =SUM(AS29:AU29) -> 0 | CF29: =SUM(BX29:CE29) -> 0 | CH29: =LARGE((BF29:BU29),1) -> 0 | CI29: =LARGE((BF29:BU29),2) -> 0 | CJ29: =LARGE((BF29:BU29),3) -> 0 | CK29: =LARGE((BF29:BU29),4) -> 0 | CL29: =LARGE((BF29:BU29),5) -> 0 | CM29: =LARGE((BF29:BU29),6) -> 0 | CN29: =LARGE((BF29:BU29),7) -> 0 | CO29: =LARGE((BF29:BU29),8) -> 0 | CP29: =LARGE((BF29:BU29),9) -> 0 | CQ29: =LARGE((BF29:BU29),10) -> 0 | CR29: =LARGE((BF29:BU29),11) -> 0 | CS29: =LARGE((BF29:BU29),12) -> 0 | CT29: =LARGE((BF29:BU29),13) -> 0 | CU29: =LARGE((BF29:BU29),14) -> 0 | CV29: =LARGE((BF29:BU29),15) -> 0 | CW29: =LARGE((BF29:BU29),16) -> 0 | CY29: =LARGE((BX29:CE29),1) -> 0 | CZ29: =LARGE((BX29:CE29),2) -> 0 | DA29: =LARGE((BX29:CE29),3) -> 0 | DB29: =LARGE((BX29:CE29),4) -> 0 | DC29: =LARGE((BX29:CE29),5) -> 0 | DD29: =LARGE((BX29:CE29),6) -> 0 | DE29: =LARGE((BX29:CE29),7) -> 0 | DF29: =LARGE((BX29:CE29),8) -> 0
... B53: 50 | E53: 90 | F53: =E53+0 -> 90 | AV53: =SUM(BA53+BB53) -> 0 | AW53: =(AV52-AV53) -> 0 | BA53: =SUM(CH53:CP53) -> 0 | BB53: =SUM(CY53:DC53) -> 0 | BF53: =H53 -> 0 | BG53: =I53 -> 0 | BH53: =M53 -> 0 | BI53: =N53 -> 0 | BJ53: =R53 -> 0 | BK53: =S53 -> 0 | BL53: =W53 -> 0 | BM53: =X53 -> 0 | BN53: =AB53 -> 0 | BO53: =AC53 -> 0 | BP53: =AG53 -> 0 | BQ53: =AH53 -> 0 | BR53: =AL53 -> 0 | BS53: =AM53 -> 0 | BT53: =AQ53 -> 0 | BU53: =AR53 -> 0 | BV53: =SUM(BF53:BU53) -> 0 | BX53: =SUM(J53:L53) -> 0 | BY53: =SUM(O53:Q53) -> 0 | BZ53: =SUM(T53:V53) -> 0 | CA53: =SUM(Y53:AA53) -> 0 | CB53: =SUM(AD53:AF53) -> 0 | CC53: =SUM(AI53:AK53) -> 0 | CD53: =SUM(AN53:AP53) -> 0 | CE53: =SUM(AS53:AU53) -> 0 | CF53: =SUM(BX53:CE53) -> 0 | CH53: =LARGE((BF53:BU53),1) -> 0 | CI53: =LARGE((BF53:BU53),2) -> 0 | CJ53: =LARGE((BF53:BU53),3) -> 0 | CK53: =LARGE((BF53:BU53),4) -> 0 | CL53: =LARGE((BF53:BU53),5) -> 0 | CM53: =LARGE((BF53:BU53),6) -> 0 | CN53: =LARGE((BF53:BU53),7) -> 0 | CO53: =LARGE((BF53:BU53),8) -> 0 | CP53: =LARGE((BF53:BU53),9) -> 0 | CQ53: =LARGE((BF53:BU53),10) -> 0 | CR53: =LARGE((BF53:BU53),11) -> 0 | CS53: =LARGE((BF53:BU53),12) -> 0 | CT53: =LARGE((BF53:BU53),13) -> 0 | CU53: =LARGE((BF53:BU53),14) -> 0 | CV53: =LARGE((BF53:BU53),15) -> 0 | CW53: =LARGE((BF53:BU53),16) -> 0 | CY53: =LARGE((BX53:CE53),1) -> 0 | CZ53: =LARGE((BX53:CE53),2) -> 0 | DA53: =LARGE((BX53:CE53),3) -> 0 | DB53: =LARGE((BX53:CE53),4) -> 0 | DC53: =LARGE((BX53:CE53),5) -> 0 | DD53: =LARGE((BX53:CE53),6) -> 0 | DE53: =LARGE((BX53:CE53),7) -> 0 | DF53: =LARGE((BX53:CE53),8) -> 0

Sheet Professionals
A1: The Emirates Group Karting Club Season 10 (2019-2020) | H1: 11-Oct-19 International | M1: 08-Nov-19 Hill | R1: 22-Nov-19 The Drop | W1: 06-Dec-19 Monaco | AB1: 24-Jan-20 International | AG1: 21-Feb-20 Speedway w/Bus Stop | AL1: 31-Aug-20 Hill | AQ1: 27-Sep-20 Reverse Int. | AV1: Championship Points | BA1: Best 9 Race Points | BB1: Best 5 Race Day Bonus Points
H2: Race Points | J2: Bonus Points | M2: Race Points | O2: Bonus Points | R2: Race Points | T2: Bonus Points | W2: Race Points | Y2: Bonus Points | AB2: Race Points | AD2: Bonus Points | AG2: Race Points | AI2: Bonus Points | AL2: Race Points | AN2: Bonus Points | AQ2: Race Points | AS2: Bonus Points | AV2: (Best 9 Race + Best 5 Bonus) | AW2: Points Gap | CH2: RACE POINTS IN DESCENDING ORDER | CY2: BONUS POINTS IN DESCENDING ORDER
A3: Prev. Pos | B3: Cur. Pos | C3: Driver | D3: Nationality | E3: Min. Weight (kgs.) | F3: Success Weight (kgs.) | G3: Member (Y/N) | H3: Race 1 | I3: Race 2 | J3: Q | K3: R1 | L3: R2 | M3: Race 1 | N3: Race 2 | O3: Q | P3: R1 | Q3: R2 | R3: Race 1 | S3: Race 2 | T3: Q | U3: R1 | V3: R2 | W3: Race 1 | X3: Race 2 | Y3: Q | Z3: R1 | AA3: R2 | AB3: Race 1 | AC3: Race 2 | AD3: Q | AE3: R1 | AF3: R2 | AG3: Race 1 | AH3: Race 2 | AI3: Q | AJ3: R1 | AK3: R2 | AL3: Race 1 | AM3: Race 2 | AN3: Q | AO3: R1 | AP3: R2 | AQ3: Race 1 | AR3: Race 2 | AS3: Q | AT3: R1 | AU3: R2 | BF3: R1 | BG3: R2 | BH3: R3 | BI3: R4 | BJ3: R5 | BK3: R6 | BL3: R7 | BM3: R8 | BN3: R9 | BO3: R10 | BP3: R11 | BQ3: R12 | BR3: R13 | BS3: R14 | BT3: R15 | BU3: R16 | BV3: TOTAL RACE POINTS | BX3: RD1 | BY3: RD2 | BZ3: RD3 | CA3: RD4 | CB3: RD5 | CC3: RD6 | CD3: RD7 | CE3: RD8 | CF3: TOTAL BONUS POINTS | CH3: 1 | CI3: 2 | CJ3: 3 | CK3: 4 | CL3: 5 | CM3: 6 | CN3: 7 | CO3: 8 | CP3: 9 | CQ3: 10 | CR3: 11 | CS3: 12 | CT3: 13 | CU3: 14 | CV3: 15 | CW3: 16 | CY3: 1 | CZ3: 2 | DA3: 3 | DB3: 4 | DC3: 5 | DD3: 6 | DE3: 7 | DF3: 8
A4: 1 | B4: 1 | C4: Jiby Kuriakose | E4: 80 | F4: 85 | H4: 75 | I4: 33 | J4: 3 | K4: 3 | M4: 67 | N4: 75 | P4: 3 | Q4: 3 | R4: 67 | S4: 67 | V4: 3 | AB4: 54 | AC4: 75 | AF4: 3 | AQ4: 75 | AR4: 42 | AT4: 3 | AV4: =SUM(BA4+BB4) -> 618 | BA4: =SUM(CH4:CP4) -> 597 | BB4: =SUM(CY4:DC4) -> 21 | BF4: =H4 -> 75 | BG4: =I4 -> 33 | BH4: =M4 -> 67 | BI4: =N4 -> 75 | BJ4: =R4 -> 67 | BK4: =S4 -> 67 | BL4: =W4 -> 0 | BM4: =X4 -> 0 | BN4: =AB4 -> 54 | BO4: =AC4 -> 75 | BP4: =AG4 -> 0 | BQ4: =AH4 -> 0 | BR4: =AL4 -> 0 | BS4: =AM4 -> 0 | BT4: =AQ4 -> 75 | BU4: =AR4 -> 42 | BV4: =SUM(BF4:BU4) -> 630 | BX4: =SUM(J4:L4) -> 6 | BY4: =SUM(O4:Q4) -> 6 | BZ4: =SUM(T4:V4) -> 3 | CA4: =SUM(Y4:AA4) -> 0 | CB4: =SUM(AD4:AF4) -> 3 | CC4: =SUM(AI4:AK4) -> 0 | CD4: =SUM(AN4:AP4) -> 0 | CE4: =SUM(AS4:AU4) -> 3 | CF4: =SUM(BX4:CE4) -> 21 | CH4: =LARGE((BF4:BU4),1) -> 75 | CI4: =LARGE((BF4:BU4),2) -> 75 | CJ4: =LARGE((BF4:BU4),3) -> 75 | CK4: =LARGE((BF4:BU4),4) -> 75 | CL4: =LARGE((BF4:BU4),5) -> 67 | CM4: =LARGE((BF4:BU4),6) -> 67 | CN4: =LARGE((BF4:BU4),7) -> 67 | CO4: =LARGE((BF4:BU4),8) -> 54 | CP4: =LARGE((BF4:BU4),9) -> 42 | CQ4: =LARGE((BF4:BU4),10) -> 33 | CR4: =LARGE((BF4:BU4),11) -> 0 | CS4: =LARGE((BF4:BU4),12) -> 0 | CT4: =LARGE((BF4:BU4),13) -> 0 | CU4: =LARGE((BF4:BU4),14) -> 0 | CV4: =LARGE((BF4:BU4),15) -> 0 | CW4: =LARGE((BF4:BU4),16) -> 0 | CY4: =LARGE((BX4:CE4),1) -> 6 | CZ4: =LARGE((BX4:CE4),2) -> 6 | DA4: =LARGE((BX4:CE4),3) -> 3 | DB4: =LARGE((BX4:CE4),4) -> 3 | DC4: =LARGE((BX4:CE4),5) -> 3 | DD4: =LARGE((BX4:CE4),6) -> 0 | DE4: =LARGE((BX4:CE4),7) -> 0 | DF4: =LARGE((BX4:CE4),8) -> 0
A5: 2 | B5: 2 | C5: Nabil Jamil | E5: 80 | F5: 82.5 | H5: 45 | I5: 42 | M5: 36 | N5: 42 | R5: 60 | S5: 75 | W5: 60 | X5: 60 | AB5: 67 | AC5: 49 | AD5: 3 | AV5: =SUM(BA5+BB5) -> 503 | AW5: =(AV4-AV5) -> 115 | BA5: =SUM(CH5:CP5) -> 500 | BB5: =SUM(CY5:DC5) -> 3 | BF5: =H5 -> 45 | BG5: =I5 -> 42 | BH5: =M5 -> 36 | BI5: =N5 -> 42 | BJ5: =R5 -> 60 | BK5: =S5 -> 75 | BL5: =W5 -> 60 | BM5: =X5 -> 60 | BN5: =AB5 -> 67 | BO5: =AC5 -> 49 | BP5: =AG5 -> 0 | BQ5: =AH5 -> 0 | BR5: =AL5 -> 0 | BS5: =AM5 -> 0 | BT5: =AQ5 -> 0 | BU5: =AR5 -> 0 | BV5: =SUM(BF5:BU5) -> 536 | BX5: =SUM(J5:L5) -> 0 | BY5: =SUM(O5:Q5) -> 0 | BZ5: =SUM(T5:V5) -> 0 | CA5: =SUM(Y5:AA5) -> 0 | CB5: =SUM(AD5:AF5) -> 3 | CC5: =SUM(AI5:AK5) -> 0 | CD5: =SUM(AN5:AP5) -> 0 | CE5: =SUM(AS5:AU5) -> 0 | CF5: =SUM(BX5:CE5) -> 3 | CH5: =LARGE((BF5:BU5),1) -> 75 | CI5: =LARGE((BF5:BU5),2) -> 67 | CJ5: =LARGE((BF5:BU5),3) -> 60 | CK5: =LARGE((BF5:BU5),4) -> 60 | CL5: =LARGE((BF5:BU5),5) -> 60 | CM5: =LARGE((BF5:BU5),6) -> 49 | CN5: =LARGE((BF5:BU5),7) -> 45 | CO5: =LARGE((BF5:BU5),8) -> 42 | CP5: =LARGE((BF5:BU5),9) -> 42 | CQ5: =LARGE((BF5:BU5),10) -> 36 | CR5: =LARGE((BF5:BU5),11) -> 0 | CS5: =LARGE((BF5:BU5),12) -> 0 | CT5: =LARGE((BF5:BU5),13) -> 0 | CU5: =LARGE((BF5:BU5),14) -> 0 | CV5: =LARGE((BF5:BU5),15) -> 0 | CW5: =LARGE((BF5:BU5),16) -> 0 | CY5: =LARGE((BX5:CE5),1) -> 3 | CZ5: =LARGE((BX5:CE5),2) -> 0 | DA5: =LARGE((BX5:CE5),3) -> 0 | DB5: =LARGE((BX5:CE5),4) -> 0 | DC5: =LARGE((BX5:CE5),5) -> 0 | DD5: =LARGE((BX5:CE5),6) -> 0 | DE5: =LARGE((BX5:CE5),7) -> 0 | DF5: =LARGE((BX5:CE5),8) -> 0
A6: 3 | B6: 3 | C6: Aron Demirovski | E6: 80 | F6: =E6+0 -> 80 | H6: 33 | I6: 39 | AB6: 49 | AC6: 67 | AG6: 67 | AH6: 54 | AL6: 45 | AM6: 67 | AQ6: 45 | AR6: 60 | AV6: =SUM(BA6+BB6) -> 493 | AW6: =(AV5-AV6) -> 10 | BA6: =SUM(CH6:CP6) -> 493 | BB6: =SUM(CY6:DC6) -> 0 | BF6: =H6 -> 33 | BG6: =I6 -> 39 | BH6: =M6 -> 0 | BI6: =N6 -> 0 | BJ6: =R6 -> 0 | BK6: =S6 -> 0 | BL6: =W6 -> 0 | BM6: =X6 -> 0 | BN6: =AB6 -> 49 | BO6: =AC6 -> 67 | BP6: =AG6 -> 67 | BQ6: =AH6 -> 54 | BR6: =AL6 -> 45 | BS6: =AM6 -> 67 | BT6: =AQ6 -> 45 | BU6: =AR6 -> 60 | BV6: =SUM(BF6:BU6) -> 526 | BX6: =SUM(J6:L6) -> 0 | BY6: =SUM(O6:Q6) -> 0 | BZ6: =SUM(T6:V6) -> 0 | CA6: =SUM(Y6:AA6) -> 0 | CB6: =SUM(AD6:AF6) -> 0 | CC6: =SUM(AI6:AK6) -> 0 | CD6: =SUM(AN6:AP6) -> 0 | CE6: =SUM(AS6:AU6) -> 0 | CF6: =SUM(BX6:CE6) -> 0 | CH6: =LARGE((BF6:BU6),1) -> 67 | CI6: =LARGE((BF6:BU6),2) -> 67 | CJ6: =LARGE((BF6:BU6),3) -> 67 | CK6: =LARGE((BF6:BU6),4) -> 60 | CL6: =LARGE((BF6:BU6),5) -> 54 | CM6: =LARGE((BF6:BU6),6) -> 49 | CN6: =LARGE((BF6:BU6),7) -> 45 | CO6: =LARGE((BF6:BU6),8) -> 45 | CP6: =LARGE((BF6:BU6),9) -> 39 | CQ6: =LARGE((BF6:BU6),10) -> 33 | CR6: =LARGE((BF6:BU6),11) -> 0 | CS6: =LARGE((BF6:BU6),12) -> 0 | CT6: =LARGE((BF6:BU6),13) -> 0 | CU6: =LARGE((BF6:BU6),14) -> 0 | CV6: =LARGE((BF6:BU6),15) -> 0 | CW6: =LARGE((BF6:BU6),16) -> 0 | CY6: =LARGE((BX6:CE6),1) -> 0 | CZ6: =LARGE((BX6:CE6),2) -> 0 | DA6: =LARGE((BX6:CE6),3) -> 0 | DB6: =LARGE((BX6:CE6),4) -> 0 | DC6: =LARGE((BX6:CE6),5) -> 0 | DD6: =LARGE((BX6:CE6),6) -> 0 | DE6: =LARGE((BX6:CE6),7) -> 0 | DF6: =LARGE((BX6:CE6),8) -> 0
A7: 7 | B7: 4 | C7: Darshane Dayaratne | E7: 80 | F7: =E7+0 -> 80 | H7: 49 | I7: 67 | W7: 67 | X7: 67 | Z7: 3 | AA7: 3 | AL7: 54 | AM7: 49 | AQ7: 67 | AR7: 54 | AS7: 3 | AV7: =SUM(BA7+BB7) -> 483 | AW7: =(AV6-AV7) -> 10 | BA7: =SUM(CH7:CP7) -> 474 | BB7: =SUM(CY7:DC7) -> 9 | BF7: =H7 -> 49 | BG7: =I7 -> 67 | BH7: =M7 -> 0 | BI7: =N7 -> 0 | BJ7: =R7 -> 0 | BK7: =S7 -> 0 | BL7: =W7 -> 67 | BM7: =X7 -> 67 | BN7: =AB7 -> 0 | BO7: =AC7 -> 0 | BP7: =AG7 -> 0 | BQ7: =AH7 -> 0 | BR7: =AL7 -> 54 | BS7: =AM7 -> 49 | BT7: =AQ7 -> 67 | BU7: =AR7 -> 54 | BV7: =SUM(BF7:BU7) -> 474 | BX7: =SUM(J7:L7) -> 0 | BY7: =SUM(O7:Q7) -> 0 | BZ7: =SUM(T7:V7) -> 0 | CA7: =SUM(Y7:AA7) -> 6 | CB7: =SUM(AD7:AF7) -> 0 | CC7: =SUM(AI7:AK7) -> 0 | CD7: =SUM(AN7:AP7) -> 0 | CE7: =SUM(AS7:AU7) -> 3 | CF7: =SUM(BX7:CE7) -> 9 | CH7: =LARGE((BF7:BU7),1) -> 67 | CI7: =LARGE((BF7:BU7),2) -> 67 | CJ7: =LARGE((BF7:BU7),3) -> 67 | CK7: =LARGE((BF7:BU7),4) -> 67 | CL7: =LARGE((BF7:BU7),5) -> 54 | CM7: =LARGE((BF7:BU7),6) -> 54 | CN7: =LARGE((BF7:BU7),7) -> 49 | CO7: =LARGE((BF7:BU7),8) -> 49 | CP7: =LARGE((BF7:BU7),9) -> 0 | CQ7: =LARGE((BF7:BU7),10) -> 0 | CR7: =LARGE((BF7:BU7),11) -> 0 | CS7: =LARGE((BF7:BU7),12) -> 0 | CT7: =LARGE((BF7:BU7),13) -> 0 | CU7: =LARGE((BF7:BU7),14) -> 0 | CV7: =LARGE((BF7:BU7),15) -> 0 | CW7: =LARGE((BF7:BU7),16) -> 0 | CY7: =LARGE((BX7:CE7),1) -> 6 | CZ7: =LARGE((BX7:CE7),2) -> 3 | DA7: =LARGE((BX7:CE7),3) -> 0 | DB7: =LARGE((BX7:CE7),4) -> 0 | DC7: =LARGE((BX7:CE7),5) -> 0 | DD7: =LARGE((BX7:CE7),6) -> 0 | DE7: =LARGE((BX7:CE7),7) -> 0 | DF7: =LARGE((BX7:CE7),8) -> 0
A8: 4 | B8: 5 | C8: Hesham Elwahsh | E8: 80 | F8: 82.5 | H8: 42 | I8: 75 | L8: 3 | R8: 75 | S8: 60 | T8: 3 | U8: 3 | AG8: 60 | AH8: 75 | AI8: 3 | AK8: 3 | AV8: =SUM(BA8+BB8) -> 402 | AW8: =(AV7-AV8) -> 81 | BA8: =SUM(CH8:CP8) -> 387 | BB8: =SUM(CY8:DC8) -> 15 | BF8: =H8 -> 42 | BG8: =I8 -> 75 | BH8: =M8 -> 0 | BI8: =N8 -> 0 | BJ8: =R8 -> 75 | BK8: =S8 -> 60 | BL8: =W8 -> 0 | BM8: =X8 -> 0 | BN8: =AB8 -> 0 | BO8: =AC8 -> 0 | BP8: =AG8 -> 60 | BQ8: =AH8 -> 75 | BR8: =AL8 -> 0 | BS8: =AM8 -> 0 | BT8: =AQ8 -> 0 | BU8: =AR8 -> 0 | BV8: =SUM(BF8:BU8) -> 387 | BX8: =SUM(J8:L8) -> 3 | BY8: =SUM(O8:Q8) -> 0 | BZ8: =SUM(T8:V8) -> 6 | CA8: =SUM(Y8:AA8) -> 0 | CB8: =SUM(AD8:AF8) -> 0 | CC8: =SUM(AI8:AK8) -> 6 | CD8: =SUM(AN8:AP8) -> 0 | CE8: =SUM(AS8:AU8) -> 0 | CF8: =SUM(BX8:CE8) -> 15 | CH8: =LARGE((BF8:BU8),1) -> 75 | CI8: =LARGE((BF8:BU8),2) -> 75 | CJ8: =LARGE((BF8:BU8),3) -> 75 | CK8: =LARGE((BF8:BU8),4) -> 60 | CL8: =LARGE((BF8:BU8),5) -> 60 | CM8: =LARGE((BF8:BU8),6) -> 42 | CN8: =LARGE((BF8:BU8),7) -> 0 | CO8: =LARGE((BF8:BU8),8) -> 0 | CP8: =LARGE((BF8:BU8),9) -> 0 | CQ8: =LARGE((BF8:BU8),10) -> 0 | CR8: =LARGE((BF8:BU8),11) -> 0 | CS8: =LARGE((BF8:BU8),12) -> 0 | CT8: =LARGE((BF8:BU8),13) -> 0 | CU8: =LARGE((BF8:BU8),14) -> 0 | CV8: =LARGE((BF8:BU8),15) -> 0 | CW8: =LARGE((BF8:BU8),16) -> 0 | CY8: =LARGE((BX8:CE8),1) -> 6 | CZ8: =LARGE((BX8:CE8),2) -> 6 | DA8: =LARGE((BX8:CE8),3) -> 3 | DB8: =LARGE((BX8:CE8),4) -> 0 | DC8: =LARGE((BX8:CE8),5) -> 0 | DD8: =LARGE((BX8:CE8),6) -> 0 | DE8: =LARGE((BX8:CE8),7) -> 0 | DF8: =LARGE((BX8:CE8),8) -> 0
A9: 5 | B9: 6 | C9: Gustavo Ramirez | E9: 80 | F9: =E9+0 -> 80 | H9: 60 | I9: 36 | M9: 39 | N9: 45 | AG9: 54 | AH9: 60 | AL9: 42 | AM9: 54 | AV9: =SUM(BA9+BB9) -> 390 | AW9: =(AV8-AV9) -> 12 | BA9: =SUM(CH9:CP9) -> 390 | BB9: =SUM(CY9:DC9) -> 0 | BF9: =H9 -> 60 | BG9: =I9 -> 36 | BH9: =M9 -> 39 | BI9: =N9 -> 45 | BJ9: =R9 -> 0 | BK9: =S9 -> 0 | BL9: =W9 -> 0 | BM9: =X9 -> 0 | BN9: =AB9 -> 0 | BO9: =AC9 -> 0 | BP9: =AG9 -> 54 | BQ9: =AH9 -> 60 | BR9: =AL9 -> 42 | BS9: =AM9 -> 54 | BT9: =AQ9 -> 0 | BU9: =AR9 -> 0 | BV9: =SUM(BF9:BU9) -> 390 | BX9: =SUM(J9:L9) -> 0 | BY9: =SUM(O9:Q9) -> 0 | BZ9: =SUM(T9:V9) -> 0 | CA9: =SUM(Y9:AA9) -> 0 | CB9: =SUM(AD9:AF9) -> 0 | CC9: =SUM(AI9:AK9) -> 0 | CD9: =SUM(AN9:AP9) -> 0 | CE9: =SUM(AS9:AU9) -> 0 | CF9: =SUM(BX9:CE9) -> 0 | CH9: =LARGE((BF9:BU9),1) -> 60 | CI9: =LARGE((BF9:BU9),2) -> 60 | CJ9: =LARGE((BF9:BU9),3) -> 54 | CK9: =LARGE((BF9:BU9),4) -> 54 | CL9: =LARGE((BF9:BU9),5) -> 45 | CM9: =LARGE((BF9:BU9),6) -> 42 | CN9: =LARGE((BF9:BU9),7) -> 39 | CO9: =LARGE((BF9:BU9),8) -> 36 | CP9: =LARGE((BF9:BU9),9) -> 0 | CQ9: =LARGE((BF9:BU9),10) -> 0 | CR9: =LARGE((BF9:BU9),11) -> 0 | CS9: =LARGE((BF9:BU9),12) -> 0 | CT9: =LARGE((BF9:BU9),13) -> 0 | CU9: =LARGE((BF9:BU9),14) -> 0 | CV9: =LARGE((BF9:BU9),15) -> 0 | CW9: =LARGE((BF9:BU9),16) -> 0 | CY9: =LARGE((BX9:CE9),1) -> 0 | CZ9: =LARGE((BX9:CE9),2) -> 0 | DA9: =LARGE((BX9:CE9),3) -> 0 | DB9: =LARGE((BX9:CE9),4) -> 0 | DC9: =LARGE((BX9:CE9),5) -> 0 | DD9: =LARGE((BX9:CE9),6) -> 0 | DE9: =LARGE((BX9:CE9),7) -> 0 | DF9: =LARGE((BX9:CE9),8) -> 0
A10: 6 | B10: 7 | C10: Maxime Seurat | E10: 80 | F10: 80 | M10: 60 | N10: 60 | W10: 75 | X10: 75 | Y10: 3 | AB10: 60 | AC10: 54 | AV10: =SUM(BA10+BB10) -> 387 | AW10: =(AV9-AV10) -> 3 | BA10: =SUM(CH10:CP10) -> 384 | BB10: =SUM(CY10:DC10) -> 3 | BF10: =H10 -> 0 | BG10: =I10 -> 0 | BH10: =M10 -> 60 | BI10: =N10 -> 60 | BJ10: =R10 -> 0 | BK10: =S10 -> 0 | BL10: =W10 -> 75 | BM10: =X10 -> 75 | BN10: =AB10 -> 60 | BO10: =AC10 -> 54 | BP10: =AG10 -> 0 | BQ10: =AH10 -> 0 | BR10: =AL10 -> 0 | BS10: =AM10 -> 0 | BT10: =AQ10 -> 0 | BU10: =AR10 -> 0 | BV10: =SUM(BF10:BU10) -> 384 | BX10: =SUM(J10:L10) -> 0 | BY10: =SUM(O10:Q10) -> 0 | BZ10: =SUM(T10:V10) -> 0 | CA10: =SUM(Y10:AA10) -> 3 | CB10: =SUM(AD10:AF10) -> 0 | CC10: =SUM(AI10:AK10) -> 0 | CD10: =SUM(AN10:AP10) -> 0 | CE10: =SUM(AS10:AU10) -> 0 | CF10: =SUM(BX10:CE10) -> 3 | CH10: =LARGE((BF10:BU10),1) -> 75 | CI10: =LARGE((BF10:BU10),2) -> 75 | CJ10: =LARGE((BF10:BU10),3) -> 60 | CK10: =LARGE((BF10:BU10),4) -> 60 | CL10: =LARGE((BF10:BU10),5) -> 60 | CM10: =LARGE((BF10:BU10),6) -> 54 | CN10: =LARGE((BF10:BU10),7) -> 0 | CO10: =LARGE((BF10:BU10),8) -> 0 | CP10: =LARGE((BF10:BU10),9) -> 0 | CQ10: =LARGE((BF10:BU10),10) -> 0 | CR10: =LARGE((BF10:BU10),11) -> 0 | CS10: =LARGE((BF10:BU10),12) -> 0 | CT10: =LARGE((BF10:BU10),13) -> 0 | CU10: =LARGE((BF10:BU10),14) -> 0 | CV10: =LARGE((BF10:BU10),15) -> 0 | CW10: =LARGE((BF10:BU10),16) -> 0 | CY10: =LARGE((BX10:CE10),1) -> 3 | CZ10: =LARGE((BX10:CE10),2) -> 0 | DA10: =LARGE((BX10:CE10),3) -> 0 | DB10: =LARGE((BX10:CE10),4) -> 0 | DC10: =LARGE((BX10:CE10),5) -> 0 | DD10: =LARGE((BX10:CE10),6) -> 0 | DE10: =LARGE((BX10:CE10),7) -> 0 | DF10: =LARGE((BX10:CE10),8) -> 0
A11: 8 | B11: 8 | C11: Rabih Santina | E11: 80 | F11: =E11+0 -> 80 | H11: 39 | I11: 45 | AG11: 75 | AH11: 67 | AJ11: 3 | AL11: 49 | AM11: 45 | AV11: =SUM(BA11+BB11) -> 323 | AW11: =(AV10-AV11) -> 64 | BA11: =SUM(CH11:CP11) -> 320 | BB11: =SUM(CY11:DC11) -> 3 | BF11: =H11 -> 39 | BG11: =I11 -> 45 | BH11: =M11 -> 0 | BI11: =N11 -> 0 | BJ11: =R11 -> 0 | BK11: =S11 -> 0 | BL11: =W11 -> 0 | BM11: =X11 -> 0 | BN11: =AB11 -> 0 | BO11: =AC11 -> 0 | BP11: =AG11 -> 75 | BQ11: =AH11 -> 67 | BR11: =AL11 -> 49 | BS11: =AM11 -> 45 | BT11: =AQ11 -> 0 | BU11: =AR11 -> 0 | BV11: =SUM(BF11:BU11) -> 320 | BX11: =SUM(J11:L11) -> 0 | BY11: =SUM(O11:Q11) -> 0 | BZ11: =SUM(T11:V11) -> 0 | CA11: =SUM(Y11:AA11) -> 0 | CB11: =SUM(AD11:AF11) -> 0 | CC11: =SUM(AI11:AK11) -> 3 | CD11: =SUM(AN11:AP11) -> 0 | CE11: =SUM(AS11:AU11) -> 0 | CF11: =SUM(BX11:CE11) -> 3 | CH11: =LARGE((BF11:BU11),1) -> 75 | CI11: =LARGE((BF11:BU11),2) -> 67 | CJ11: =LARGE((BF11:BU11),3) -> 49 | CK11: =LARGE((BF11:BU11),4) -> 45 | CL11: =LARGE((BF11:BU11),5) -> 45 | CM11: =LARGE((BF11:BU11),6) -> 39 | CN11: =LARGE((BF11:BU11),7) -> 0 | CO11: =LARGE((BF11:BU11),8) -> 0 | CP11: =LARGE((BF11:BU11),9) -> 0 | CQ11: =LARGE((BF11:BU11),10) -> 0 | CR11: =LARGE((BF11:BU11),11) -> 0 | CS11: =LARGE((BF11:BU11),12) -> 0 | CT11: =LARGE((BF11:BU11),13) -> 0 | CU11: =LARGE((BF11:BU11),14) -> 0 | CV11: =LARGE((BF11:BU11),15) -> 0 | CW11: =LARGE((BF11:BU11),16) -> 0 | CY11: =LARGE((BX11:CE11),1) -> 3 | CZ11: =LARGE((BX11:CE11),2) -> 0 | DA11: =LARGE((BX11:CE11),3) -> 0 | DB11: =LARGE((BX11:CE11),4) -> 0 | DC11: =LARGE((BX11:CE11),5) -> 0 | DD11: =LARGE((BX11:CE11),6) -> 0 | DE11: =LARGE((BX11:CE11),7) -> 0 | DF11: =LARGE((BX11:CE11),8) -> 0
A12: 12 | B12: 9 | C12: Mohd Zubair | E12: 80 | F12: =E12+0 -> 80 | H12: 54 | I12: 30 | M12: 54 | N12: 39 | AQ12: 54 | AR12: 75 | AU12: 3 | AV12: =SUM(BA12+BB12) -> 309 | AW12: =(AV11-AV12) -> 14 | BA12: =SUM(CH12:CP12) -> 306 | BB12: =SUM(CY12:DC12) -> 3 | BF12: =H12 -> 54 | BG12: =I12 -> 30 | BH12: =M12 -> 54 | BI12: =N12 -> 39 | BJ12: =R12 -> 0 | BK12: =S12 -> 0 | BL12: =W12 -> 0 | BM12: =X12 -> 0 | BN12: =AB12 -> 0 | BO12: =AC12 -> 0 | BP12: =AG12 -> 0 | BQ12: =AH12 -> 0 | BR12: =AL12 -> 0 | BS12: =AM12 -> 0 | BT12: =AQ12 -> 54 | BU12: =AR12 -> 75 | BV12: =SUM(BF12:BU12) -> 306 | BX12: =SUM(J12:L12) -> 0 | BY12: =SUM(O12:Q12) -> 0 | BZ12: =SUM(T12:V12) -> 0 | CA12: =SUM(Y12:AA12) -> 0 | CB12: =SUM(AD12:AF12) -> 0 | CC12: =SUM(AI12:AK12) -> 0 | CD12: =SUM(AN12:AP12) -> 0 | CE12: =SUM(AS12:AU12) -> 3 | CF12: =SUM(BX12:CE12) -> 3 | CH12: =LARGE((BF12:BU12),1) -> 75 | CI12: =LARGE((BF12:BU12),2) -> 54 | CJ12: =LARGE((BF12:BU12),3) -> 54 | CK12: =LARGE((BF12:BU12),4) -> 54 | CL12: =LARGE((BF12:BU12),5) -> 39 | CM12: =LARGE((BF12:BU12),6) -> 30 | CN12: =LARGE((BF12:BU12),7) -> 0 | CO12: =LARGE((BF12:BU12),8) -> 0 | CP12: =LARGE((BF12:BU12),9) -> 0 | CQ12: =LARGE((BF12:BU12),10) -> 0 | CR12: =LARGE((BF12:BU12),11) -> 0 | CS12: =LARGE((BF12:BU12),12) -> 0 | CT12: =LARGE((BF12:BU12),13) -> 0 | CU12: =LARGE((BF12:BU12),14) -> 0 | CV12: =LARGE((BF12:BU12),15) -> 0 | CW12: =LARGE((BF12:BU12),16) -> 0 | CY12: =LARGE((BX12:CE12),1) -> 3 | CZ12: =LARGE((BX12:CE12),2) -> 0 | DA12: =LARGE((BX12:CE12),3) -> 0 | DB12: =LARGE((BX12:CE12),4) -> 0 | DC12: =LARGE((BX12:CE12),5) -> 0 | DD12: =LARGE((BX12:CE12),6) -> 0 | DE12: =LARGE((BX12:CE12),7) -> 0 | DF12: =LARGE((BX12:CE12),8) -> 0
A13: 9 | B13: 10 | C13: Allen Khoury | E13: 80 | F13: =E13+0 -> 80 | H13: 67 | I13: 60 | M13: 49 | N13: 49 | AV13: =SUM(BA13+BB13) -> 225 | AW13: =(AV12-AV13) -> 84 | BA13: =SUM(CH13:CP13) -> 225 | BB13: =SUM(CY13:DC13) -> 0 | BF13: =H13 -> 67 | BG13: =I13 -> 60 | BH13: =M13 -> 49 | BI13: =N13 -> 49 | BJ13: =R13 -> 0 | BK13: =S13 -> 0 | BL13: =W13 -> 0 | BM13: =X13 -> 0 | BN13: =AB13 -> 0 | BO13: =AC13 -> 0 | BP13: =AG13 -> 0 | BQ13: =AH13 -> 0 | BR13: =AL13 -> 0 | BS13: =AM13 -> 0 | BT13: =AQ13 -> 0 | BU13: =AR13 -> 0 | BV13: =SUM(BF13:BU13) -> 225 | BX13: =SUM(J13:L13) -> 0 | BY13: =SUM(O13:Q13) -> 0 | BZ13: =SUM(T13:V13) -> 0 | CA13: =SUM(Y13:AA13) -> 0 | CB13: =SUM(AD13:AF13) -> 0 | CC13: =SUM(AI13:AK13) -> 0 | CD13: =SUM(AN13:AP13) -> 0 | CE13: =SUM(AS13:AU13) -> 0 | CF13: =SUM(BX13:CE13) -> 0 | CH13: =LARGE((BF13:BU13),1) -> 67 | CI13: =LARGE((BF13:BU13),2) -> 60 | CJ13: =LARGE((BF13:BU13),3) -> 49 | CK13: =LARGE((BF13:BU13),4) -> 49 | CL13: =LARGE((BF13:BU13),5) -> 0 | CM13: =LARGE((BF13:BU13),6) -> 0 | CN13: =LARGE((BF13:BU13),7) -> 0 | CO13: =LARGE((BF13:BU13),8) -> 0 | CP13: =LARGE((BF13:BU13),9) -> 0 | CQ13: =LARGE((BF13:BU13),10) -> 0 | CR13: =LARGE((BF13:BU13),11) -> 0 | CS13: =LARGE((BF13:BU13),12) -> 0 | CT13: =LARGE((BF13:BU13),13) -> 0 | CU13: =LARGE((BF13:BU13),14) -> 0 | CV13: =LARGE((BF13:BU13),15) -> 0 | CW13: =LARGE((BF13:BU13),16) -> 0 | CY13: =LARGE((BX13:CE13),1) -> 0 | CZ13: =LARGE((BX13:CE13),2) -> 0 | DA13: =LARGE((BX13:CE13),3) -> 0 | DB13: =LARGE((BX13:CE13),4) -> 0 | DC13: =LARGE((BX13:CE13),5) -> 0 | DD13: =LARGE((BX13:CE13),6) -> 0 | DE13: =LARGE((BX13:CE13),7) -> 0 | DF13: =LARGE((BX13:CE13),8) -> 0
A14: 10 | B14: 11 | C14: Hugo de Frutos Maeso | E14: 80 | F14: =E14+0 -> 80 | M14: 45 | N14: 36 | AB14: 75 | AC14: 60 | AE14: 3 | AV14: =SUM(BA14+BB14) -> 219 | AW14: =(AV13-AV14) -> 6 | BA14: =SUM(CH14:CP14) -> 216 | BB14: =SUM(CY14:DC14) -> 3 | BF14: =H14 -> 0 | BG14: =I14 -> 0 | BH14: =M14 -> 45 | BI14: =N14 -> 36 | BJ14: =R14 -> 0 | BK14: =S14 -> 0 | BL14: =W14 -> 0 | BM14: =X14 -> 0 | BN14: =AB14 -> 75 | BO14: =AC14 -> 60 | BP14: =AG14 -> 0 | BQ14: =AH14 -> 0 | BR14: =AL14 -> 0 | BS14: =AM14 -> 0 | BT14: =AQ14 -> 0 | BU14: =AR14 -> 0 | BV14: =SUM(BF14:BU14) -> 216 | BX14: =SUM(J14:L14) -> 0 | BY14: =SUM(O14:Q14) -> 0 | BZ14: =SUM(T14:V14) -> 0 | CA14: =SUM(Y14:AA14) -> 0 | CB14: =SUM(AD14:AF14) -> 3 | CC14: =SUM(AI14:AK14) -> 0 | CD14: =SUM(AN14:AP14) -> 0 | CE14: =SUM(AS14:AU14) -> 0 | CF14: =SUM(BX14:CE14) -> 3 | CH14: =LARGE((BF14:BU14),1) -> 75 | CI14: =LARGE((BF14:BU14),2) -> 60 | CJ14: =LARGE((BF14:BU14),3) -> 45 | CK14: =LARGE((BF14:BU14),4) -> 36 | CL14: =LARGE((BF14:BU14),5) -> 0 | CM14: =LARGE((BF14:BU14),6) -> 0 | CN14: =LARGE((BF14:BU14),7) -> 0 | CO14: =LARGE((BF14:BU14),8) -> 0 | CP14: =LARGE((BF14:BU14),9) -> 0 | CQ14: =LARGE((BF14:BU14),10) -> 0 | CR14: =LARGE((BF14:BU14),11) -> 0 | CS14: =LARGE((BF14:BU14),12) -> 0 | CT14: =LARGE((BF14:BU14),13) -> 0 | CU14: =LARGE((BF14:BU14),14) -> 0 | CV14: =LARGE((BF14:BU14),15) -> 0 | CW14: =LARGE((BF14:BU14),16) -> 0 | CY14: =LARGE((BX14:CE14),1) -> 3 | CZ14: =LARGE((BX14:CE14),2) -> 0 | DA14: =LARGE((BX14:CE14),3) -> 0 | DB14: =LARGE((BX14:CE14),4) -> 0 | DC14: =LARGE((BX14:CE14),5) -> 0 | DD14: =LARGE((BX14:CE14),6) -> 0 | DE14: =LARGE((BX14:CE14),7) -> 0 | DF14: =LARGE((BX14:CE14),8) -> 0
A15: 17 | B15: 12 | C15: Sai Nair | E15: 80 | F15: =E15+0 -> 80 | H15: 30 | I15: 49 | AQ15: 60 | AR15: 67 | AV15: =SUM(BA15+BB15) -> 206 | AW15: =(AV14-AV15) -> 13 | BA15: =SUM(CH15:CP15) -> 206 | BB15: =SUM(CY15:DC15) -> 0 | BF15: =H15 -> 30 | BG15: =I15 -> 49 | BH15: =M15 -> 0 | BI15: =N15 -> 0 | BJ15: =R15 -> 0 | BK15: =S15 -> 0 | BL15: =W15 -> 0 | BM15: =X15 -> 0 | BN15: =AB15 -> 0 | BO15: =AC15 -> 0 | BP15: =AG15 -> 0 | BQ15: =AH15 -> 0 | BR15: =AL15 -> 0 | BS15: =AM15 -> 0 | BT15: =AQ15 -> 60 | BU15: =AR15 -> 67 | BV15: =SUM(BF15:BU15) -> 206 | BX15: =SUM(J15:L15) -> 0 | BY15: =SUM(O15:Q15) -> 0 | BZ15: =SUM(T15:V15) -> 0 | CA15: =SUM(Y15:AA15) -> 0 | CB15: =SUM(AD15:AF15) -> 0 | CC15: =SUM(AI15:AK15) -> 0 | CD15: =SUM(AN15:AP15) -> 0 | CE15: =SUM(AS15:AU15) -> 0 | CF15: =SUM(BX15:CE15) -> 0 | CH15: =LARGE((BF15:BU15),1) -> 67 | CI15: =LARGE((BF15:BU15),2) -> 60 | CJ15: =LARGE((BF15:BU15),3) -> 49 | CK15: =LARGE((BF15:BU15),4) -> 30 | CL15: =LARGE((BF15:BU15),5) -> 0 | CM15: =LARGE((BF15:BU15),6) -> 0 | CN15: =LARGE((BF15:BU15),7) -> 0 | CO15: =LARGE((BF15:BU15),8) -> 0 | CP15: =LARGE((BF15:BU15),9) -> 0 | CQ15: =LARGE((BF15:BU15),10) -> 0 | CR15: =LARGE((BF15:BU15),11) -> 0 | CS15: =LARGE((BF15:BU15),12) -> 0 | CT15: =LARGE((BF15:BU15),13) -> 0 | CU15: =LARGE((BF15:BU15),14) -> 0 | CV15: =LARGE((BF15:BU15),15) -> 0 | CW15: =LARGE((BF15:BU15),16) -> 0 | CY15: =LARGE((BX15:CE15),1) -> 0 | CZ15: =LARGE((BX15:CE15),2) -> 0 | DA15: =LARGE((BX15:CE15),3) -> 0 | DB15: =LARGE((BX15:CE15),4) -> 0 | DC15: =LARGE((BX15:CE15),5) -> 0 | DD15: =LARGE((BX15:CE15),6) -> 0 | DE15: =LARGE((BX15:CE15),7) -> 0 | DF15: =LARGE((BX15:CE15),8) -> 0
A16: 11 | B16: 13 | C16: Ashar Tareen | E16: 80 | F16: =E16+0 -> 80 | H16: 36 | I16: 54 | M16: 42 | N16: 67 | AV16: =SUM(BA16+BB16) -> 199 | AW16: =(AV15-AV16) -> 7 | BA16: =SUM(CH16:CP16) -> 199 | BB16: =SUM(CY16:DC16) -> 0 | BF16: =H16 -> 36 | BG16: =I16 -> 54 | BH16: =M16 -> 42 | BI16: =N16 -> 67 | BJ16: =R16 -> 0 | BK16: =S16 -> 0 | BL16: =W16 -> 0 | BM16: =X16 -> 0 | BN16: =AB16 -> 0 | BO16: =AC16 -> 0 | BP16: =AG16 -> 0 | BQ16: =AH16 -> 0 | BR16: =AL16 -> 0 | BS16: =AM16 -> 0 | BT16: =AQ16 -> 0 | BU16: =AR16 -> 0 | BV16: =SUM(BF16:BU16) -> 199 | BX16: =SUM(J16:L16) -> 0 | BY16: =SUM(O16:Q16) -> 0 | BZ16: =SUM(T16:V16) -> 0 | CA16: =SUM(Y16:AA16) -> 0 | CB16: =SUM(AD16:AF16) -> 0 | CC16: =SUM(AI16:AK16) -> 0 | CD16: =SUM(AN16:AP16) -> 0 | CE16: =SUM(AS16:AU16) -> 0 | CF16: =SUM(BX16:CE16) -> 0 | CH16: =LARGE((BF16:BU16),1) -> 67 | CI16: =LARGE((BF16:BU16),2) -> 54 | CJ16: =LARGE((BF16:BU16),3) -> 42 | CK16: =LARGE((BF16:BU16),4) -> 36 | CL16: =LARGE((BF16:BU16),5) -> 0 | CM16: =LARGE((BF16:BU16),6) -> 0 | CN16: =LARGE((BF16:BU16),7) -> 0 | CO16: =LARGE((BF16:BU16),8) -> 0 | CP16: =LARGE((BF16:BU16),9) -> 0 | CQ16: =LARGE((BF16:BU16),10) -> 0 | CR16: =LARGE((BF16:BU16),11) -> 0 | CS16: =LARGE((BF16:BU16),12) -> 0 | CT16: =LARGE((BF16:BU16),13) -> 0 | CU16: =LARGE((BF16:BU16),14) -> 0 | CV16: =LARGE((BF16:BU16),15) -> 0 | CW16: =LARGE((BF16:BU16),16) -> 0 | CY16: =LARGE((BX16:CE16),1) -> 0 | CZ16: =LARGE((BX16:CE16),2) -> 0 | DA16: =LARGE((BX16:CE16),3) -> 0 | DB16: =LARGE((BX16:CE16),4) -> 0 | DC16: =LARGE((BX16:CE16),5) -> 0 | DD16: =LARGE((BX16:CE16),6) -> 0 | DE16: =LARGE((BX16:CE16),7) -> 0 | DF16: =LARGE((BX16:CE16),8) -> 0
A17: 13 | B17: 14 | C17: Sunny Mohd Hafiz | E17: 80 | F17: =E17+0 -> 80 | AL17: 60 | AM17: 75 | AN17: 3 | AP17: 3 | AV17: =SUM(BA17+BB17) -> 141 | AW17: =(AV16-AV17) -> 58 | BA17: =SUM(CH17:CP17) -> 135 | BB17: =SUM(CY17:DC17) -> 6 | BF17: =H17 -> 0 | BG17: =I17 -> 0 | BH17: =M17 -> 0 | BI17: =N17 -> 0 | BJ17: =R17 -> 0 | BK17: =S17 -> 0 | BL17: =W17 -> 0 | BM17: =X17 -> 0 | BN17: =AB17 -> 0 | BO17: =AC17 -> 0 | BP17: =AG17 -> 0 | BQ17: =AH17 -> 0 | BR17: =AL17 -> 60 | BS17: =AM17 -> 75 | BT17: =AQ17 -> 0 | BU17: =AR17 -> 0 | BV17: =SUM(BF17:BU17) -> 135 | BX17: =SUM(J17:L17) -> 0 | BY17: =SUM(O17:Q17) -> 0 | BZ17: =SUM(T17:V17) -> 0 | CA17: =SUM(Y17:AA17) -> 0 | CB17: =SUM(AD17:AF17) -> 0 | CC17: =SUM(AI17:AK17) -> 0 | CD17: =SUM(AN17:AP17) -> 6 | CE17: =SUM(AS17:AU17) -> 0 | CF17: =SUM(BX17:CE17) -> 6 | CH17: =LARGE((BF17:BU17),1) -> 75 | CI17: =LARGE((BF17:BU17),2) -> 60 | CJ17: =LARGE((BF17:BU17),3) -> 0 | CK17: =LARGE((BF17:BU17),4) -> 0 | CL17: =LARGE((BF17:BU17),5) -> 0 | CM17: =LARGE((BF17:BU17),6) -> 0 | CN17: =LARGE((BF17:BU17),7) -> 0 | CO17: =LARGE((BF17:BU17),8) -> 0 | CP17: =LARGE((BF17:BU17),9) -> 0 | CQ17: =LARGE((BF17:BU17),10) -> 0 | CR17: =LARGE((BF17:BU17),11) -> 0 | CS17: =LARGE((BF17:BU17),12) -> 0 | CT17: =LARGE((BF17:BU17),13) -> 0 | CU17: =LARGE((BF17:BU17),14) -> 0 | CV17: =LARGE((BF17:BU17),15) -> 0 | CW17: =LARGE((BF17:BU17),16) -> 0 | CY17: =LARGE((BX17:CE17),1) -> 6 | CZ17: =LARGE((BX17:CE17),2) -> 0 | DA17: =LARGE((BX17:CE17),3) -> 0 | DB17: =LARGE((BX17:CE17),4) -> 0 | DC17: =LARGE((BX17:CE17),5) -> 0 | DD17: =LARGE((BX17:CE17),6) -> 0 | DE17: =LARGE((BX17:CE17),7) -> 0 | DF17: =LARGE((BX17:CE17),8) -> 0
A18: 14 | B18: 15 | C18: Arjun Manjunath | E18: 80 | F18: =E18+0 -> 80 | M18: 75 | N18: 54 | O18: 3 | AV18: =SUM(BA18+BB18) -> 132 | AW18: =(AV17-AV18) -> 9 | BA18: =SUM(CH18:CP18) -> 129 | BB18: =SUM(CY18:DC18) -> 3 | BF18: =H18 -> 0 | BG18: =I18 -> 0 | BH18: =M18 -> 75 | BI18: =N18 -> 54 | BJ18: =R18 -> 0 | BK18: =S18 -> 0 | BL18: =W18 -> 0 | BM18: =X18 -> 0 | BN18: =AB18 -> 0 | BO18: =AC18 -> 0 | BP18: =AG18 -> 0 | BQ18: =AH18 -> 0 | BR18: =AL18 -> 0 | BS18: =AM18 -> 0 | BT18: =AQ18 -> 0 | BU18: =AR18 -> 0 | BV18: =SUM(BF18:BU18) -> 129 | BX18: =SUM(J18:L18) -> 0 | BY18: =SUM(O18:Q18) -> 3 | BZ18: =SUM(T18:V18) -> 0 | CA18: =SUM(Y18:AA18) -> 0 | CB18: =SUM(AD18:AF18) -> 0 | CC18: =SUM(AI18:AK18) -> 0 | CD18: =SUM(AN18:AP18) -> 0 | CE18: =SUM(AS18:AU18) -> 0 | CF18: =SUM(BX18:CE18) -> 3 | CH18: =LARGE((BF18:BU18),1) -> 75 | CI18: =LARGE((BF18:BU18),2) -> 54 | CJ18: =LARGE((BF18:BU18),3) -> 0 | CK18: =LARGE((BF18:BU18),4) -> 0 | CL18: =LARGE((BF18:BU18),5) -> 0 | CM18: =LARGE((BF18:BU18),6) -> 0 | CN18: =LARGE((BF18:BU18),7) -> 0 | CO18: =LARGE((BF18:BU18),8) -> 0 | CP18: =LARGE((BF18:BU18),9) -> 0 | CQ18: =LARGE((BF18:BU18),10) -> 0 | CR18: =LARGE((BF18:BU18),11) -> 0 | CS18: =LARGE((BF18:BU18),12) -> 0 | CT18: =LARGE((BF18:BU18),13) -> 0 | CU18: =LARGE((BF18:BU18),14) -> 0 | CV18: =LARGE((BF18:BU18),15) -> 0 | CW18: =LARGE((BF18:BU18),16) -> 0 | CY18: =LARGE((BX18:CE18),1) -> 3 | CZ18: =LARGE((BX18:CE18),2) -> 0 | DA18: =LARGE((BX18:CE18),3) -> 0 | DB18: =LARGE((BX18:CE18),4) -> 0 | DC18: =LARGE((BX18:CE18),5) -> 0 | DD18: =LARGE((BX18:CE18),6) -> 0 | DE18: =LARGE((BX18:CE18),7) -> 0 | DF18: =LARGE((BX18:CE18),8) -> 0
A19: 15 | B19: 16 | C19: Humaidano | E19: 80 | F19: =E19+0 -> 80 | AL19: 67 | AM19: 60 | AV19: =SUM(BA19+BB19) -> 127 | AW19: =(AV18-AV19) -> 5 | BA19: =SUM(CH19:CP19) -> 127 | BB19: =SUM(CY19:DC19) -> 0 | BF19: =H19 -> 0 | BG19: =I19 -> 0 | BH19: =M19 -> 0 | BI19: =N19 -> 0 | BJ19: =R19 -> 0 | BK19: =S19 -> 0 | BL19: =W19 -> 0 | BM19: =X19 -> 0 | BN19: =AB19 -> 0 | BO19: =AC19 -> 0 | BP19: =AG19 -> 0 | BQ19: =AH19 -> 0 | BR19: =AL19 -> 67 | BS19: =AM19 -> 60 | BT19: =AQ19 -> 0 | BU19: =AR19 -> 0 | BV19: =SUM(BF19:BU19) -> 127 | BX19: =SUM(J19:L19) -> 0 | BY19: =SUM(O19:Q19) -> 0 | BZ19: =SUM(T19:V19) -> 0 | CA19: =SUM(Y19:AA19) -> 0 | CB19: =SUM(AD19:AF19) -> 0 | CC19: =SUM(AI19:AK19) -> 0 | CD19: =SUM(AN19:AP19) -> 0 | CE19: =SUM(AS19:AU19) -> 0 | CF19: =SUM(BX19:CE19) -> 0 | CH19: =LARGE((BF19:BU19),1) -> 67 | CI19: =LARGE((BF19:BU19),2) -> 60 | CJ19: =LARGE((BF19:BU19),3) -> 0 | CK19: =LARGE((BF19:BU19),4) -> 0 | CL19: =LARGE((BF19:BU19),5) -> 0 | CM19: =LARGE((BF19:BU19),6) -> 0 | CN19: =LARGE((BF19:BU19),7) -> 0 | CO19: =LARGE((BF19:BU19),8) -> 0 | CP19: =LARGE((BF19:BU19),9) -> 0 | CQ19: =LARGE((BF19:BU19),10) -> 0 | CR19: =LARGE((BF19:BU19),11) -> 0 | CS19: =LARGE((BF19:BU19),12) -> 0 | CT19: =LARGE((BF19:BU19),13) -> 0 | CU19: =LARGE((BF19:BU19),14) -> 0 | CV19: =LARGE((BF19:BU19),15) -> 0 | CW19: =LARGE((BF19:BU19),16) -> 0 | CY19: =LARGE((BX19:CE19),1) -> 0 | CZ19: =LARGE((BX19:CE19),2) -> 0 | DA19: =LARGE((BX19:CE19),3) -> 0 | DB19: =LARGE((BX19:CE19),4) -> 0 | DC19: =LARGE((BX19:CE19),5) -> 0 | DD19: =LARGE((BX19:CE19),6) -> 0 | DE19: =LARGE((BX19:CE19),7) -> 0 | DF19: =LARGE((BX19:CE19),8) -> 0
A20: 16 | B20: 17 | C20: Ahmed Al Hammadi | E20: 80 | F20: =E20+0 -> 80 | AL20: 75 | AM20: 42 | AO20: 3 | AV20: =SUM(BA20+BB20) -> 120 | AW20: =(AV19-AV20) -> 7 | BA20: =SUM(CH20:CP20) -> 117 | BB20: =SUM(CY20:DC20) -> 3 | BF20: =H20 -> 0 | BG20: =I20 -> 0 | BH20: =M20 -> 0 | BI20: =N20 -> 0 | BJ20: =R20 -> 0 | BK20: =S20 -> 0 | BL20: =W20 -> 0 | BM20: =X20 -> 0 | BN20: =AB20 -> 0 | BO20: =AC20 -> 0 | BP20: =AG20 -> 0 | BQ20: =AH20 -> 0 | BR20: =AL20 -> 75 | BS20: =AM20 -> 42 | BT20: =AQ20 -> 0 | BU20: =AR20 -> 0 | BV20: =SUM(BF20:BU20) -> 117 | BX20: =SUM(J20:L20) -> 0 | BY20: =SUM(O20:Q20) -> 0 | BZ20: =SUM(T20:V20) -> 0 | CA20: =SUM(Y20:AA20) -> 0 | CB20: =SUM(AD20:AF20) -> 0 | CC20: =SUM(AI20:AK20) -> 0 | CD20: =SUM(AN20:AP20) -> 3 | CE20: =SUM(AS20:AU20) -> 0 | CF20: =SUM(BX20:CE20) -> 3 | CH20: =LARGE((BF20:BU20),1) -> 75 | CI20: =LARGE((BF20:BU20),2) -> 42 | CJ20: =LARGE((BF20:BU20),3) -> 0 | CK20: =LARGE((BF20:BU20),4) -> 0 | CL20: =LARGE((BF20:BU20),5) -> 0 | CM20: =LARGE((BF20:BU20),6) -> 0 | CN20: =LARGE((BF20:BU20),7) -> 0 | CO20: =LARGE((BF20:BU20),8) -> 0 | CP20: =LARGE((BF20:BU20),9) -> 0 | CQ20: =LARGE((BF20:BU20),10) -> 0 | CR20: =LARGE((BF20:BU20),11) -> 0 | CS20: =LARGE((BF20:BU20),12) -> 0 | CT20: =LARGE((BF20:BU20),13) -> 0 | CU20: =LARGE((BF20:BU20),14) -> 0 | CV20: =LARGE((BF20:BU20),15) -> 0 | CW20: =LARGE((BF20:BU20),16) -> 0 | CY20: =LARGE((BX20:CE20),1) -> 3 | CZ20: =LARGE((BX20:CE20),2) -> 0 | DA20: =LARGE((BX20:CE20),3) -> 0 | DB20: =LARGE((BX20:CE20),4) -> 0 | DC20: =LARGE((BX20:CE20),5) -> 0 | DD20: =LARGE((BX20:CE20),6) -> 0 | DE20: =LARGE((BX20:CE20),7) -> 0 | DF20: =LARGE((BX20:CE20),8) -> 0
B21: 18 | C21: Luca Demirovski | E21: 80 | F21: =E21+0 -> 80 | AQ21: 49 | AR21: 49 | AV21: =SUM(BA21+BB21) -> 98 | AW21: =(AV20-AV21) -> 22 | BA21: =SUM(CH21:CP21) -> 98 | BB21: =SUM(CY21:DC21) -> 0 | BF21: =H21 -> 0 | BG21: =I21 -> 0 | BH21: =M21 -> 0 | BI21: =N21 -> 0 | BJ21: =R21 -> 0 | BK21: =S21 -> 0 | BL21: =W21 -> 0 | BM21: =X21 -> 0 | BN21: =AB21 -> 0 | BO21: =AC21 -> 0 | BP21: =AG21 -> 0 | BQ21: =AH21 -> 0 | BR21: =AL21 -> 0 | BS21: =AM21 -> 0 | BT21: =AQ21 -> 49 | BU21: =AR21 -> 49 | BV21: =SUM(BF21:BU21) -> 98 | BX21: =SUM(J21:L21) -> 0 | BY21: =SUM(O21:Q21) -> 0 | BZ21: =SUM(T21:V21) -> 0 | CA21: =SUM(Y21:AA21) -> 0 | CB21: =SUM(AD21:AF21) -> 0 | CC21: =SUM(AI21:AK21) -> 0 | CD21: =SUM(AN21:AP21) -> 0 | CE21: =SUM(AS21:AU21) -> 0 | CF21: =SUM(BX21:CE21) -> 0 | CH21: =LARGE((BF21:BU21),1) -> 49 | CI21: =LARGE((BF21:BU21),2) -> 49 | CJ21: =LARGE((BF21:BU21),3) -> 0 | CK21: =LARGE((BF21:BU21),4) -> 0 | CL21: =LARGE((BF21:BU21),5) -> 0 | CM21: =LARGE((BF21:BU21),6) -> 0 | CN21: =LARGE((BF21:BU21),7) -> 0 | CO21: =LARGE((BF21:BU21),8) -> 0 | CP21: =LARGE((BF21:BU21),9) -> 0 | CQ21: =LARGE((BF21:BU21),10) -> 0 | CR21: =LARGE((BF21:BU21),11) -> 0 | CS21: =LARGE((BF21:BU21),12) -> 0 | CT21: =LARGE((BF21:BU21),13) -> 0 | CU21: =LARGE((BF21:BU21),14) -> 0 | CV21: =LARGE((BF21:BU21),15) -> 0 | CW21: =LARGE((BF21:BU21),16) -> 0 | CY21: =LARGE((BX21:CE21),1) -> 0 | CZ21: =LARGE((BX21:CE21),2) -> 0 | DA21: =LARGE((BX21:CE21),3) -> 0 | DB21: =LARGE((BX21:CE21),4) -> 0 | DC21: =LARGE((BX21:CE21),5) -> 0 | DD21: =LARGE((BX21:CE21),6) -> 0 | DE21: =LARGE((BX21:CE21),7) -> 0 | DF21: =LARGE((BX21:CE21),8) -> 0
B22: 19 | C22: Asim Ashraf | E22: 80 | F22: =E22+0 -> 80 | AQ22: 42 | AR22: 45 | AV22: =SUM(BA22+BB22) -> 87 | AW22: =(AV21-AV22) -> 11 | BA22: =SUM(CH22:CP22) -> 87 | BB22: =SUM(CY22:DC22) -> 0 | BF22: =H22 -> 0 | BG22: =I22 -> 0 | BH22: =M22 -> 0 | BI22: =N22 -> 0 | BJ22: =R22 -> 0 | BK22: =S22 -> 0 | BL22: =W22 -> 0 | BM22: =X22 -> 0 | BN22: =AB22 -> 0 | BO22: =AC22 -> 0 | BP22: =AG22 -> 0 | BQ22: =AH22 -> 0 | BR22: =AL22 -> 0 | BS22: =AM22 -> 0 | BT22: =AQ22 -> 42 | BU22: =AR22 -> 45 | BV22: =SUM(BF22:BU22) -> 87 | BX22: =SUM(J22:L22) -> 0 | BY22: =SUM(O22:Q22) -> 0 | BZ22: =SUM(T22:V22) -> 0 | CA22: =SUM(Y22:AA22) -> 0 | CB22: =SUM(AD22:AF22) -> 0 | CC22: =SUM(AI22:AK22) -> 0 | CD22: =SUM(AN22:AP22) -> 0 | CE22: =SUM(AS22:AU22) -> 0 | CF22: =SUM(BX22:CE22) -> 0 | CH22: =LARGE((BF22:BU22),1) -> 45 | CI22: =LARGE((BF22:BU22),2) -> 42 | CJ22: =LARGE((BF22:BU22),3) -> 0 | CK22: =LARGE((BF22:BU22),4) -> 0 | CL22: =LARGE((BF22:BU22),5) -> 0 | CM22: =LARGE((BF22:BU22),6) -> 0 | CN22: =LARGE((BF22:BU22),7) -> 0 | CO22: =LARGE((BF22:BU22),8) -> 0 | CP22: =LARGE((BF22:BU22),9) -> 0 | CQ22: =LARGE((BF22:BU22),10) -> 0 | CR22: =LARGE((BF22:BU22),11) -> 0 | CS22: =LARGE((BF22:BU22),12) -> 0 | CT22: =LARGE((BF22:BU22),13) -> 0 | CU22: =LARGE((BF22:BU22),14) -> 0 | CV22: =LARGE((BF22:BU22),15) -> 0 | CW22: =LARGE((BF22:BU22),16) -> 0 | CY22: =LARGE((BX22:CE22),1) -> 0 | CZ22: =LARGE((BX22:CE22),2) -> 0 | DA22: =LARGE((BX22:CE22),3) -> 0 | DB22: =LARGE((BX22:CE22),4) -> 0 | DC22: =LARGE((BX22:CE22),5) -> 0 | DD22: =LARGE((BX22:CE22),6) -> 0 | DE22: =LARGE((BX22:CE22),7) -> 0 | DF22: =LARGE((BX22:CE22),8) -> 0
E23: 80 | F23: =E23+0 -> 80 | AV23: =SUM(BA23+BB23) -> 0 | AW23: =(AV22-AV23) -> 87 | BA23: =SUM(CH23:CP23) -> 0 | BB23: =SUM(CY23:DC23) -> 0 | BF23: =H23 -> 0 | BG23: =I23 -> 0 | BH23: =M23 -> 0 | BI23: =N23 -> 0 | BJ23: =R23 -> 0 | BK23: =S23 -> 0 | BL23: =W23 -> 0 | BM23: =X23 -> 0 | BN23: =AB23 -> 0 | BO23: =AC23 -> 0 | BP23: =AG23 -> 0 | BQ23: =AH23 -> 0 | BR23: =AL23 -> 0 | BS23: =AM23 -> 0 | BT23: =AQ23 -> 0 | BU23: =AR23 -> 0 | BV23: =SUM(BF23:BU23) -> 0 | BX23: =SUM(J23:L23) -> 0 | BY23: =SUM(O23:Q23) -> 0 | BZ23: =SUM(T23:V23) -> 0 | CA23: =SUM(Y23:AA23) -> 0 | CB23: =SUM(AD23:AF23) -> 0 | CC23: =SUM(AI23:AK23) -> 0 | CD23: =SUM(AN23:AP23) -> 0 | CE23: =SUM(AS23:AU23) -> 0 | CF23: =SUM(BX23:CE23) -> 0 | CH23: =LARGE((BF23:BU23),1) -> 0 | CI23: =LARGE((BF23:BU23),2) -> 0 | CJ23: =LARGE((BF23:BU23),3) -> 0 | CK23: =LARGE((BF23:BU23),4) -> 0 | CL23: =LARGE((BF23:BU23),5) -> 0 | CM23: =LARGE((BF23:BU23),6) -> 0 | CN23: =LARGE((BF23:BU23),7) -> 0 | CO23: =LARGE((BF23:BU23),8) -> 0 | CP23: =LARGE((BF23:BU23),9) -> 0 | CQ23: =LARGE((BF23:BU23),10) -> 0 | CR23: =LARGE((BF23:BU23),11) -> 0 | CS23: =LARGE((BF23:BU23),12) -> 0 | CT23: =LARGE((BF23:BU23),13) -> 0 | CU23: =LARGE((BF23:BU23),14) -> 0 | CV23: =LARGE((BF23:BU23),15) -> 0 | CW23: =LARGE((BF23:BU23),16) -> 0 | CY23: =LARGE((BX23:CE23),1) -> 0 | CZ23: =LARGE((BX23:CE23),2) -> 0 | DA23: =LARGE((BX23:CE23),3) -> 0 | DB23: =LARGE((BX23:CE23),4) -> 0 | DC23: =LARGE((BX23:CE23),5) -> 0 | DD23: =LARGE((BX23:CE23),6) -> 0 | DE23: =LARGE((BX23:CE23),7) -> 0 | DF23: =LARGE((BX23:CE23),8) -> 0
B24: 21 | E24: 80 | F24: =E24+0 -> 80 | AV24: =SUM(BA24+BB24) -> 0 | AW24: =(AV23-AV24) -> 0 | BA24: =SUM(CH24:CP24) -> 0 | BB24: =SUM(CY24:DC24) -> 0 | BF24: =H24 -> 0 | BG24: =I24 -> 0 | BH24: =M24 -> 0 | BI24: =N24 -> 0 | BJ24: =R24 -> 0 | BK24: =S24 -> 0 | BL24: =W24 -> 0 | BM24: =X24 -> 0 | BN24: =AB24 -> 0 | BO24: =AC24 -> 0 | BP24: =AG24 -> 0 | BQ24: =AH24 -> 0 | BR24: =AL24 -> 0 | BS24: =AM24 -> 0 | BT24: =AQ24 -> 0 | BU24: =AR24 -> 0 | BV24: =SUM(BF24:BU24) -> 0 | BX24: =SUM(J24:L24) -> 0 | BY24: =SUM(O24:Q24) -> 0 | BZ24: =SUM(T24:V24) -> 0 | CA24: =SUM(Y24:AA24) -> 0 | CB24: =SUM(AD24:AF24) -> 0 | CC24: =SUM(AI24:AK24) -> 0 | CD24: =SUM(AN24:AP24) -> 0 | CE24: =SUM(AS24:AU24) -> 0 | CF24: =SUM(BX24:CE24) -> 0 | CH24: =LARGE((BF24:BU24),1) -> 0 | CI24: =LARGE((BF24:BU24),2) -> 0 | CJ24: =LARGE((BF24:BU24),3) -> 0 | CK24: =LARGE((BF24:BU24),4) -> 0 | CL24: =LARGE((BF24:BU24),5) -> 0 | CM24: =LARGE((BF24:BU24),6) -> 0 | CN24: =LARGE((BF24:BU24),7) -> 0 | CO24: =LARGE((BF24:BU24),8) -> 0 | CP24: =LARGE((BF24:BU24),9) -> 0 | CQ24: =LARGE((BF24:BU24),10) -> 0 | CR24: =LARGE((BF24:BU24),11) -> 0 | CS24: =LARGE((BF24:BU24),12) -> 0 | CT24: =LARGE((BF24:BU24),13) -> 0 | CU24: =LARGE((BF24:BU24),14) -> 0 | CV24: =LARGE((BF24:BU24),15) -> 0 | CW24: =LARGE((BF24:BU24),16) -> 0 | CY24: =LARGE((BX24:CE24),1) -> 0 | CZ24: =LARGE((BX24:CE24),2) -> 0 | DA24: =LARGE((BX24:CE24),3) -> 0 | DB24: =LARGE((BX24:CE24),4) -> 0 | DC24: =LARGE((BX24:CE24),5) -> 0 | DD24: =LARGE((BX24:CE24),6) -> 0 | DE24: =LARGE((BX24:CE24),7) -> 0 | DF24: =LARGE((BX24:CE24),8) -> 0
B25: 22 | E25: 80 | F25: =E25+0 -> 80 | AV25: =SUM(BA25+BB25) -> 0 | AW25: =(AV24-AV25) -> 0 | BA25: =SUM(CH25:CP25) -> 0 | BB25: =SUM(CY25:DC25) -> 0 | BF25: =H25 -> 0 | BG25: =I25 -> 0 | BH25: =M25 -> 0 | BI25: =N25 -> 0 | BJ25: =R25 -> 0 | BK25: =S25 -> 0 | BL25: =W25 -> 0 | BM25: =X25 -> 0 | BN25: =AB25 -> 0 | BO25: =AC25 -> 0 | BP25: =AG25 -> 0 | BQ25: =AH25 -> 0 | BR25: =AL25 -> 0 | BS25: =AM25 -> 0 | BT25: =AQ25 -> 0 | BU25: =AR25 -> 0 | BV25: =SUM(BF25:BU25) -> 0 | BX25: =SUM(J25:L25) -> 0 | BY25: =SUM(O25:Q25) -> 0 | BZ25: =SUM(T25:V25) -> 0 | CA25: =SUM(Y25:AA25) -> 0 | CB25: =SUM(AD25:AF25) -> 0 | CC25: =SUM(AI25:AK25) -> 0 | CD25: =SUM(AN25:AP25) -> 0 | CE25: =SUM(AS25:AU25) -> 0 | CF25: =SUM(BX25:CE25) -> 0 | CH25: =LARGE((BF25:BU25),1) -> 0 | CI25: =LARGE((BF25:BU25),2) -> 0 | CJ25: =LARGE((BF25:BU25),3) -> 0 | CK25: =LARGE((BF25:BU25),4) -> 0 | CL25: =LARGE((BF25:BU25),5) -> 0 | CM25: =LARGE((BF25:BU25),6) -> 0 | CN25: =LARGE((BF25:BU25),7) -> 0 | CO25: =LARGE((BF25:BU25),8) -> 0 | CP25: =LARGE((BF25:BU25),9) -> 0 | CQ25: =LARGE((BF25:BU25),10) -> 0 | CR25: =LARGE((BF25:BU25),11) -> 0 | CS25: =LARGE((BF25:BU25),12) -> 0 | CT25: =LARGE((BF25:BU25),13) -> 0 | CU25: =LARGE((BF25:BU25),14) -> 0 | CV25: =LARGE((BF25:BU25),15) -> 0 | CW25: =LARGE((BF25:BU25),16) -> 0 | CY25: =LARGE((BX25:CE25),1) -> 0 | CZ25: =LARGE((BX25:CE25),2) -> 0 | DA25: =LARGE((BX25:CE25),3) -> 0 | DB25: =LARGE((BX25:CE25),4) -> 0 | DC25: =LARGE((BX25:CE25),5) -> 0 | DD25: =LARGE((BX25:CE25),6) -> 0 | DE25: =LARGE((BX25:CE25),7) -> 0 | DF25: =LARGE((BX25:CE25),8) -> 0
B26: 23 | E26: 80 | F26: =E26+0 -> 80 | AV26: =SUM(BA26+BB26) -> 0 | AW26: =(AV25-AV26) -> 0 | BA26: =SUM(CH26:CP26) -> 0 | BB26: =SUM(CY26:DC26) -> 0 | BF26: =H26 -> 0 | BG26: =I26 -> 0 | BH26: =M26 -> 0 | BI26: =N26 -> 0 | BJ26: =R26 -> 0 | BK26: =S26 -> 0 | BL26: =W26 -> 0 | BM26: =X26 -> 0 | BN26: =AB26 -> 0 | BO26: =AC26 -> 0 | BP26: =AG26 -> 0 | BQ26: =AH26 -> 0 | BR26: =AL26 -> 0 | BS26: =AM26 -> 0 | BT26: =AQ26 -> 0 | BU26: =AR26 -> 0 | BV26: =SUM(BF26:BU26) -> 0 | BX26: =SUM(J26:L26) -> 0 | BY26: =SUM(O26:Q26) -> 0 | BZ26: =SUM(T26:V26) -> 0 | CA26: =SUM(Y26:AA26) -> 0 | CB26: =SUM(AD26:AF26) -> 0 | CC26: =SUM(AI26:AK26) -> 0 | CD26: =SUM(AN26:AP26) -> 0 | CE26: =SUM(AS26:AU26) -> 0 | CF26: =SUM(BX26:CE26) -> 0 | CH26: =LARGE((BF26:BU26),1) -> 0 | CI26: =LARGE((BF26:BU26),2) -> 0 | CJ26: =LARGE((BF26:BU26),3) -> 0 | CK26: =LARGE((BF26:BU26),4) -> 0 | CL26: =LARGE((BF26:BU26),5) -> 0 | CM26: =LARGE((BF26:BU26),6) -> 0 | CN26: =LARGE((BF26:BU26),7) -> 0 | CO26: =LARGE((BF26:BU26),8) -> 0 | CP26: =LARGE((BF26:BU26),9) -> 0 | CQ26: =LARGE((BF26:BU26),10) -> 0 | CR26: =LARGE((BF26:BU26),11) -> 0 | CS26: =LARGE((BF26:BU26),12) -> 0 | CT26: =LARGE((BF26:BU26),13) -> 0 | CU26: =LARGE((BF26:BU26),14) -> 0 | CV26: =LARGE((BF26:BU26),15) -> 0 | CW26: =LARGE((BF26:BU26),16) -> 0 | CY26: =LARGE((BX26:CE26),1) -> 0 | CZ26: =LARGE((BX26:CE26),2) -> 0 | DA26: =LARGE((BX26:CE26),3) -> 0 | DB26: =LARGE((BX26:CE26),4) -> 0 | DC26: =LARGE((BX26:CE26),5) -> 0 | DD26: =LARGE((BX26:CE26),6) -> 0 | DE26: =LARGE((BX26:CE26),7) -> 0 | DF26: =LARGE((BX26:CE26),8) -> 0
B27: 24 | E27: 80 | F27: =E27+0 -> 80 | AV27: =SUM(BA27+BB27) -> 0 | AW27: =(AV26-AV27) -> 0 | BA27: =SUM(CH27:CP27) -> 0 | BB27: =SUM(CY27:DC27) -> 0 | BF27: =H27 -> 0 | BG27: =I27 -> 0 | BH27: =M27 -> 0 | BI27: =N27 -> 0 | BJ27: =R27 -> 0 | BK27: =S27 -> 0 | BL27: =W27 -> 0 | BM27: =X27 -> 0 | BN27: =AB27 -> 0 | BO27: =AC27 -> 0 | BP27: =AG27 -> 0 | BQ27: =AH27 -> 0 | BR27: =AL27 -> 0 | BS27: =AM27 -> 0 | BT27: =AQ27 -> 0 | BU27: =AR27 -> 0 | BV27: =SUM(BF27:BU27) -> 0 | BX27: =SUM(J27:L27) -> 0 | BY27: =SUM(O27:Q27) -> 0 | BZ27: =SUM(T27:V27) -> 0 | CA27: =SUM(Y27:AA27) -> 0 | CB27: =SUM(AD27:AF27) -> 0 | CC27: =SUM(AI27:AK27) -> 0 | CD27: =SUM(AN27:AP27) -> 0 | CE27: =SUM(AS27:AU27) -> 0 | CF27: =SUM(BX27:CE27) -> 0 | CH27: =LARGE((BF27:BU27),1) -> 0 | CI27: =LARGE((BF27:BU27),2) -> 0 | CJ27: =LARGE((BF27:BU27),3) -> 0 | CK27: =LARGE((BF27:BU27),4) -> 0 | CL27: =LARGE((BF27:BU27),5) -> 0 | CM27: =LARGE((BF27:BU27),6) -> 0 | CN27: =LARGE((BF27:BU27),7) -> 0 | CO27: =LARGE((BF27:BU27),8) -> 0 | CP27: =LARGE((BF27:BU27),9) -> 0 | CQ27: =LARGE((BF27:BU27),10) -> 0 | CR27: =LARGE((BF27:BU27),11) -> 0 | CS27: =LARGE((BF27:BU27),12) -> 0 | CT27: =LARGE((BF27:BU27),13) -> 0 | CU27: =LARGE((BF27:BU27),14) -> 0 | CV27: =LARGE((BF27:BU27),15) -> 0 | CW27: =LARGE((BF27:BU27),16) -> 0 | CY27: =LARGE((BX27:CE27),1) -> 0 | CZ27: =LARGE((BX27:CE27),2) -> 0 | DA27: =LARGE((BX27:CE27),3) -> 0 | DB27: =LARGE((BX27:CE27),4) -> 0 | DC27: =LARGE((BX27:CE27),5) -> 0 | DD27: =LARGE((BX27:CE27),6) -> 0 | DE27: =LARGE((BX27:CE27),7) -> 0 | DF27: =LARGE((BX27:CE27),8) -> 0
B28: 25 | E28: 80 | F28: =E28+0 -> 80 | AV28: =SUM(BA28+BB28) -> 0 | AW28: =(AV27-AV28) -> 0 | BA28: =SUM(CH28:CP28) -> 0 | BB28: =SUM(CY28:DC28) -> 0 | BF28: =H28 -> 0 | BG28: =I28 -> 0 | BH28: =M28 -> 0 | BI28: =N28 -> 0 | BJ28: =R28 -> 0 | BK28: =S28 -> 0 | BL28: =W28 -> 0 | BM28: =X28 -> 0 | BN28: =AB28 -> 0 | BO28: =AC28 -> 0 | BP28: =AG28 -> 0 | BQ28: =AH28 -> 0 | BR28: =AL28 -> 0 | BS28: =AM28 -> 0 | BT28: =AQ28 -> 0 | BU28: =AR28 -> 0 | BV28: =SUM(BF28:BU28) -> 0 | BX28: =SUM(J28:L28) -> 0 | BY28: =SUM(O28:Q28) -> 0 | BZ28: =SUM(T28:V28) -> 0 | CA28: =SUM(Y28:AA28) -> 0 | CB28: =SUM(AD28:AF28) -> 0 | CC28: =SUM(AI28:AK28) -> 0 | CD28: =SUM(AN28:AP28) -> 0 | CE28: =SUM(AS28:AU28) -> 0 | CF28: =SUM(BX28:CE28) -> 0 | CH28: =LARGE((BF28:BU28),1) -> 0 | CI28: =LARGE((BF28:BU28),2) -> 0 | CJ28: =LARGE((BF28:BU28),3) -> 0 | CK28: =LARGE((BF28:BU28),4) -> 0 | CL28: =LARGE((BF28:BU28),5) -> 0 | CM28: =LARGE((BF28:BU28),6) -> 0 | CN28: =LARGE((BF28:BU28),7) -> 0 | CO28: =LARGE((BF28:BU28),8) -> 0 | CP28: =LARGE((BF28:BU28),9) -> 0 | CQ28: =LARGE((BF28:BU28),10) -> 0 | CR28: =LARGE((BF28:BU28),11) -> 0 | CS28: =LARGE((BF28:BU28),12) -> 0 | CT28: =LARGE((BF28:BU28),13) -> 0 | CU28: =LARGE((BF28:BU28),14) -> 0 | CV28: =LARGE((BF28:BU28),15) -> 0 | CW28: =LARGE((BF28:BU28),16) -> 0 | CY28: =LARGE((BX28:CE28),1) -> 0 | CZ28: =LARGE((BX28:CE28),2) -> 0 | DA28: =LARGE((BX28:CE28),3) -> 0 | DB28: =LARGE((BX28:CE28),4) -> 0 | DC28: =LARGE((BX28:CE28),5) -> 0 | DD28: =LARGE((BX28:CE28),6) -> 0 | DE28: =LARGE((BX28:CE28),7) -> 0 | DF28: =LARGE((BX28:CE28),8) -> 0
B29: 26 | E29: 80 | F29: =E29+0 -> 80 | AV29: =SUM(BA29+BB29) -> 0 | AW29: =(AV28-AV29) -> 0 | BA29: =SUM(CH29:CP29) -> 0 | BB29: =SUM(CY29:DC29) -> 0 | BF29: =H29 -> 0 | BG29: =I29 -> 0 | BH29: =M29 -> 0 | BI29: =N29 -> 0 | BJ29: =R29 -> 0 | BK29: =S29 -> 0 | BL29: =W29 -> 0 | BM29: =X29 -> 0 | BN29: =AB29 -> 0 | BO29: =AC29 -> 0 | BP29: =AG29 -> 0 | BQ29: =AH29 -> 0 | BR29: =AL29 -> 0 | BS29: =AM29 -> 0 | BT29: =AQ29 -> 0 | BU29: =AR29 -> 0 | BV29: =SUM(BF29:BU29) -> 0 | BX29: =SUM(J29:L29) -> 0 | BY29: =SUM(O29:Q29) -> 0 | BZ29: =SUM(T29:V29) -> 0 | CA29: =SUM(Y29:AA29) -> 0 | CB29: =SUM(AD29:AF29) -> 0 | CC29: =SUM(AI29:AK29) -> 0 | CD29: =SUM(AN29:AP29) -> 0 | CE29: =SUM(AS29:AU29) -> 0 | CF29: =SUM(BX29:CE29) -> 0 | CH29: =LARGE((BF29:BU29),1) -> 0 | CI29: =LARGE((BF29:BU29),2) -> 0 | CJ29: =LARGE((BF29:BU29),3) -> 0 | CK29: =LARGE((BF29:BU29),4) -> 0 | CL29: =LARGE((BF29:BU29),5) -> 0 | CM29: =LARGE((BF29:BU29),6) -> 0 | CN29: =LARGE((BF29:BU29),7) -> 0 | CO29: =LARGE((BF29:BU29),8) -> 0 | CP29: =LARGE((BF29:BU29),9) -> 0 | CQ29: =LARGE((BF29:BU29),10) -> 0 | CR29: =LARGE((BF29:BU29),11) -> 0 | CS29: =LARGE((BF29:BU29),12) -> 0 | CT29: =LARGE((BF29:BU29),13) -> 0 | CU29: =LARGE((BF29:BU29),14) -> 0 | CV29: =LARGE((BF29:BU29),15) -> 0 | CW29: =LARGE((BF29:BU29),16) -> 0 | CY29: =LARGE((BX29:CE29),1) -> 0 | CZ29: =LARGE((BX29:CE29),2) -> 0 | DA29: =LARGE((BX29:CE29),3) -> 0 | DB29: =LARGE((BX29:CE29),4) -> 0 | DC29: =LARGE((BX29:CE29),5) -> 0 | DD29: =LARGE((BX29:CE29),6) -> 0 | DE29: =LARGE((BX29:CE29),7) -> 0 | DF29: =LARGE((BX29:CE29),8) -> 0
B30: 27 | E30: 80 | F30: =E30+0 -> 80 | AV30: =SUM(BA30+BB30) -> 0 | AW30: =(AV29-AV30) -> 0 | BA30: =SUM(CH30:CP30) -> 0 | BB30: =SUM(CY30:DC30) -> 0 | BF30: =H30 -> 0 | BG30: =I30 -> 0 | BH30: =M30 -> 0 | BI30: =N30 -> 0 | BJ30: =R30 -> 0 | BK30: =S30 -> 0 | BL30: =W30 -> 0 | BM30: =X30 -> 0 | BN30: =AB30 -> 0 | BO30: =AC30 -> 0 | BP30: =AG30 -> 0 | BQ30: =AH30 -> 0 | BR30: =AL30 -> 0 | BS30: =AM30 -> 0 | BT30: =AQ30 -> 0 | BU30: =AR30 -> 0 | BV30: =SUM(BF30:BU30) -> 0 | BX30: =SUM(J30:L30) -> 0 | BY30: =SUM(O30:Q30) -> 0 | BZ30: =SUM(T30:V30) -> 0 | CA30: =SUM(Y30:AA30) -> 0 | CB30: =SUM(AD30:AF30) -> 0 | CC30: =SUM(AI30:AK30) -> 0 | CD30: =SUM(AN30:AP30) -> 0 | CE30: =SUM(AS30:AU30) -> 0 | CF30: =SUM(BX30:CE30) -> 0 | CH30: =LARGE((BF30:BU30),1) -> 0 | CI30: =LARGE((BF30:BU30),2) -> 0 | CJ30: =LARGE((BF30:BU30),3) -> 0 | CK30: =LARGE((BF30:BU30),4) -> 0 | CL30: =LARGE((BF30:BU30),5) -> 0 | CM30: =LARGE((BF30:BU30),6) -> 0 | CN30: =LARGE((BF30:BU30),7) -> 0 | CO30: =LARGE((BF30:BU30),8) -> 0 | CP30: =LARGE((BF30:BU30),9) -> 0 | CQ30: =LARGE((BF30:BU30),10) -> 0 | CR30: =LARGE((BF30:BU30),11) -> 0 | CS30: =LARGE((BF30:BU30),12) -> 0 | CT30: =LARGE((BF30:BU30),13) -> 0 | CU30: =LARGE((BF30:BU30),14) -> 0 | CV30: =LARGE((BF30:BU30),15) -> 0 | CW30: =LARGE((BF30:BU30),16) -> 0 | CY30: =LARGE((BX30:CE30),1) -> 0 | CZ30: =LARGE((BX30:CE30),2) -> 0 | DA30: =LARGE((BX30:CE30),3) -> 0 | DB30: =LARGE((BX30:CE30),4) -> 0 | DC30: =LARGE((BX30:CE30),5) -> 0 | DD30: =LARGE((BX30:CE30),6) -> 0 | DE30: =LARGE((BX30:CE30),7) -> 0 | DF30: =LARGE((BX30:CE30),8) -> 0
B31: 28 | E31: 80 | F31: =E31+0 -> 80 | AV31: =SUM(BA31+BB31) -> 0 | AW31: =(AV30-AV31) -> 0 | BA31: =SUM(CH31:CP31) -> 0 | BB31: =SUM(CY31:DC31) -> 0 | BF31: =H31 -> 0 | BG31: =I31 -> 0 | BH31: =M31 -> 0 | BI31: =N31 -> 0 | BJ31: =R31 -> 0 | BK31: =S31 -> 0 | BL31: =W31 -> 0 | BM31: =X31 -> 0 | BN31: =AB31 -> 0 | BO31: =AC31 -> 0 | BP31: =AG31 -> 0 | BQ31: =AH31 -> 0 | BR31: =AL31 -> 0 | BS31: =AM31 -> 0 | BT31: =AQ31 -> 0 | BU31: =AR31 -> 0 | BV31: =SUM(BF31:BU31) -> 0 | BX31: =SUM(J31:L31) -> 0 | BY31: =SUM(O31:Q31) -> 0 | BZ31: =SUM(T31:V31) -> 0 | CA31: =SUM(Y31:AA31) -> 0 | CB31: =SUM(AD31:AF31) -> 0 | CC31: =SUM(AI31:AK31) -> 0 | CD31: =SUM(AN31:AP31) -> 0 | CE31: =SUM(AS31:AU31) -> 0 | CF31: =SUM(BX31:CE31) -> 0 | CH31: =LARGE((BF31:BU31),1) -> 0 | CI31: =LARGE((BF31:BU31),2) -> 0 | CJ31: =LARGE((BF31:BU31),3) -> 0 | CK31: =LARGE((BF31:BU31),4) -> 0 | CL31: =LARGE((BF31:BU31),5) -> 0 | CM31: =LARGE((BF31:BU31),6) -> 0 | CN31: =LARGE((BF31:BU31),7) -> 0 | CO31: =LARGE((BF31:BU31),8) -> 0 | CP31: =LARGE((BF31:BU31),9) -> 0 | CQ31: =LARGE((BF31:BU31),10) -> 0 | CR31: =LARGE((BF31:BU31),11) -> 0 | CS31: =LARGE((BF31:BU31),12) -> 0 | CT31: =LARGE((BF31:BU31),13) -> 0 | CU31: =LARGE((BF31:BU31),14) -> 0 | CV31: =LARGE((BF31:BU31),15) -> 0 | CW31: =LARGE((BF31:BU31),16) -> 0 | CY31: =LARGE((BX31:CE31),1) -> 0 | CZ31: =LARGE((BX31:CE31),2) -> 0 | DA31: =LARGE((BX31:CE31),3) -> 0 | DB31: =LARGE((BX31:CE31),4) -> 0 | DC31: =LARGE((BX31:CE31),5) -> 0 | DD31: =LARGE((BX31:CE31),6) -> 0 | DE31: =LARGE((BX31:CE31),7) -> 0 | DF31: =LARGE((BX31:CE31),8) -> 0
B32: 29 | E32: 80 | F32: =E32+0 -> 80 | AV32: =SUM(BA32+BB32) -> 0 | AW32: =(AV31-AV32) -> 0 | BA32: =SUM(CH32:CP32) -> 0 | BB32: =SUM(CY32:DC32) -> 0 | BF32: =H32 -> 0 | BG32: =I32 -> 0 | BH32: =M32 -> 0 | BI32: =N32 -> 0 | BJ32: =R32 -> 0 | BK32: =S32 -> 0 | BL32: =W32 -> 0 | BM32: =X32 -> 0 | BN32: =AB32 -> 0 | BO32: =AC32 -> 0 | BP32: =AG32 -> 0 | BQ32: =AH32 -> 0 | BR32: =AL32 -> 0 | BS32: =AM32 -> 0 | BT32: =AQ32 -> 0 | BU32: =AR32 -> 0 | BV32: =SUM(BF32:BU32) -> 0 | BX32: =SUM(J32:L32) -> 0 | BY32: =SUM(O32:Q32) -> 0 | BZ32: =SUM(T32:V32) -> 0 | CA32: =SUM(Y32:AA32) -> 0 | CB32: =SUM(AD32:AF32) -> 0 | CC32: =SUM(AI32:AK32) -> 0 | CD32: =SUM(AN32:AP32) -> 0 | CE32: =SUM(AS32:AU32) -> 0 | CF32: =SUM(BX32:CE32) -> 0 | CH32: =LARGE((BF32:BU32),1) -> 0 | CI32: =LARGE((BF32:BU32),2) -> 0 | CJ32: =LARGE((BF32:BU32),3) -> 0 | CK32: =LARGE((BF32:BU32),4) -> 0 | CL32: =LARGE((BF32:BU32),5) -> 0 | CM32: =LARGE((BF32:BU32),6) -> 0 | CN32: =LARGE((BF32:BU32),7) -> 0 | CO32: =LARGE((BF32:BU32),8) -> 0 | CP32: =LARGE((BF32:BU32),9) -> 0 | CQ32: =LARGE((BF32:BU32),10) -> 0 | CR32: =LARGE((BF32:BU32),11) -> 0 | CS32: =LARGE((BF32:BU32),12) -> 0 | CT32: =LARGE((BF32:BU32),13) -> 0 | CU32: =LARGE((BF32:BU32),14) -> 0 | CV32: =LARGE((BF32:BU32),15) -> 0 | CW32: =LARGE((BF32:BU32),16) -> 0 | CY32: =LARGE((BX32:CE32),1) -> 0 | CZ32: =LARGE((BX32:CE32),2) -> 0 | DA32: =LARGE((BX32:CE32),3) -> 0 | DB32: =LARGE((BX32:CE32),4) -> 0 | DC32: =LARGE((BX32:CE32),5) -> 0 | DD32: =LARGE((BX32:CE32),6) -> 0 | DE32: =LARGE((BX32:CE32),7) -> 0 | DF32: =LARGE((BX32:CE32),8) -> 0
B33: 30 | E33: 80 | F33: =E33+0 -> 80 | AV33: =SUM(BA33+BB33) -> 0 | AW33: =(AV32-AV33) -> 0 | BA33: =SUM(CH33:CP33) -> 0 | BB33: =SUM(CY33:DC33) -> 0 | BF33: =H33 -> 0 | BG33: =I33 -> 0 | BH33: =M33 -> 0 | BI33: =N33 -> 0 | BJ33: =R33 -> 0 | BK33: =S33 -> 0 | BL33: =W33 -> 0 | BM33: =X33 -> 0 | BN33: =AB33 -> 0 | BO33: =AC33 -> 0 | BP33: =AG33 -> 0 | BQ33: =AH33 -> 0 | BR33: =AL33 -> 0 | BS33: =AM33 -> 0 | BT33: =AQ33 -> 0 | BU33: =AR33 -> 0 | BV33: =SUM(BF33:BU33) -> 0 | BX33: =SUM(J33:L33) -> 0 | BY33: =SUM(O33:Q33) -> 0 | BZ33: =SUM(T33:V33) -> 0 | CA33: =SUM(Y33:AA33) -> 0 | CB33: =SUM(AD33:AF33) -> 0 | CC33: =SUM(AI33:AK33) -> 0 | CD33: =SUM(AN33:AP33) -> 0 | CE33: =SUM(AS33:AU33) -> 0 | CF33: =SUM(BX33:CE33) -> 0 | CH33: =LARGE((BF33:BU33),1) -> 0 | CI33: =LARGE((BF33:BU33),2) -> 0 | CJ33: =LARGE((BF33:BU33),3) -> 0 | CK33: =LARGE((BF33:BU33),4) -> 0 | CL33: =LARGE((BF33:BU33),5) -> 0 | CM33: =LARGE((BF33:BU33),6) -> 0 | CN33: =LARGE((BF33:BU33),7) -> 0 | CO33: =LARGE((BF33:BU33),8) -> 0 | CP33: =LARGE((BF33:BU33),9) -> 0 | CQ33: =LARGE((BF33:BU33),10) -> 0 | CR33: =LARGE((BF33:BU33),11) -> 0 | CS33: =LARGE((BF33:BU33),12) -> 0 | CT33: =LARGE((BF33:BU33),13) -> 0 | CU33: =LARGE((BF33:BU33),14) -> 0 | CV33: =LARGE((BF33:BU33),15) -> 0 | CW33: =LARGE((BF33:BU33),16) -> 0 | CY33: =LARGE((BX33:CE33),1) -> 0 | CZ33: =LARGE((BX33:CE33),2) -> 0 | DA33: =LARGE((BX33:CE33),3) -> 0 | DB33: =LARGE((BX33:CE33),4) -> 0 | DC33: =LARGE((BX33:CE33),5) -> 0 | DD33: =LARGE((BX33:CE33),6) -> 0 | DE33: =LARGE((BX33:CE33),7) -> 0 | DF33: =LARGE((BX33:CE33),8) -> 0
B34: 31 | E34: 80 | F34: =E34+0 -> 80 | AV34: =SUM(BA34+BB34) -> 0 | AW34: =(AV33-AV34) -> 0 | BA34: =SUM(CH34:CP34) -> 0 | BB34: =SUM(CY34:DC34) -> 0 | BF34: =H34 -> 0 | BG34: =I34 -> 0 | BH34: =M34 -> 0 | BI34: =N34 -> 0 | BJ34: =R34 -> 0 | BK34: =S34 -> 0 | BL34: =W34 -> 0 | BM34: =X34 -> 0 | BN34: =AB34 -> 0 | BO34: =AC34 -> 0 | BP34: =AG34 -> 0 | BQ34: =AH34 -> 0 | BR34: =AL34 -> 0 | BS34: =AM34 -> 0 | BT34: =AQ34 -> 0 | BU34: =AR34 -> 0 | BV34: =SUM(BF34:BU34) -> 0 | BX34: =SUM(J34:L34) -> 0 | BY34: =SUM(O34:Q34) -> 0 | BZ34: =SUM(T34:V34) -> 0 | CA34: =SUM(Y34:AA34) -> 0 | CB34: =SUM(AD34:AF34) -> 0 | CC34: =SUM(AI34:AK34) -> 0 | CD34: =SUM(AN34:AP34) -> 0 | CE34: =SUM(AS34:AU34) -> 0 | CF34: =SUM(BX34:CE34) -> 0 | CH34: =LARGE((BF34:BU34),1) -> 0 | CI34: =LARGE((BF34:BU34),2) -> 0 | CJ34: =LARGE((BF34:BU34),3) -> 0 | CK34: =LARGE((BF34:BU34),4) -> 0 | CL34: =LARGE((BF34:BU34),5) -> 0 | CM34: =LARGE((BF34:BU34),6) -> 0 | CN34: =LARGE((BF34:BU34),7) -> 0 | CO34: =LARGE((BF34:BU34),8) -> 0 | CP34: =LARGE((BF34:BU34),9) -> 0 | CQ34: =LARGE((BF34:BU34),10) -> 0 | CR34: =LARGE((BF34:BU34),11) -> 0 | CS34: =LARGE((BF34:BU34),12) -> 0 | CT34: =LARGE((BF34:BU34),13) -> 0 | CU34: =LARGE((BF34:BU34),14) -> 0 | CV34: =LARGE((BF34:BU34),15) -> 0 | CW34: =LARGE((BF34:BU34),16) -> 0 | CY34: =LARGE((BX34:CE34),1) -> 0 | CZ34: =LARGE((BX34:CE34),2) -> 0 | DA34: =LARGE((BX34:CE34),3) -> 0 | DB34: =LARGE((BX34:CE34),4) -> 0 | DC34: =LARGE((BX34:CE34),5) -> 0 | DD34: =LARGE((BX34:CE34),6) -> 0 | DE34: =LARGE((BX34:CE34),7) -> 0 | DF34: =LARGE((BX34:CE34),8) -> 0
B35: 32 | E35: 80 | F35: =E35+0 -> 80 | AV35: =SUM(BA35+BB35) -> 0 | AW35: =(AV34-AV35) -> 0 | BA35: =SUM(CH35:CP35) -> 0 | BB35: =SUM(CY35:DC35) -> 0 | BF35: =H35 -> 0 | BG35: =I35 -> 0 | BH35: =M35 -> 0 | BI35: =N35 -> 0 | BJ35: =R35 -> 0 | BK35: =S35 -> 0 | BL35: =W35 -> 0 | BM35: =X35 -> 0 | BN35: =AB35 -> 0 | BO35: =AC35 -> 0 | BP35: =AG35 -> 0 | BQ35: =AH35 -> 0 | BR35: =AL35 -> 0 | BS35: =AM35 -> 0 | BT35: =AQ35 -> 0 | BU35: =AR35 -> 0 | BV35: =SUM(BF35:BU35) -> 0 | BX35: =SUM(J35:L35) -> 0 | BY35: =SUM(O35:Q35) -> 0 | BZ35: =SUM(T35:V35) -> 0 | CA35: =SUM(Y35:AA35) -> 0 | CB35: =SUM(AD35:AF35) -> 0 | CC35: =SUM(AI35:AK35) -> 0 | CD35: =SUM(AN35:AP35) -> 0 | CE35: =SUM(AS35:AU35) -> 0 | CF35: =SUM(BX35:CE35) -> 0 | CH35: =LARGE((BF35:BU35),1) -> 0 | CI35: =LARGE((BF35:BU35),2) -> 0 | CJ35: =LARGE((BF35:BU35),3) -> 0 | CK35: =LARGE((BF35:BU35),4) -> 0 | CL35: =LARGE((BF35:BU35),5) -> 0 | CM35: =LARGE((BF35:BU35),6) -> 0 | CN35: =LARGE((BF35:BU35),7) -> 0 | CO35: =LARGE((BF35:BU35),8) -> 0 | CP35: =LARGE((BF35:BU35),9) -> 0 | CQ35: =LARGE((BF35:BU35),10) -> 0 | CR35: =LARGE((BF35:BU35),11) -> 0 | CS35: =LARGE((BF35:BU35),12) -> 0 | CT35: =LARGE((BF35:BU35),13) -> 0 | CU35: =LARGE((BF35:BU35),14) -> 0 | CV35: =LARGE((BF35:BU35),15) -> 0 | CW35: =LARGE((BF35:BU35),16) -> 0 | CY35: =LARGE((BX35:CE35),1) -> 0 | CZ35: =LARGE((BX35:CE35),2) -> 0 | DA35: =LARGE((BX35:CE35),3) -> 0 | DB35: =LARGE((BX35:CE35),4) -> 0 | DC35: =LARGE((BX35:CE35),5) -> 0 | DD35: =LARGE((BX35:CE35),6) -> 0 | DE35: =LARGE((BX35:CE35),7) -> 0 | DF35: =LARGE((BX35:CE35),8) -> 0
... B53: 50 | E53: 80 | F53: =E53+0 -> 80 | AV53: =SUM(BA53+BB53) -> 0 | AW53: =(AV52-AV53) -> 0 | BA53: =SUM(CH53:CP53) -> 0 | BB53: =SUM(CY53:DC53) -> 0 | BF53: =H53 -> 0 | BG53: =I53 -> 0 | BH53: =M53 -> 0 | BI53: =N53 -> 0 | BJ53: =R53 -> 0 | BK53: =S53 -> 0 | BL53: =W53 -> 0 | BM53: =X53 -> 0 | BN53: =AB53 -> 0 | BO53: =AC53 -> 0 | BP53: =AG53 -> 0 | BQ53: =AH53 -> 0 | BR53: =AL53 -> 0 | BS53: =AM53 -> 0 | BT53: =AQ53 -> 0 | BU53: =AR53 -> 0 | BV53: =SUM(BF53:BU53) -> 0 | BX53: =SUM(J53:L53) -> 0 | BY53: =SUM(O53:Q53) -> 0 | BZ53: =SUM(T53:V53) -> 0 | CA53: =SUM(Y53:AA53) -> 0 | CB53: =SUM(AD53:AF53) -> 0 | CC53: =SUM(AI53:AK53) -> 0 | CD53: =SUM(AN53:AP53) -> 0 | CE53: =SUM(AS53:AU53) -> 0 | CF53: =SUM(BX53:CE53) -> 0 | CH53: =LARGE((BF53:BU53),1) -> 0 | CI53: =LARGE((BF53:BU53),2) -> 0 | CJ53: =LARGE((BF53:BU53),3) -> 0 | CK53: =LARGE((BF53:BU53),4) -> 0 | CL53: =LARGE((BF53:BU53),5) -> 0 | CM53: =LARGE((BF53:BU53),6) -> 0 | CN53: =LARGE((BF53:BU53),7) -> 0 | CO53: =LARGE((BF53:BU53),8) -> 0 | CP53: =LARGE((BF53:BU53),9) -> 0 | CQ53: =LARGE((BF53:BU53),10) -> 0 | CR53: =LARGE((BF53:BU53),11) -> 0 | CS53: =LARGE((BF53:BU53),12) -> 0 | CT53: =LARGE((BF53:BU53),13) -> 0 | CU53: =LARGE((BF53:BU53),14) -> 0 | CV53: =LARGE((BF53:BU53),15) -> 0 | CW53: =LARGE((BF53:BU53),16) -> 0 | CY53: =LARGE((BX53:CE53),1) -> 0 | CZ53: =LARGE((BX53:CE53),2) -> 0 | DA53: =LARGE((BX53:CE53),3) -> 0 | DB53: =LARGE((BX53:CE53),4) -> 0 | DC53: =LARGE((BX53:CE53),5) -> 0 | DD53: =LARGE((BX53:CE53),6) -> 0 | DE53: =LARGE((BX53:CE53),7) -> 0 | DF53: =LARGE((BX53:CE53),8) -> 0

Sheet Table Summary
A1: The Emirates Group Karting Club Season 10 2019-2020 Championship | Table Summary
A3: Professionals | G3: Amateurs | M3: Masters
A5: Pos. | B5: Driver | C5: Championship Points | G5: Pos. | H5: Driver | I5: Championship Points | M5: Pos. | N5: Driver | O5: Championship Points
A7: 1 | B7: =Professionals!C4 -> Jiby Kuriakose | C7: =Professionals!AV4 -> 618 | G7: 1 | H7: =Amateurs!C4 -> Manu Mathew | I7: =Amateurs!AV4 -> 657 | M7: 1 | N7: =Masters!C4 -> Redza Jamil | O7: =Masters!AV4 -> 640
A8: 2 | B8: =Professionals!C5 -> Nabil Jamil | C8: =Professionals!AV5 -> 503 | G8: 2 | H8: =Amateurs!C5 -> Sevag Balmanian | I8: =Amateurs!AV5 -> 616 | M8: 2 | N8: =Masters!C5 -> Fabio Davoli | O8: =Masters!AV5 -> 622
A9: 3 | B9: =Professionals!C6 -> Aron Demirovski | C9: =Professionals!AV6 -> 493 | G9: 3 | H9: =Amateurs!C6 -> Andre Khoury | I9: =Amateurs!AV6 -> 595 | M9: 3 | N9: =Masters!C6 -> Peter Francis | O9: =Masters!AV6 -> 587
A10: 4 | B10: =Professionals!C7 -> Darshane Dayaratne | C10: =Professionals!AV7 -> 483 | G10: 4 | H10: =Amateurs!C7 -> Anthony Shanouk | I10: =Amateurs!AV7 -> 566 | M10: 4 | N10: =Masters!C7 -> Husain Raj | O10: =Masters!AV7 -> 548
A11: 5 | B11: =Professionals!C8 -> Hesham Elwahsh | C11: =Professionals!AV8 -> 402 | G11: 5 | H11: =Amateurs!C8 -> Jan Bobert | I11: =Amateurs!AV8 -> 479 | M11: 5 | N11: =Masters!C8 -> Paul Davies | O11: =Masters!AV8 -> 500
A12: 6 | B12: =Professionals!C9 -> Gustavo Ramirez | C12: =Professionals!AV9 -> 390 | G12: 6 | H12: =Amateurs!C9 -> Yahidj Chady | I12: =Amateurs!AV9 -> 454 | M12: 6 | N12: =Masters!C9 -> Prabath Fernando | O12: =Masters!AV9 -> 489
A13: 7 | B13: =Professionals!C10 -> Maxime Seurat | C13: =Professionals!AV10 -> 387 | G13: 7 | H13: =Amateurs!C10 -> Benjamin Allison | I13: =Amateurs!AV10 -> 406 | M13: 7 | N13: =Masters!C10 -> Julien Roudil | O13: =Masters!AV10 -> 409
A14: 8 | B14: =Professionals!C11 -> Rabih Santina | C14: =Professionals!AV11 -> 323 | G14: 8 | H14: =Amateurs!C11 -> Mahmood Jaafar | I14: =Amateurs!AV11 -> 347 | M14: 8 | N14: =Masters!C11 -> Fulvio Parrilli | O14: =Masters!AV11 -> 360
A15: 9 | B15: =Professionals!C12 -> Mohd Zubair | C15: =Professionals!AV12 -> 309 | G15: 9 | H15: =Amateurs!C12 -> Guillaume Haidan | I15: =Amateurs!AV12 -> 312 | M15: 9 | N15: =Masters!C12 -> Atef Al Barwani | O15: =Masters!AV12 -> 121
A16: 10 | B16: =Professionals!C13 -> Allen Khoury | C16: =Professionals!AV13 -> 225 | G16: 10 | H16: =Amateurs!C13 -> Jack Demirjian | I16: =Amateurs!AV13 -> 308 | M16: 10 | N16: =Masters!C13 -> Salvatore Zanna | O16: =Masters!AV13 -> 103
A17: 11 | B17: =Professionals!C14 -> Hugo de Frutos Maeso | C17: =Professionals!AV14 -> 219 | G17: 11 | H17: =Amateurs!C14 -> Roberto Beni | I17: =Amateurs!AV14 -> 275 | M17: 11 | N17: =Masters!C14 -> Gilles Metro | O17: =Masters!AV14 -> 99
A18: 12 | B18: =Professionals!C15 -> Sai Nair | C18: =Professionals!AV15 -> 206 | G18: 12 | H18: =Amateurs!C15 -> Alessandro Salomoni | I18: =Amateurs!AV15 -> 273 | M18: 12 | N18: =Masters!C15 -> Mark Gray | O18: =Masters!AV15 -> 98
... A24: 18 | B24: =Professionals!C21 -> Luca Demirovski | C24: =Professionals!AV21 -> 98 | G24: 18 | H24: =Amateurs!C21 -> Ennio Antonio Desini | I24: =Amateurs!AV21 -> 203 | M24: 18 | N24: =Masters!C21 -> 0 | O24: =Masters!AV21 -> 0
A25: 19 | B25: =Professionals!C22 -> Asim Ashraf | C25: =Professionals!AV22 -> 87 | G25: = | H25: =Amateurs!C22 -> Carlo Fanini | I25: =Amateurs!AV22 -> 203 | M25: 19 | N25: =Masters!C22 -> 0 | O25: =Masters!AV22 -> 0
A26: 20 | B26: =Professionals!C23 -> 0 | C26: =Professionals!AV23 -> 0 | G26: 20 | H26: =Amateurs!C23 -> Emad El Mattar | I26: =Amateurs!AV23 -> 117 | M26: 20 | N26: =Masters!C23 -> 0 | O26: =Masters!AV23 -> 0
A27: 21 | B27: =Professionals!C24 -> 0 | C27: =Professionals!AV24 -> 0 | G27: 21 | H27: =Amateurs!C24 -> Ilyas Shaikh | I27: =Amateurs!AV24 -> 112 | M27: 21 | N27: =Masters!C24 -> 0 | O27: =Masters!AV24 -> 0
A28: 22 | B28: =Professionals!C25 -> 0 | C28: =Professionals!AV25 -> 0 | G28: 22 | H28: =Amateurs!C25 -> Paul Holland | I28: =Amateurs!AV25 -> 102 | M28: 22 | N28: =Masters!C25 -> 0 | O28: =Masters!AV25 -> 0
A29: 23 | B29: =Professionals!C26 -> 0 | C29: =Professionals!AV26 -> 0 | G29: 23 | H29: =Amateurs!C26 -> Zuhier Zulkifli | I29: =Amateurs!AV26 -> 94 | M29: 23 | N29: =Masters!C26 -> 0 | O29: =Masters!AV26 -> 0
A30: 24 | B30: =Professionals!C27 -> 0 | C30: =Professionals!AV27 -> 0 | G30: 24 | H30: =Amateurs!C27 -> Matija Babic | I30: =Amateurs!AV27 -> 80 | M30: 24 | N30: =Masters!C27 -> 0 | O30: =Masters!AV27 -> 0
A31: 25 | B31: =Professionals!C28 -> 0 | C31: =Professionals!AV28 -> 0 | G31: 25 | H31: =Amateurs!C28 -> Hussain Alkhayat | I31: =Amateurs!AV28 -> 78 | M31: = | N31: =Masters!C28 -> 0 | O31: =Masters!AV28 -> 0
A32: 26 | B32: =Professionals!C29 -> 0 | C32: =Professionals!AV29 -> 0 | G32: = | H32: =Amateurs!C29 -> Lucas Metro | I32: =Amateurs!AV29 -> 69 | M32: 26 | N32: =Masters!C29 -> 0 | O32: =Masters!AV29 -> 0
A33: 27 | B33: =Professionals!C30 -> 0 | C33: =Professionals!AV30 -> 0 | G33: 27 | H33: =Amateurs!C30 -> Teresa Wojtanka | I33: =Amateurs!AV30 -> 69 | M33: 27 | N33: =Masters!C30 -> 0 | O33: =Masters!AV30 -> 0
A34: 28 | B34: =Professionals!C31 -> 0 | C34: =Professionals!AV31 -> 0 | G34: 28 | H34: =Amateurs!C31 -> Sultan Khalifa | I34: =Amateurs!AV31 -> 65 | M34: 28 | N34: =Masters!C31 -> 0 | O34: =Masters!AV31 -> 0
A35: 29 | B35: =Professionals!C32 -> 0 | C35: =Professionals!AV32 -> 0 | G35: 29 | H35: =Amateurs!C32 -> Chandrashekar Chanagonda | I35: =Amateurs!AV32 -> 63 | M35: = | N35: =Masters!C32 -> 0 | O35: =Masters!AV32 -> 0
A36: 30 | B36: =Professionals!C33 -> 0 | C36: =Professionals!AV33 -> 0 | G36: 30 | H36: =Amateurs!C33 -> Patricio Rosello | I36: =Amateurs!AV33 -> 54 | M36: 30 | N36: =Masters!C33 -> 0 | O36: =Masters!AV33 -> 0
A37: 31 | B37: =Professionals!C34 -> 0 | C37: =Professionals!AV34 -> 0 | G37: 31 | H37: =Amateurs!C34 -> Matteo Vanucci | I37: =Amateurs!AV34 -> 52 | M37: 31 | N37: =Masters!C34 -> 0 | O37: =Masters!AV34 -> 0
A38: 32 | B38: =Professionals!C34 -> 0 | C38: =Professionals!AV34 -> 0 | G38: 32 | H38: =Amateurs!C35 -> Khurshed Messman | I38: =Amateurs!AV35 -> 50 | M38: 32 | N38: =Masters!C35 -> 0 | O38: =Masters!AV35 -> 0
A39: 33 | B39: =Professionals!C35 -> 0 | C39: =Professionals!AV35 -> 0 | G39: 33 | H39: =Amateurs!C36 -> Tashi Namja Bhutia | I39: =Amateurs!AV36 -> 44 | M39: 33 | N39: =Masters!C36 -> 0 | O39: =Masters!AV36 -> 0
A40: 34 | B40: =Professionals!C36 -> 0 | C40: =Professionals!AV36 -> 0 | G40: 34 | H40: =Amateurs!C37 -> Mzamo Thabede | I40: =Amateurs!AV37 -> 30 | M40: 34 | N40: =Masters!C37 -> 0 | O40: =Masters!AV37 -> 0
A41: 35 | B41: =Professionals!C37 -> 0 | C41: =Professionals!AV37 -> 0 | G41: 35 | H41: =Amateurs!C38 -> Mohcine Hatifi | I41: =Amateurs!AV38 -> 26 | M41: 35 | N41: =Masters!C38 -> 0 | O41: =Masters!AV38 -> 0
A42: 36 | B42: =Professionals!C38 -> 0 | C42: =Professionals!AV38 -> 0 | G42: 36 | H42: =Amateurs!C39 -> 0 | I42: =Amateurs!AV39 -> 0 | M42: 36 | N42: =Masters!C39 -> 0 | O42: =Masters!AV39 -> 0
A43: 37 | B43: =Professionals!C39 -> 0 | C43: =Professionals!AV39 -> 0 | G43: 37 | H43: =Amateurs!C40 -> 0 | I43: =Amateurs!AV40 -> 0 | M43: 37 | N43: =Masters!C40 -> 0 | O43: =Masters!AV40 -> 0
A44: 38 | B44: =Professionals!C40 -> 0 | C44: =Professionals!AV40 -> 0 | G44: 38 | H44: =Amateurs!C41 -> 0 | I44: =Amateurs!AV41 -> 0 | M44: 38 | N44: =Masters!C41 -> 0 | O44: =Masters!AV41 -> 0
A45: 39 | B45: =Professionals!C41 -> 0 | C45: =Professionals!AV41 -> 0 | G45: 39 | H45: =Amateurs!C42 -> 0 | I45: =Amateurs!AV42 -> 0 | M45: 39 | N45: =Masters!C42 -> 0 | O45: =Masters!AV42 -> 0
A46: 40 | B46: =Professionals!C42 -> 0 | C46: =Professionals!AV42 -> 0 | G46: 40 | H46: =Amateurs!C43 -> 0 | I46: =Amateurs!AV43 -> 0 | M46: 40 | N46: =Masters!C43 -> 0 | O46: =Masters!AV43 -> 0
A47: 41 | B47: =Professionals!C43 -> 0 | C47: =Professionals!AV43 -> 0 | G47: 41 | H47: =Amateurs!C44 -> 0 | I47: =Amateurs!AV44 -> 0 | M47: 41 | N47: =Masters!C44 -> 0 | O47: =Masters!AV44 -> 0
A48: 42 | B48: =Professionals!C44 -> 0 | C48: =Professionals!AV44 -> 0 | G48: 42 | H48: =Amateurs!C45 -> 0 | I48: =Amateurs!AV45 -> 0 | M48: 42 | N48: =Masters!C45 -> 0 | O48: =Masters!AV45 -> 0
A49: 43 | B49: =Professionals!C45 -> 0 | C49: =Professionals!AV45 -> 0 | G49: 43 | H49: =Amateurs!C46 -> 0 | I49: =Amateurs!AV46 -> 0 | M49: 43 | N49: =Masters!C46 -> 0 | O49: =Masters!AV46 -> 0
... A56: 50 | B56: =Professionals!C52 -> 0 | C56: =Professionals!AV52 -> 0 | G56: 50 | H56: =Amateurs!C53 -> 0 | I56: =Amateurs!AV53 -> 0 | M56: 50 | N56: =Masters!C53 -> 0 | O56: =Masters!AV53 -> 0

Sheet Drivers List
B1: Drivers List | C1: Category
A2: 1 | B2: Alessandro Salomoni | C2: Amateur
A3: 2 | B3: Andre Khoury | C3: Amateur
A4: 3 | B4: Anthony Shanouk | C4: Amateur
A5: 4 | B5: Antonio Juric | C5: Amateur
A6: 5 | B6: Benjamin Allison | C6: Amateur
A7: 6 | B7: Carlo Fanini | C7: Amateur
A8: 7 | B8: Chandrashekar Chanagonda | C8: Amateur
A9: 8 | B9: Emad El Mattar | C9: Amateur
A10: 9 | B10: Ennio Antonio Desini | C10: Amateur
A11: 10 | B11: Guillaume Haidan | C11: Amateur
A12: 11 | B12: Hussain Alkhayat | C12: Amateur
A13: 12 | B13: Ilyas Shaikh | C13: Amateur
... A69: 19 | B69: Sunny Mohd Hafiz | C69: Professional

Sheet Position Vs Points
A1: The Emirates Group Karting Club 2019-2020 Championship Points Table
C3: Position | D3: Points
C4: 1st | D4: 75
C5: 2nd | D5: 67 | F5: * Bonus points - 3 points for the fastest lap in Qualifiers (if a tie then second fastest lap counts and so on)
C6: 3rd | D6: 60
C7: 4th | D7: 54 | F7: * Bonus points - 3 points for the fastest lap in each Race (if a tie then second fastest lap counts and so on)
C8: 5th | D8: 49
C9: 6th | D9: 45 | F9: * If the fastest driver in a race is handed a penalty, the bonus points for the fastest lap will be awarded to the second-fastest driver in that race.
C10: 7th | D10: 42
C11: 8th | D11: 39
C12: 9th | D12: 36
C13: 10th | D13: 33
C14: 11th | D14: 30
C15: 12th | D15: 28
C16: 13th | D16: 26
C17: 14th | D17: 24
C18: 15th | D18: 22
C19: 16th | D19: 20
C20: 17th | D20: 18
C21: 18th | D21: 16
... C33: 30th | D33: 1

Sheet Violations Count
A2: Amatuers | F2: Masters | K2: Professionals
A4: Driver | B4: Violation Description | C4: Type | D4: Session | F4: Driver | G4: Violation Description | H4: Type | I4: Session | K4: Driver | L4: Violation Description | M4: Type | N4: Session
A5: Jack Demirjian | B5: Advantage by Contact | C5: 10s | D5: R3 | F5: Alex Scerri | G5: Advantage by Contact | H5: 10s | I5: R10 | K5: Darshane Dayaratne | L5: Advantage by Contact | M5: 5s | N5: 15
A6: Sonny Dorion | B6: Advantage by Contact | C6: 10s | D6: R4 | F6: Husain Raj | G6: Advantage by Contact | H6: 10s | I6: R10 | K6: Darshane Dayaratne | L6: Dangerous driving | M6: 10s | N6: 16
A7: Anthony Shanouk | B7: Advantage by Contact | C7: 10s | D7: R12 | K7: Luca Demirovski | L7: Advantage by Contact | M7: 5s | N7: 16
A8: Mahmood Jaafar | B8: Advantage by Contact | C8: 10s | D8: R11
A9: Anthony Shanouk | B9: Advantage by Contact | C9: 5s | D9: 16

Sheet ROUND 1
A1: The Emirates Group Karting Club | Round 1 | 11 Oct 19
A2: Amateurs
A3: Qualifying Session | G3: Race 1 | N3: Race 2
A4: Pos | B4: Driver | C4: Fastest Lap | D4: Violation | E4: Bonus points | G4: Pos | H4: Driver | I4: Points | J4: Fastest Lap | K4: Violation | L4: Bonus points | N4: Pos | O4: Driver | P4: Points | Q4: Fastest Lap | R4: Violation | S4: Bonus points
A5: 1 | B5: Jan Bobert | C5: 0.00083322917 | E5: 3 | G5: 1 | H5: Andre Khoury | I5: 75 | J5: 1:12.387 | L5: 3 | N5: 1 | O5: Anthony Shanouk | P5: 75 | Q5: 1:12.706
A6: 2 | B6: Anthony Shanouk | C6: 0.00083414352 | G6: 2 | H6: Manu Mathew | I6: 67 | J6: 1:12.680 | N6: 2 | O6: Andre Khoury | P6: 67 | Q6: 1:12.219 | S6: 3
A7: 3 | B7: Mahmood Jaafar | C7: 0.00083591435 | G7: 3 | H7: Sevag Balmanian | I7: 60 | J7: 1:12.842 | N7: 3 | O7: Jan Bobert | P7: 60 | Q7: 1:12.315
A8: 4 | B8: Yahidj Chady | C8: 0.00084628472 | G8: 4 | H8: Jan Bobert | I8: 54 | J8: 1:12.666 | N8: 4 | O8: Matija Babic | P8: 54 | Q8: 1:13.229
A9: 5 | B9: Manu Mathew | C9: 0.00085018519 | G9: 5 | H9: Mahmood Jaafar | I9: 49 | J9: 1:13.006 | N9: 5 | O9: Alessandro Salomoni | P9: 49 | Q9: 1:13.727
A10: 6 | B10: Sevag Balmanian | C10: 0.00085100694 | G10: 6 | H10: Alessandro Salomoni | I10: 45 | J10: 1:13.137 | N10: 6 | O10: Haidan Guillaume | P10: 45 | Q10: 1:12.657
A11: 7 | B11: Andre Khoury | C11: 0.00085189815 | G11: 7 | H11: Anthony Shanouk | I11: 42 | J11: 1:13.255 | N11: 7 | O11: Sonny Dorion | P11: 42 | Q11: 1:12.816
A12: 8 | B12: Sonny Dorion | C12: 0.00085628472 | G12: 8 | H12: Yahidj Chady | I12: 39 | J12: 1:14.006 | N12: 8 | O12: Sevag Balmanian | P12: 39 | Q12: 1:14.081
A13: 9 | B13: Alessandro Salomoni | C13: 0.0008566088 | G13: 9 | H13: Haidan Guillaume | I13: 36 | J13: 1:13.021 | N13: 9 | O13: Saif Mustafa | P13: 36 | Q13: 1:14.048
A14: 10 | B14: Saif Mustafa | C14: 0.00085744213 | G14: 10 | H14: Sonny Dorion | I14: 33 | J14: 1:14.006 | N14: 10 | O14: Mahmood Jaafar | P14: 33 | Q14: 1:13.397
A15: 11 | B15: Matija Babic | C15: 0.00085793981 | G15: 11 | H15: Jack Demirjian | I15: 30 | J15: 1:14.200 | N15: 11 | O15: Manu Mathew | P15: 30 | Q15: 1:13.945
A16: 12 | B16: Jack Demirjian | C16: 0.00085824074 | G16: 12 | H16: Patricio Rosello | I16: 28 | J16: 1:13.552 | N16: 12 | O16: Jack Demirjian | P16: 28 | Q16: 1:13.974
A17: 13 | B17: Haidan Guillaume | C17: 0.00086835648 | G17: 13 | H17: Matija Babic | I17: 26 | J17: 1:14.383 | N17: 13 | O17: Patricio Rosello | P17: 26 | Q17: 1:15.889
A18: 14 | B18: Patricio Rosello | C18: 0.00087902778 | G18: 14 | H18: Paul Holland | I18: 24 | J18: 1:18.363 | N18: 14 | O18: Paul Hollnd | P18: 24 | Q18: 1:18.370
A19: 15 | B19: Paul Holland | C19: 0.00091699074 | G19: 15 | H19: Saif Mustafa | I19: 22 | J19: 1:14.977 | N19: 15 | O19: Yahidj Chady | P19: 22 | Q19: -
A20: 16 | G20: 16 | I20: 20 | N20: 16 | P20: 20
A21: 17 | G21: 17 | I21: 18 | N21: 17 | P21: 18
A22: 18 | G22: 18 | I22: 16 | N22: 18 | P22: 16
A23: 19 | G23: 19 | I23: 14 | N23: 19 | P23: 14
A24: 20 | G24: 20 | I24: 12 | N24: 20 | P24: 12
A25: 21 | G25: 21 | I25: 10 | N25: 21 | P25: 10
A26: 22 | G26: 22 | I26: 9 | N26: 22 | P26: 9
A27: 23 | G27: 23 | I27: 8 | N27: 23 | P27: 8
A28: 24 | G28: 24 | I28: 7 | N28: 24 | P28: 7
A29: 25 | G29: 25 | I29: 6 | N29: 25 | P29: 6
A30: 26 | G30: 26 | I30: 5 | N30: 26 | P30: 5
A31: 27 | G31: 27 | I31: 4 | N31: 27 | P31: 4
... A34: 30 | G34: 30 | I34: 1 | N34: 30 | P34: 1
A35: 3 bonus points for fastest lap | G35: 3 bonus points for fastest lap | N35: 3 bonus points for fastest lap
A37: Masters
A38: Qualifying Session | G38: Race 1 | N38: Race 2
A39: Pos | B39: Driver | C39: Fastest Lap | D39: Violation | E39: Bonus points | G39: Pos | H39: Driver | I39: Points | J39: Fastest Lap | K39: Violation | L39: Bonus points | N39: Pos | O39: Driver | P39: Points | Q39: Fastest Lap | R39: Violation | S39: Bonus points
A40: 1 | B40: Fabio Davoli | C40: 0.00084137731 | E40: 3 | G40: 1 | H40: Husain Raj | I40: 75 | J40: 1:13.251 | L40: 3 | N40: 1 | O40: Peter Francis | P40: 75 | Q40: 1:12.889 | S40: 3
A41: 2 | B41: Redza Jamil | C41: 0.00084690972 | G41: 2 | H41: Redza Jamil | I41: 67 | J41: 1:14.765 | N41: 2 | O41: Husain Raj | P41: 67 | Q41: 1:13.124
A42: 3 | B42: Husain Raj | C42: 0.00084998843 | G42: 3 | H42: Peter Francis | I42: 60 | J42: 1:14.686 | N42: 3 | O42: Redza Jamil | P42: 60 | Q42: 1:13.662
A43: 4 | B43: Peter Francis | C43: 0.00085849537 | G43: 4 | H43: Prabath Fernando | I43: 54 | J43: 1:14.712 | N43: 4 | O43: Fabio Davoli | P43: 54 | Q43: 1:13.956
A44: 5 | B44: Prabath Fernando | C44: 0.00087347222 | G44: 5 | H44: Julian Marin | I44: 49 | J44: 1.15.243 | N44: 5 | O44: Paul Davies | P44: 49 | Q44: 1:14.807
A45: 6 | B45: Paul Davies | C45: 0.0008780787 | G45: 6 | H45: Paul Davies | I45: 45 | J45: 1:16.134 | N45: 6 | O45: Julian Marin | P45: 45 | Q45: 1:14.297
A46: 7 | B46: Julian Marin | C46: 0.00089710648 | G46: 7 | H46: Fabio Davoli | I46: 42 | J46: 1:16.404 | N46: 7 | O46: Prabath Fernando | P46: 42 | Q46: 1:15.834
A47: 8 | G47: 8 | I47: 39 | N47: 8 | P47: 39
A48: 9 | G48: 9 | I48: 36 | N48: 9 | P48: 36
A49: 10 | G49: 10 | I49: 33 | N49: 10 | P49: 33
A50: 11 | G50: 11 | I50: 30 | N50: 11 | P50: 30
A51: 12 | G51: 12 | I51: 28 | N51: 12 | P51: 28
A52: 13 | G52: 13 | I52: 26 | N52: 13 | P52: 26
A53: 14 | G53: 14 | I53: 24 | N53: 14 | P53: 24
A54: 15 | G54: 15 | I54: 22 | N54: 15 | P54: 22
A55: 16 | G55: 16 | I55: 20 | N55: 16 | P55: 20
A56: 17 | G56: 17 | I56: 18 | N56: 17 | P56: 18
A57: 18 | G57: 18 | I57: 16 | N57: 18 | P57: 16
A58: 19 | G58: 19 | I58: 14 | N58: 19 | P58: 14
... A69: 30 | G69: 30 | I69: 1 | N69: 30 | P69: 1
A70: 3 bonus points for fastest lap | G70: 3 bonus points for fastest lap | N70: 3 bonus points for fastest lap
A72: Professionals
A73: Qualifying Session | G73: Race 1 | N73: Race 2
A74: Pos | B74: Driver | C74: Fastest Lap | D74: Violation | E74: Bonus points | G74: Pos | H74: Driver | I74: Points | J74: Fastest Lap | K74: Violation | L74: Bonus points | N74: Pos | O74: Driver | P74: Points | Q74: Fastest Lap | R74: Violation | S74: Bonus points
A75: 1 | B75: Jiby Kuriakose | E75: 3 | G75: 1 | H75: Jiby Kuriakose | I75: 75 | J75: 1:12.267 | L75: 3 | N75: 1 | O75: Hesham Elwahsh | P75: 75 | Q75: 1:11.954 | S75: 3
A76: 2 | G76: 2 | H76: Allen Khoury | I76: 67 | J76: 1:12.458 | N76: 2 | O76: Dharshane Dayaratne | P76: 67 | Q76: 1:12.692
A77: 3 | G77: 3 | H77: Gustavo Ramirez | I77: 60 | J77: 1:12.517 | N77: 3 | O77: Allen Khoury | P77: 60 | Q77: 1:12.126
A78: 4 | G78: 4 | H78: Mohd Zubair | I78: 54 | J78: 1:12.280 | N78: 4 | O78: Ashar Tareen | P78: 54 | Q78: 1:12.285
A79: 5 | G79: 5 | H79: Dharshane Dayaratne | I79: 49 | J79: 1:12.382 | N79: 5 | O79: Sai Nair | P79: 49 | Q79: 1:13.024
A80: 6 | G80: 6 | H80: Nabil Jamil | I80: 45 | J80: 1:13.134 | N80: 6 | O80: Rabih Santina | P80: 45 | Q80: 1.12.652
A81: 7 | G81: 7 | H81: Hesham Elwahsh | I81: 42 | J81: 1:12.596 | N81: 7 | O81: Nabil Jamil | P81: 42 | Q81: 1.13.218
A82: 8 | G82: 8 | H82: Rabih Santina | I82: 39 | J82: 1:13.580 | N82: 8 | O82: Aron Demirovski | P82: 39 | Q82: 1.13.762
A83: 9 | G83: 9 | H83: Ashar Tareen | I83: 36 | J83: 1:13.286 | N83: 9 | O83: Gustavo Ramirez | P83: 36 | Q83: 1.12.841
A84: 10 | G84: 10 | H84: Aron Demirovski | I84: 33 | J84: 1:12.719 | N84: 10 | O84: Jiby Kuriakose | P84: 33 | Q84: 1:13.382
A85: 11 | G85: 11 | H85: Sai Nair | I85: 30 | J85: 1.12.697 | N85: 11 | O85: Mohd Zubair | P85: 30 | Q85: 1:12.835
A86: 12 | G86: 12 | I86: 28 | N86: 12 | P86: 28
A87: 13 | G87: 13 | I87: 26 | N87: 13 | P87: 26
A88: 14 | G88: 14 | I88: 24 | N88: 14 | P88: 24
A89: 15 | G89: 15 | I89: 22 | N89: 15 | P89: 22
A90: 16 | G90: 16 | I90: 20 | N90: 16 | P90: 20
